BEGIN:VCALENDAR
VERSION:2.0
PRODID:-//NightClub.TO - ECPv6.8.2.1//NONSGML v1.0//EN
CALSCALE:GREGORIAN
METHOD:PUBLISH
X-ORIGINAL-URL:https://nightclub.to
X-WR-CALDESC:Events for NightClub.TO
REFRESH-INTERVAL;VALUE=DURATION:PT1H
X-Robots-Tag:noindex
X-PUBLISHED-TTL:PT1H
BEGIN:VTIMEZONE
TZID:America/Toronto
BEGIN:DAYLIGHT
TZOFFSETFROM:-0500
TZOFFSETTO:-0400
TZNAME:EDT
DTSTART:20260308T070000
END:DAYLIGHT
BEGIN:STANDARD
TZOFFSETFROM:-0400
TZOFFSETTO:-0500
TZNAME:EST
DTSTART:20261101T060000
END:STANDARD
END:VTIMEZONE
BEGIN:VEVENT
DTSTART;TZID=America/Toronto:20260424T220000
DTEND;TZID=America/Toronto:20260424T220000
DTSTAMP:20260420T044411
CREATED:20260226T180917Z
LAST-MODIFIED:20260418T181820Z
UID:10001558-1777068000-1777068000@nightclub.to
SUMMARY:Nic Vans
DESCRIPTION:
URL:https://nightclub.to/event/nic-vans/
LOCATION:Celebrities\, Vancouver
CATEGORIES:Pop
END:VEVENT
BEGIN:VEVENT
DTSTART;TZID=America/Toronto:20260523T220000
DTEND;TZID=America/Toronto:20260523T220000
DTSTAMP:20260420T044411
CREATED:20260218T121248Z
LAST-MODIFIED:20260418T181819Z
UID:10001535-1779573600-1779573600@nightclub.to
SUMMARY:Jayda G
DESCRIPTION:
URL:https://nightclub.to/event/jayda-g-2/
LOCATION:Celebrities\, Vancouver
CATEGORIES:Pop
END:VEVENT
BEGIN:VEVENT
DTSTART;TZID=America/Toronto:20260530T220000
DTEND;TZID=America/Toronto:20260530T220000
DTSTAMP:20260420T044411
CREATED:20251108T114746Z
LAST-MODIFIED:20251230T052216Z
UID:10001306-1780178400-1780178400@nightclub.to
SUMMARY:Playhouse Pres: Jeremy Olander
DESCRIPTION:
URL:https://nightclub.to/event/playhouse-pres-jeremy-olander/
LOCATION:Celebrities\, Vancouver
CATEGORIES:Dance/Electronic
END:VEVENT
BEGIN:VEVENT
DTSTART;TZID=America/Toronto:20260802T140000
DTEND;TZID=America/Toronto:20260802T140000
DTSTAMP:20260420T044411
CREATED:20260305T030257Z
LAST-MODIFIED:20260418T181816Z
UID:10001570-1785679200-1785679200@nightclub.to
SUMMARY:Cum Together Pres. History Sunday
DESCRIPTION:
URL:https://nightclub.to/event/cum-together-pres-history-sunday/
LOCATION:Celebrities\, Vancouver
CATEGORIES:Community/Civic
END:VEVENT
END:VCALENDAR