BEGIN:VCALENDAR
VERSION:2.0
PRODID:-//NightClub.TO - ECPv6.8.2.1//NONSGML v1.0//EN
CALSCALE:GREGORIAN
METHOD:PUBLISH
X-WR-CALNAME:NightClub.TO
X-ORIGINAL-URL:https://nightclub.to
X-WR-CALDESC:Events for NightClub.TO
REFRESH-INTERVAL;VALUE=DURATION:PT1H
X-Robots-Tag:noindex
X-PUBLISHED-TTL:PT1H
BEGIN:VTIMEZONE
TZID:America/Toronto
BEGIN:DAYLIGHT
TZOFFSETFROM:-0500
TZOFFSETTO:-0400
TZNAME:EDT
DTSTART:20240310T070000
END:DAYLIGHT
BEGIN:STANDARD
TZOFFSETFROM:-0400
TZOFFSETTO:-0500
TZNAME:EST
DTSTART:20241103T060000
END:STANDARD
BEGIN:DAYLIGHT
TZOFFSETFROM:-0500
TZOFFSETTO:-0400
TZNAME:EDT
DTSTART:20250309T070000
END:DAYLIGHT
BEGIN:STANDARD
TZOFFSETFROM:-0400
TZOFFSETTO:-0500
TZNAME:EST
DTSTART:20251102T060000
END:STANDARD
END:VTIMEZONE
BEGIN:VEVENT
DTSTART;TZID=America/Toronto:20250608T130000
DTEND;TZID=America/Toronto:20250608T130000
DTSTAMP:20260419T135328
CREATED:20250607T000847Z
LAST-MODIFIED:20250609T040013Z
UID:10000813-1749387600-1749387600@nightclub.to
SUMMARY:JAMES HYPE
DESCRIPTION:
URL:https://nightclub.to/event/james-hype-2/
LOCATION:Cabana Pool Bar\, Toronto
CATEGORIES:Dance/Electronic
ATTACH;FMTTYPE=image/jpeg:https://nightclub.to/wp-content/uploads/2025/06/james-hype-2.jpg
END:VEVENT
BEGIN:VEVENT
DTSTART;TZID=America/Toronto:20250608T130000
DTEND;TZID=America/Toronto:20250608T130000
DTSTAMP:20260419T135328
CREATED:20250607T000709Z
LAST-MODIFIED:20250608T170240Z
UID:10000815-1749387600-1749387600@nightclub.to
SUMMARY:James Hype
DESCRIPTION:
URL:https://nightclub.to/event/james-hype/
LOCATION:Cabana Pool Bar\, Toronto
CATEGORIES:Other
END:VEVENT
BEGIN:VEVENT
DTSTART;TZID=America/Toronto:20250601T130000
DTEND;TZID=America/Toronto:20250601T130000
DTSTAMP:20260419T135328
CREATED:20250531T000148Z
LAST-MODIFIED:20250602T035849Z
UID:10000791-1748782800-1748782800@nightclub.to
SUMMARY:Official Grand Opening
DESCRIPTION:
URL:https://nightclub.to/event/official-grand-opening/
LOCATION:Cabana Pool Bar\, Toronto
CATEGORIES:Dance/Electronic
END:VEVENT
BEGIN:VEVENT
DTSTART;TZID=America/Toronto:20240901T130000
DTEND;TZID=America/Toronto:20240901T130000
DTSTAMP:20260419T135328
CREATED:20240825T075751Z
LAST-MODIFIED:20240902T001349Z
UID:10000081-1725195600-1725195600@nightclub.to
SUMMARY:CLAPTONE
DESCRIPTION:
URL:https://nightclub.to/event/claptone/
LOCATION:Cabana Pool Bar\, Toronto
CATEGORIES:Dance/Electronic
ATTACH;FMTTYPE=image/jpeg:https://nightclub.to/wp-content/uploads/2024/08/claptone.jpg
END:VEVENT
BEGIN:VEVENT
DTSTART;TZID=America/Toronto:20240825T130000
DTEND;TZID=America/Toronto:20240825T130000
DTSTAMP:20260419T135328
CREATED:20240819T232712Z
LAST-MODIFIED:20240825T194404Z
UID:10000072-1724590800-1724590800@nightclub.to
SUMMARY:Duke Dumont
DESCRIPTION:
URL:https://nightclub.to/event/duke-dumont/
LOCATION:Cabana Pool Bar\, Toronto
CATEGORIES:Dance/Electronic
ATTACH;FMTTYPE=image/jpeg:https://nightclub.to/wp-content/uploads/2024/08/duke-dumont.jpg
END:VEVENT
BEGIN:VEVENT
DTSTART;TZID=America/Toronto:20240818T220000
DTEND;TZID=America/Toronto:20240819T040000
DTSTAMP:20260419T135328
CREATED:20240815T153834Z
LAST-MODIFIED:20240815T153834Z
UID:10000060-1724018400-1724040000@nightclub.to
SUMMARY:TEST1 event
DESCRIPTION:TEST1 event
URL:https://nightclub.to/event/test1-event/
LOCATION:Cabana Pool Bar\, Toronto
ATTACH;FMTTYPE=image/png:https://nightclub.to/wp-content/uploads/2024/07/people-doing-party-night-club.png
END:VEVENT
BEGIN:VEVENT
DTSTART;TZID=America/Toronto:20240817T130000
DTEND;TZID=America/Toronto:20240817T130000
DTSTAMP:20260419T135328
CREATED:20240814T085327Z
LAST-MODIFIED:20240817T235826Z
UID:10000059-1723899600-1723899600@nightclub.to
SUMMARY:TYGA
DESCRIPTION:
URL:https://nightclub.to/event/tyga-3/
LOCATION:Cabana Pool Bar\, Toronto
CATEGORIES:R&B
ATTACH;FMTTYPE=image/jpeg:https://nightclub.to/wp-content/uploads/2024/08/tyga.jpg
END:VEVENT
END:VCALENDAR