BEGIN:VCALENDAR
VERSION:2.0
PRODID:-//NightClub.TO - ECPv6.8.2.1//NONSGML v1.0//EN
CALSCALE:GREGORIAN
METHOD:PUBLISH
X-WR-CALNAME:NightClub.TO
X-ORIGINAL-URL:https://nightclub.to
X-WR-CALDESC:Events for NightClub.TO
REFRESH-INTERVAL;VALUE=DURATION:PT1H
X-Robots-Tag:noindex
X-PUBLISHED-TTL:PT1H
BEGIN:VTIMEZONE
TZID:America/Toronto
BEGIN:DAYLIGHT
TZOFFSETFROM:-0500
TZOFFSETTO:-0400
TZNAME:EDT
DTSTART:20250309T070000
END:DAYLIGHT
BEGIN:STANDARD
TZOFFSETFROM:-0400
TZOFFSETTO:-0500
TZNAME:EST
DTSTART:20251102T060000
END:STANDARD
END:VTIMEZONE
BEGIN:VEVENT
DTSTART;TZID=America/Toronto:20251003T220000
DTEND;TZID=America/Toronto:20251003T220000
DTSTAMP:20260419T092148
CREATED:20250926T050342Z
LAST-MODIFIED:20251004T075439Z
UID:10001131-1759528800-1759528800@nightclub.to
SUMMARY:Masti Fest
DESCRIPTION:
URL:https://nightclub.to/event/masti-fest/
LOCATION:Cabana Pool Bar\, Toronto
CATEGORIES:Latin
END:VEVENT
BEGIN:VEVENT
DTSTART;TZID=America/Toronto:20250921T130000
DTEND;TZID=America/Toronto:20250921T130000
DTSTAMP:20260419T092148
CREATED:20250920T000641Z
LAST-MODIFIED:20250922T040234Z
UID:10001104-1758459600-1758459600@nightclub.to
SUMMARY:I Love Reggaeton
DESCRIPTION:
URL:https://nightclub.to/event/i-love-reggaeton/
LOCATION:Cabana Pool Bar\, Toronto
CATEGORIES:World
END:VEVENT
BEGIN:VEVENT
DTSTART;TZID=America/Toronto:20250831T130000
DTEND;TZID=America/Toronto:20250831T130000
DTSTAMP:20260419T092148
CREATED:20250830T000346Z
LAST-MODIFIED:20250831T165811Z
UID:10001031-1756645200-1756645200@nightclub.to
SUMMARY:Sofi Tukker
DESCRIPTION:
URL:https://nightclub.to/event/sofi-tukker-2/
LOCATION:Cabana Pool Bar\, Toronto
CATEGORIES:Other
ATTACH;FMTTYPE=image/jpeg:https://nightclub.to/wp-content/uploads/2025/08/sofi-tukker.jpg
END:VEVENT
BEGIN:VEVENT
DTSTART;TZID=America/Toronto:20250831T130000
DTEND;TZID=America/Toronto:20250831T130000
DTSTAMP:20260419T092148
CREATED:20250807T043243Z
LAST-MODIFIED:20250901T035713Z
UID:10000986-1756645200-1756645200@nightclub.to
SUMMARY:SOFI TUKKER
DESCRIPTION:
URL:https://nightclub.to/event/sofi-tukker/
LOCATION:Cabana Pool Bar\, Toronto
CATEGORIES:Dance/Electronic
ATTACH;FMTTYPE=image/jpeg:https://nightclub.to/wp-content/uploads/2025/08/sofi-tukker.jpg
END:VEVENT
BEGIN:VEVENT
DTSTART;TZID=America/Toronto:20250830T140000
DTEND;TZID=America/Toronto:20250830T140000
DTSTAMP:20260419T092148
CREATED:20250825T050443Z
LAST-MODIFIED:20250831T040105Z
UID:10001023-1756562400-1756562400@nightclub.to
SUMMARY:Vices Swim Week
DESCRIPTION:
URL:https://nightclub.to/event/vices-swim-week/
LOCATION:Cabana Pool Bar\, Toronto
CATEGORIES:Dance/Electronic
END:VEVENT
BEGIN:VEVENT
DTSTART;TZID=America/Toronto:20250829T170000
DTEND;TZID=America/Toronto:20250829T170000
DTSTAMP:20260419T092148
CREATED:20250824T050847Z
LAST-MODIFIED:20250830T035801Z
UID:10001018-1756486800-1756486800@nightclub.to
SUMMARY:88soaked - Asian Night
DESCRIPTION:
URL:https://nightclub.to/event/88soaked-asian-night/
LOCATION:Cabana Pool Bar\, Toronto
CATEGORIES:Dance/Electronic
END:VEVENT
BEGIN:VEVENT
DTSTART;TZID=America/Toronto:20250824T130000
DTEND;TZID=America/Toronto:20250824T130000
DTSTAMP:20260419T092148
CREATED:20250807T043241Z
LAST-MODIFIED:20250825T035539Z
UID:10000987-1756040400-1756040400@nightclub.to
SUMMARY:KREAM
DESCRIPTION:
URL:https://nightclub.to/event/kream-2/
LOCATION:Cabana Pool Bar\, Toronto
CATEGORIES:Dance/Electronic
ATTACH;FMTTYPE=image/jpeg:https://nightclub.to/wp-content/uploads/2025/08/kream-2.jpg
END:VEVENT
BEGIN:VEVENT
DTSTART;TZID=America/Toronto:20250823T140000
DTEND;TZID=America/Toronto:20250823T140000
DTSTAMP:20260419T092148
CREATED:20250821T050443Z
LAST-MODIFIED:20250824T035639Z
UID:10001011-1755957600-1755957600@nightclub.to
SUMMARY:Verano Prendido At Cabana Toronto
DESCRIPTION:
URL:https://nightclub.to/event/verano-prendido-at-cabana-toronto/
LOCATION:Cabana Pool Bar\, Toronto
CATEGORIES:Dance/Electronic
END:VEVENT
BEGIN:VEVENT
DTSTART;TZID=America/Toronto:20250817T130000
DTEND;TZID=America/Toronto:20250817T130000
DTSTAMP:20260419T092148
CREATED:20250811T040643Z
LAST-MODIFIED:20250817T165818Z
UID:10000996-1755435600-1755435600@nightclub.to
SUMMARY:KSHMR
DESCRIPTION:
URL:https://nightclub.to/event/kshmr-3/
LOCATION:Cabana Pool Bar\, Toronto
CATEGORIES:Dance/Electronic
ATTACH;FMTTYPE=image/jpeg:https://nightclub.to/wp-content/uploads/2025/04/kshmr.jpg
END:VEVENT
BEGIN:VEVENT
DTSTART;TZID=America/Toronto:20250817T130000
DTEND;TZID=America/Toronto:20250817T130000
DTSTAMP:20260419T092148
CREATED:20250713T232644Z
LAST-MODIFIED:20250818T035322Z
UID:10000924-1755435600-1755435600@nightclub.to
SUMMARY:KSHMR
DESCRIPTION:
URL:https://nightclub.to/event/kshmr-2/
LOCATION:Cabana Pool Bar\, Toronto
CATEGORIES:Dance/Electronic
ATTACH;FMTTYPE=image/jpeg:https://nightclub.to/wp-content/uploads/2025/04/kshmr.jpg
END:VEVENT
BEGIN:VEVENT
DTSTART;TZID=America/Toronto:20250816T130000
DTEND;TZID=America/Toronto:20250816T130000
DTSTAMP:20260419T092148
CREATED:20250811T210936Z
LAST-MODIFIED:20250817T035908Z
UID:10000997-1755349200-1755349200@nightclub.to
SUMMARY:Unreal Pool Party
DESCRIPTION:
URL:https://nightclub.to/event/unreal-pool-party/
LOCATION:Cabana Pool Bar\, Toronto
CATEGORIES:Hip-Hop/Rap
END:VEVENT
BEGIN:VEVENT
DTSTART;TZID=America/Toronto:20250810T130000
DTEND;TZID=America/Toronto:20250810T130000
DTSTAMP:20260419T092148
CREATED:20250809T000546Z
LAST-MODIFIED:20250810T170221Z
UID:10000984-1754830800-1754830800@nightclub.to
SUMMARY:MK
DESCRIPTION:
URL:https://nightclub.to/event/mk-2/
LOCATION:Cabana Pool Bar\, Toronto
CATEGORIES:Other
END:VEVENT
BEGIN:VEVENT
DTSTART;TZID=America/Toronto:20250810T130000
DTEND;TZID=America/Toronto:20250810T130000
DTSTAMP:20260419T092148
CREATED:20250701T211804Z
LAST-MODIFIED:20250811T035947Z
UID:10000898-1754830800-1754830800@nightclub.to
SUMMARY:MK
DESCRIPTION:
URL:https://nightclub.to/event/mk/
LOCATION:Cabana Pool Bar\, Toronto
CATEGORIES:Dance/Electronic
ATTACH;FMTTYPE=image/jpeg:https://nightclub.to/wp-content/uploads/2025/07/mk.jpg
END:VEVENT
BEGIN:VEVENT
DTSTART;TZID=America/Toronto:20250809T130000
DTEND;TZID=America/Toronto:20250809T130000
DTSTAMP:20260419T092148
CREATED:20250807T140906Z
LAST-MODIFIED:20250810T040008Z
UID:10000982-1754744400-1754744400@nightclub.to
SUMMARY:Champagne Spray Party
DESCRIPTION:
URL:https://nightclub.to/event/champagne-spray-party/
LOCATION:Cabana Pool Bar\, Toronto
CATEGORIES:Dance/Electronic
END:VEVENT
BEGIN:VEVENT
DTSTART;TZID=America/Toronto:20250803T130000
DTEND;TZID=America/Toronto:20250803T130000
DTSTAMP:20260419T092148
CREATED:20250713T232646Z
LAST-MODIFIED:20250804T035851Z
UID:10000925-1754226000-1754226000@nightclub.to
SUMMARY:MAJOR LEAGUE DJZ
DESCRIPTION:
URL:https://nightclub.to/event/major-league-djz/
LOCATION:Cabana Pool Bar\, Toronto
CATEGORIES:Dance/Electronic
END:VEVENT
BEGIN:VEVENT
DTSTART;TZID=America/Toronto:20250802T130000
DTEND;TZID=America/Toronto:20250802T130000
DTSTAMP:20260419T092148
CREATED:20250730T060910Z
LAST-MODIFIED:20250803T035537Z
UID:10000958-1754139600-1754139600@nightclub.to
SUMMARY:Kehlani Hosts Cabana Toronto
DESCRIPTION:
URL:https://nightclub.to/event/kehlani-hosts-cabana-toronto/
LOCATION:Cabana Pool Bar\, Toronto
CATEGORIES:R&B
ATTACH;FMTTYPE=image/jpeg:https://nightclub.to/wp-content/uploads/2025/07/kehlani-hosts-cabana-toronto.jpg
END:VEVENT
BEGIN:VEVENT
DTSTART;TZID=America/Toronto:20250727T130000
DTEND;TZID=America/Toronto:20250727T130000
DTSTAMP:20260419T092148
CREATED:20250726T000157Z
LAST-MODIFIED:20250728T035649Z
UID:10000946-1753621200-1753621200@nightclub.to
SUMMARY:ARMNHMR
DESCRIPTION:
URL:https://nightclub.to/event/armnhmr-2/
LOCATION:Cabana Pool Bar\, Toronto
CATEGORIES:Dance/Electronic
ATTACH;FMTTYPE=image/jpeg:https://nightclub.to/wp-content/uploads/2024/12/contact-afterparty-with-armnhmr.jpg
END:VEVENT
BEGIN:VEVENT
DTSTART;TZID=America/Toronto:20250726T130000
DTEND;TZID=America/Toronto:20250726T130000
DTSTAMP:20260419T092148
CREATED:20250720T170546Z
LAST-MODIFIED:20250727T035453Z
UID:10000939-1753534800-1753534800@nightclub.to
SUMMARY:A BOOGIE WIT DA HOODIE
DESCRIPTION:
URL:https://nightclub.to/event/a-boogie-wit-da-hoodie/
LOCATION:Cabana Pool Bar\, Toronto
CATEGORIES:Hip-Hop/Rap
ATTACH;FMTTYPE=image/jpeg:https://nightclub.to/wp-content/uploads/2025/07/a-boogie-wit-da-hoodie-scaled.jpg
END:VEVENT
BEGIN:VEVENT
DTSTART;TZID=America/Toronto:20250720T130000
DTEND;TZID=America/Toronto:20250720T130000
DTSTAMP:20260419T092148
CREATED:20250719T000535Z
LAST-MODIFIED:20250720T165801Z
UID:10000931-1753016400-1753016400@nightclub.to
SUMMARY:Don Diablo
DESCRIPTION:
URL:https://nightclub.to/event/don-diablo-2/
LOCATION:Cabana Pool Bar\, Toronto
CATEGORIES:Other
ATTACH;FMTTYPE=image/jpeg:https://nightclub.to/wp-content/uploads/2025/07/don-diablo.jpg
END:VEVENT
BEGIN:VEVENT
DTSTART;TZID=America/Toronto:20250720T130000
DTEND;TZID=America/Toronto:20250720T130000
DTSTAMP:20260419T092148
CREATED:20250718T050219Z
LAST-MODIFIED:20250721T035448Z
UID:10000929-1753016400-1753016400@nightclub.to
SUMMARY:DON DIABLO
DESCRIPTION:
URL:https://nightclub.to/event/don-diablo/
LOCATION:Cabana Pool Bar\, Toronto
CATEGORIES:Dance/Electronic
ATTACH;FMTTYPE=image/jpeg:https://nightclub.to/wp-content/uploads/2025/07/don-diablo.jpg
END:VEVENT
BEGIN:VEVENT
DTSTART;TZID=America/Toronto:20250719T130000
DTEND;TZID=America/Toronto:20250719T130000
DTSTAMP:20260419T092148
CREATED:20250714T040633Z
LAST-MODIFIED:20250720T040056Z
UID:10000923-1752930000-1752930000@nightclub.to
SUMMARY:Medellã­N Colombian Independence Day
DESCRIPTION:
URL:https://nightclub.to/event/medellan-colombian-independence-day/
LOCATION:Cabana Pool Bar\, Toronto
CATEGORIES:Dance/Electronic
END:VEVENT
BEGIN:VEVENT
DTSTART;TZID=America/Toronto:20250713T130000
DTEND;TZID=America/Toronto:20250713T130000
DTSTAMP:20260419T092148
CREATED:20250712T000820Z
LAST-MODIFIED:20250713T165931Z
UID:10000913-1752411600-1752411600@nightclub.to
SUMMARY:Porter Robinson
DESCRIPTION:
URL:https://nightclub.to/event/porter-robinson-2/
LOCATION:Cabana Pool Bar\, Toronto
CATEGORIES:Dance/Electronic
ATTACH;FMTTYPE=image/jpeg:https://nightclub.to/wp-content/uploads/2025/07/porter-robinson.jpg
END:VEVENT
BEGIN:VEVENT
DTSTART;TZID=America/Toronto:20250713T130000
DTEND;TZID=America/Toronto:20250713T130000
DTSTAMP:20260419T092148
CREATED:20250712T000815Z
LAST-MODIFIED:20250714T035809Z
UID:10000912-1752411600-1752411600@nightclub.to
SUMMARY:PORTER ROBINSON
DESCRIPTION:
URL:https://nightclub.to/event/porter-robinson/
LOCATION:Cabana Pool Bar\, Toronto
CATEGORIES:Dance/Electronic
ATTACH;FMTTYPE=image/jpeg:https://nightclub.to/wp-content/uploads/2025/07/porter-robinson.jpg
END:VEVENT
BEGIN:VEVENT
DTSTART;TZID=America/Toronto:20250712T130000
DTEND;TZID=America/Toronto:20250712T130000
DTSTAMP:20260419T092148
CREATED:20250708T150045Z
LAST-MODIFIED:20250713T040020Z
UID:10000910-1752325200-1752325200@nightclub.to
SUMMARY:Cabana Saturdays
DESCRIPTION:
URL:https://nightclub.to/event/cabana-saturdays/
LOCATION:Cabana Pool Bar\, Toronto
CATEGORIES:Dance/Electronic
END:VEVENT
BEGIN:VEVENT
DTSTART;TZID=America/Toronto:20250629T130000
DTEND;TZID=America/Toronto:20250629T130000
DTSTAMP:20260419T092148
CREATED:20250628T040225Z
LAST-MODIFIED:20250629T165542Z
UID:10000880-1751202000-1751202000@nightclub.to
SUMMARY:Steve Aoki
DESCRIPTION:
URL:https://nightclub.to/event/steve-aoki-2/
LOCATION:Cabana Pool Bar\, Toronto
CATEGORIES:Dance/Electronic
ATTACH;FMTTYPE=image/jpeg:https://nightclub.to/wp-content/uploads/2025/06/steve-aoki.jpg
END:VEVENT
BEGIN:VEVENT
DTSTART;TZID=America/Toronto:20250629T130000
DTEND;TZID=America/Toronto:20250629T130000
DTSTAMP:20260419T092148
CREATED:20250628T000749Z
LAST-MODIFIED:20250630T035921Z
UID:10000877-1751202000-1751202000@nightclub.to
SUMMARY:STEVE AOKI
DESCRIPTION:
URL:https://nightclub.to/event/steve-aoki/
LOCATION:Cabana Pool Bar\, Toronto
CATEGORIES:Dance/Electronic
ATTACH;FMTTYPE=image/jpeg:https://nightclub.to/wp-content/uploads/2025/06/steve-aoki.jpg
END:VEVENT
BEGIN:VEVENT
DTSTART;TZID=America/Toronto:20250627T140000
DTEND;TZID=America/Toronto:20250627T140000
DTSTAMP:20260419T092148
CREATED:20250622T090559Z
LAST-MODIFIED:20250627T175955Z
UID:10000864-1751032800-1751032800@nightclub.to
SUMMARY:Armand Van Helden w/ Mark Knight
DESCRIPTION:
URL:https://nightclub.to/event/armand-van-helden-w-mark-knight/
LOCATION:Cabana Pool Bar\, Toronto
CATEGORIES:Other
END:VEVENT
BEGIN:VEVENT
DTSTART;TZID=America/Toronto:20250627T140000
DTEND;TZID=America/Toronto:20250627T140000
DTSTAMP:20260419T092148
CREATED:20250622T060447Z
LAST-MODIFIED:20250628T035453Z
UID:10000863-1751032800-1751032800@nightclub.to
SUMMARY:Sugarland
DESCRIPTION:
URL:https://nightclub.to/event/sugarland/
LOCATION:Cabana Pool Bar\, Toronto
CATEGORIES:Dance/Electronic
ATTACH;FMTTYPE=image/jpeg:https://nightclub.to/wp-content/uploads/2025/06/sugarland.jpg
END:VEVENT
BEGIN:VEVENT
DTSTART;TZID=America/Toronto:20250615T130000
DTEND;TZID=America/Toronto:20250615T130000
DTSTAMP:20260419T092148
CREATED:20250614T000931Z
LAST-MODIFIED:20250616T040110Z
UID:10000835-1749992400-1749992400@nightclub.to
SUMMARY:LOST FREQUENCIES
DESCRIPTION:
URL:https://nightclub.to/event/lost-frequencies-2/
LOCATION:Cabana Pool Bar\, Toronto
CATEGORIES:Dance/Electronic
ATTACH;FMTTYPE=image/jpeg:https://nightclub.to/wp-content/uploads/2024/02/unnamed-file-2.jpg
END:VEVENT
BEGIN:VEVENT
DTSTART;TZID=America/Toronto:20250615T130000
DTEND;TZID=America/Toronto:20250615T130000
DTSTAMP:20260419T092148
CREATED:20250614T000931Z
LAST-MODIFIED:20250615T170245Z
UID:10000836-1749992400-1749992400@nightclub.to
SUMMARY:Lost Frequencies
DESCRIPTION:
URL:https://nightclub.to/event/lost-frequencies/
LOCATION:Cabana Pool Bar\, Toronto
CATEGORIES:Other
ATTACH;FMTTYPE=image/jpeg:https://nightclub.to/wp-content/uploads/2024/02/unnamed-file-2.jpg
END:VEVENT
END:VCALENDAR