BEGIN:VCALENDAR
VERSION:2.0
PRODID:-//NightClub.TO - ECPv6.8.2.1//NONSGML v1.0//EN
CALSCALE:GREGORIAN
METHOD:PUBLISH
X-WR-CALNAME:NightClub.TO
X-ORIGINAL-URL:https://nightclub.to
X-WR-CALDESC:Events for NightClub.TO
REFRESH-INTERVAL;VALUE=DURATION:PT1H
X-Robots-Tag:noindex
X-PUBLISHED-TTL:PT1H
BEGIN:VTIMEZONE
TZID:America/Toronto
BEGIN:DAYLIGHT
TZOFFSETFROM:-0500
TZOFFSETTO:-0400
TZNAME:EDT
DTSTART:20250309T070000
END:DAYLIGHT
BEGIN:STANDARD
TZOFFSETFROM:-0400
TZOFFSETTO:-0500
TZNAME:EST
DTSTART:20251102T060000
END:STANDARD
END:VTIMEZONE
BEGIN:VEVENT
DTSTART;TZID=America/Toronto:20251019T190000
DTEND;TZID=America/Toronto:20251019T190000
DTSTAMP:20260420T012621
CREATED:20251018T000207Z
LAST-MODIFIED:20251020T045829Z
UID:10001209-1760900400-1760900400@nightclub.to
SUMMARY:Midnight Generation - Tender Love World Tour
DESCRIPTION:
URL:https://nightclub.to/event/midnight-generation-tender-love-world-tour/
LOCATION:The Mod Club (formerly known as The Axis Club)\, Toronto
CATEGORIES:Rock
ATTACH;FMTTYPE=image/jpeg:https://nightclub.to/wp-content/uploads/2025/10/midnight-generation-tender-love-world-tour.jpg
END:VEVENT
BEGIN:VEVENT
DTSTART;TZID=America/Toronto:20251019T190000
DTEND;TZID=America/Toronto:20251019T190000
DTSTAMP:20260420T012621
CREATED:20251018T000203Z
LAST-MODIFIED:20251020T045827Z
UID:10001208-1760900400-1760900400@nightclub.to
SUMMARY:Arc De Soleil: La Mirage Tour
DESCRIPTION:
URL:https://nightclub.to/event/arc-de-soleil-la-mirage-tour/
LOCATION:The Danforth Music Hall\, Toronto
CATEGORIES:Rock
ATTACH;FMTTYPE=image/jpeg:https://nightclub.to/wp-content/uploads/2025/10/arc-de-soleil-la-mirage-tour.jpg
END:VEVENT
BEGIN:VEVENT
DTSTART;TZID=America/Toronto:20251018T190000
DTEND;TZID=America/Toronto:20251018T190000
DTSTAMP:20260420T012621
CREATED:20251017T000229Z
LAST-MODIFIED:20251019T044913Z
UID:10001207-1760814000-1760814000@nightclub.to
SUMMARY:The Frights
DESCRIPTION:
URL:https://nightclub.to/event/the-frights/
LOCATION:The Mod Club (formerly known as The Axis Club)\, Toronto
CATEGORIES:Rock
ATTACH;FMTTYPE=image/jpeg:https://nightclub.to/wp-content/uploads/2025/10/the-frights.jpg
END:VEVENT
BEGIN:VEVENT
DTSTART;TZID=America/Toronto:20251018T190000
DTEND;TZID=America/Toronto:20251018T190000
DTSTAMP:20260420T012621
CREATED:20250603T170803Z
LAST-MODIFIED:20251019T044914Z
UID:10000806-1760814000-1760814000@nightclub.to
SUMMARY:Dice
DESCRIPTION:
URL:https://nightclub.to/event/dice/
LOCATION:Velvet Underground\, Toronto
CATEGORIES:Rock
ATTACH;FMTTYPE=image/jpeg:https://nightclub.to/wp-content/uploads/2025/06/dice-scaled.jpg
END:VEVENT
BEGIN:VEVENT
DTSTART;TZID=America/Toronto:20251017T190000
DTEND;TZID=America/Toronto:20251017T190000
DTSTAMP:20260420T012621
CREATED:20251013T050507Z
LAST-MODIFIED:20251018T035847Z
UID:10001196-1760727600-1760727600@nightclub.to
SUMMARY:Molly Grace
DESCRIPTION:
URL:https://nightclub.to/event/molly-grace/
LOCATION:Velvet Underground\, Toronto
CATEGORIES:Rock
ATTACH;FMTTYPE=image/jpeg:https://nightclub.to/wp-content/uploads/2025/10/molly-grace.jpg
END:VEVENT
BEGIN:VEVENT
DTSTART;TZID=America/Toronto:20251013T190000
DTEND;TZID=America/Toronto:20251013T190000
DTSTAMP:20260420T012621
CREATED:20251012T000659Z
LAST-MODIFIED:20251014T050201Z
UID:10001189-1760382000-1760382000@nightclub.to
SUMMARY:NOVULENT
DESCRIPTION:
URL:https://nightclub.to/event/novulent/
LOCATION:Velvet Underground\, Toronto
CATEGORIES:Rock
ATTACH;FMTTYPE=image/jpeg:https://nightclub.to/wp-content/uploads/2025/10/novulent.jpg
END:VEVENT
BEGIN:VEVENT
DTSTART;TZID=America/Toronto:20251012T190000
DTEND;TZID=America/Toronto:20251012T190000
DTSTAMP:20260420T012621
CREATED:20251011T000915Z
LAST-MODIFIED:20251013T045606Z
UID:10001185-1760295600-1760295600@nightclub.to
SUMMARY:David Archuleta - Earthly Delights Tour
DESCRIPTION:
URL:https://nightclub.to/event/david-archuleta-earthly-delights-tour/
LOCATION:The Mod Club (formerly known as The Axis Club)\, Toronto
CATEGORIES:Rock
ATTACH;FMTTYPE=image/jpeg:https://nightclub.to/wp-content/uploads/2025/10/david-archuleta-earthly-delights-tour.jpg
END:VEVENT
BEGIN:VEVENT
DTSTART;TZID=America/Toronto:20251011T190000
DTEND;TZID=America/Toronto:20251011T190000
DTSTAMP:20260420T012621
CREATED:20251010T000234Z
LAST-MODIFIED:20251012T045840Z
UID:10001178-1760209200-1760209200@nightclub.to
SUMMARY:Grandaddy - 25th Anniversary of Sophtware Slump
DESCRIPTION:
URL:https://nightclub.to/event/grandaddy-25th-anniversary-of-sophtware-slump/
LOCATION:The Danforth Music Hall\, Toronto
CATEGORIES:Rock
ATTACH;FMTTYPE=image/jpeg:https://nightclub.to/wp-content/uploads/2025/10/grandaddy-25th-anniversary-of-sophtware-slump.jpg
END:VEVENT
BEGIN:VEVENT
DTSTART;TZID=America/Toronto:20251010T190000
DTEND;TZID=America/Toronto:20251010T190000
DTSTAMP:20260420T012621
CREATED:20251007T051031Z
LAST-MODIFIED:20251011T050155Z
UID:10001172-1760122800-1760122800@nightclub.to
SUMMARY:BETWEEN FRIENDS - WOW! TOUR
DESCRIPTION:
URL:https://nightclub.to/event/between-friends-wow-tour/
LOCATION:The Mod Club (formerly known as The Axis Club)\, Toronto
CATEGORIES:Rock
ATTACH;FMTTYPE=image/png:https://nightclub.to/wp-content/uploads/2025/10/between-friends-wow-tour.png
END:VEVENT
BEGIN:VEVENT
DTSTART;TZID=America/Toronto:20251010T190000
DTEND;TZID=America/Toronto:20251010T190000
DTSTAMP:20260420T012621
CREATED:20251007T051025Z
LAST-MODIFIED:20251011T050154Z
UID:10001171-1760122800-1760122800@nightclub.to
SUMMARY:Dan Mangan - Natural Light Tour
DESCRIPTION:
URL:https://nightclub.to/event/dan-mangan-natural-light-tour/
LOCATION:The Danforth Music Hall\, Toronto
CATEGORIES:Rock
ATTACH;FMTTYPE=image/jpeg:https://nightclub.to/wp-content/uploads/2025/10/dan-mangan-natural-light-tour.jpg
END:VEVENT
BEGIN:VEVENT
DTSTART;TZID=America/Toronto:20251006T190000
DTEND;TZID=America/Toronto:20251006T190000
DTSTAMP:20260420T012621
CREATED:20251005T001036Z
LAST-MODIFIED:20251007T050038Z
UID:10001162-1759777200-1759777200@nightclub.to
SUMMARY:sombr - The Late Nights & Young Romance Tour
DESCRIPTION:
URL:https://nightclub.to/event/sombr-the-late-nights-young-romance-tour/
LOCATION:The Phoenix Concert Theatre\, Toronto
CATEGORIES:Rock
ATTACH;FMTTYPE=image/jpeg:https://nightclub.to/wp-content/uploads/2025/10/sombr-the-late-nights-young-romance-tour.jpg
END:VEVENT
BEGIN:VEVENT
DTSTART;TZID=America/Toronto:20251006T190000
DTEND;TZID=America/Toronto:20251006T190000
DTSTAMP:20260420T012621
CREATED:20251005T000827Z
LAST-MODIFIED:20251007T050037Z
UID:10001163-1759777200-1759777200@nightclub.to
SUMMARY:Stereolab
DESCRIPTION:
URL:https://nightclub.to/event/stereolab/
LOCATION:The Danforth Music Hall\, Toronto
CATEGORIES:Rock
ATTACH;FMTTYPE=image/jpeg:https://nightclub.to/wp-content/uploads/2025/10/stereolab.jpg
END:VEVENT
BEGIN:VEVENT
DTSTART;TZID=America/Toronto:20251005T190000
DTEND;TZID=America/Toronto:20251005T190000
DTSTAMP:20260420T012621
CREATED:20251004T000742Z
LAST-MODIFIED:20251006T050221Z
UID:10001156-1759690800-1759690800@nightclub.to
SUMMARY:The Rapture
DESCRIPTION:
URL:https://nightclub.to/event/the-rapture/
LOCATION:The Danforth Music Hall\, Toronto
CATEGORIES:Rock
ATTACH;FMTTYPE=image/jpeg:https://nightclub.to/wp-content/uploads/2025/10/the-rapture.jpg
END:VEVENT
BEGIN:VEVENT
DTSTART;TZID=America/Toronto:20251005T190000
DTEND;TZID=America/Toronto:20251005T190000
DTSTAMP:20260420T012621
CREATED:20251004T000543Z
LAST-MODIFIED:20251006T050100Z
UID:10001157-1759690800-1759690800@nightclub.to
SUMMARY:Aidan Bissett - shut up and love me tour
DESCRIPTION:
URL:https://nightclub.to/event/aidan-bissett-shut-up-and-love-me-tour/
LOCATION:The Mod Club (formerly known as The Axis Club)\, Toronto
CATEGORIES:Rock
ATTACH;FMTTYPE=image/jpeg:https://nightclub.to/wp-content/uploads/2025/10/aidan-bissett-shut-up-and-love-me-tour.jpg
END:VEVENT
BEGIN:VEVENT
DTSTART;TZID=America/Toronto:20251001T190000
DTEND;TZID=America/Toronto:20251001T190000
DTSTAMP:20260420T012621
CREATED:20250928T080516Z
LAST-MODIFIED:20251002T050249Z
UID:10001142-1759345200-1759345200@nightclub.to
SUMMARY:John Maus
DESCRIPTION:
URL:https://nightclub.to/event/john-maus/
LOCATION:The Danforth Music Hall\, Toronto
CATEGORIES:Rock
ATTACH;FMTTYPE=image/jpeg:https://nightclub.to/wp-content/uploads/2025/09/john-maus.jpg
END:VEVENT
BEGIN:VEVENT
DTSTART;TZID=America/Toronto:20250929T190000
DTEND;TZID=America/Toronto:20250929T190000
DTSTAMP:20260420T012621
CREATED:20250928T000429Z
LAST-MODIFIED:20250930T045720Z
UID:10001139-1759172400-1759172400@nightclub.to
SUMMARY:Oracle Sisters
DESCRIPTION:
URL:https://nightclub.to/event/oracle-sisters/
LOCATION:Velvet Underground\, Toronto
CATEGORIES:Rock
ATTACH;FMTTYPE=image/jpeg:https://nightclub.to/wp-content/uploads/2025/09/oracle-sisters.jpg
END:VEVENT
BEGIN:VEVENT
DTSTART;TZID=America/Toronto:20250927T190000
DTEND;TZID=America/Toronto:20250927T201500
DTSTAMP:20260420T012621
CREATED:20250927T060818Z
LAST-MODIFIED:20250927T235353Z
UID:10001134-1758999600-1759004100@nightclub.to
SUMMARY:Maruja
DESCRIPTION:
URL:https://nightclub.to/event/maruja/
LOCATION:The Phoenix Concert Theatre\, Toronto
CATEGORIES:Alternative,Rock
ATTACH;FMTTYPE=image/jpeg:https://nightclub.to/wp-content/uploads/2025/09/maruja.jpg
END:VEVENT
BEGIN:VEVENT
DTSTART;TZID=America/Toronto:20250927T190000
DTEND;TZID=America/Toronto:20250927T190000
DTSTAMP:20260420T012621
CREATED:20250926T000647Z
LAST-MODIFIED:20250928T045816Z
UID:10001128-1758999600-1758999600@nightclub.to
SUMMARY:Glare\, Cloakroom\, Destiny Bond
DESCRIPTION:
URL:https://nightclub.to/event/glare-cloakroom-destiny-bond/
LOCATION:Velvet Underground\, Toronto
CATEGORIES:Rock
ATTACH;FMTTYPE=image/jpeg:https://nightclub.to/wp-content/uploads/2025/09/glare-cloakroom-destiny-bond.jpg
END:VEVENT
BEGIN:VEVENT
DTSTART;TZID=America/Toronto:20250926T190000
DTEND;TZID=America/Toronto:20250926T190000
DTSTAMP:20260420T012621
CREATED:20250923T050935Z
LAST-MODIFIED:20250927T050128Z
UID:10001119-1758913200-1758913200@nightclub.to
SUMMARY:U.S. Girls
DESCRIPTION:
URL:https://nightclub.to/event/u-s-girls/
LOCATION:The Mod Club (formerly known as The Axis Club)\, Toronto
CATEGORIES:Rock
ATTACH;FMTTYPE=image/jpeg:https://nightclub.to/wp-content/uploads/2025/09/u-s-girls.jpg
END:VEVENT
BEGIN:VEVENT
DTSTART;TZID=America/Toronto:20250925T190000
DTEND;TZID=America/Toronto:20250925T190000
DTSTAMP:20260420T012621
CREATED:20250922T040913Z
LAST-MODIFIED:20250926T045855Z
UID:10001113-1758826800-1758826800@nightclub.to
SUMMARY:Múm
DESCRIPTION:
URL:https://nightclub.to/event/mum/
LOCATION:The Mod Club (formerly known as The Axis Club)\, Toronto
CATEGORIES:Rock
END:VEVENT
BEGIN:VEVENT
DTSTART;TZID=America/Toronto:20250925T190000
DTEND;TZID=America/Toronto:20250925T190000
DTSTAMP:20260420T012621
CREATED:20250922T040815Z
LAST-MODIFIED:20250926T045856Z
UID:10001114-1758826800-1758826800@nightclub.to
SUMMARY:The Damned
DESCRIPTION:
URL:https://nightclub.to/event/the-damned/
LOCATION:The Danforth Music Hall\, Toronto
CATEGORIES:Rock
ATTACH;FMTTYPE=image/jpeg:https://nightclub.to/wp-content/uploads/2025/09/the-damned.jpg
END:VEVENT
BEGIN:VEVENT
DTSTART;TZID=America/Toronto:20250925T190000
DTEND;TZID=America/Toronto:20250925T190000
DTSTAMP:20260420T012621
CREATED:20250922T040812Z
LAST-MODIFIED:20250926T000051Z
UID:10001115-1758826800-1758826800@nightclub.to
SUMMARY:Gavin James
DESCRIPTION:
URL:https://nightclub.to/event/gavin-james/
LOCATION:Velvet Underground\, Toronto
CATEGORIES:Rock
ATTACH;FMTTYPE=image/jpeg:https://nightclub.to/wp-content/uploads/2025/09/gavin-james.jpg
END:VEVENT
BEGIN:VEVENT
DTSTART;TZID=America/Toronto:20250924T190000
DTEND;TZID=America/Toronto:20250924T190000
DTSTAMP:20260420T012621
CREATED:20250921T091006Z
LAST-MODIFIED:20250925T045439Z
UID:10001111-1758740400-1758740400@nightclub.to
SUMMARY:Jack Van Cleaf - No One's Gonna Know if You Leave San Diego
DESCRIPTION:
URL:https://nightclub.to/event/jack-van-cleaf-no-ones-gonna-know-if-you-leave-san-diego/
LOCATION:Velvet Underground\, Toronto
CATEGORIES:Rock
ATTACH;FMTTYPE=image/jpeg:https://nightclub.to/wp-content/uploads/2025/09/jack-van-cleaf-no-ones-gonna-know-if-you-leave-san-diego.jpg
END:VEVENT
BEGIN:VEVENT
DTSTART;TZID=America/Toronto:20250923T190000
DTEND;TZID=America/Toronto:20250923T190000
DTSTAMP:20260420T012621
CREATED:20250921T081011Z
LAST-MODIFIED:20250924T045721Z
UID:10001110-1758654000-1758654000@nightclub.to
SUMMARY:Steven Wilson: The Overview Tour
DESCRIPTION:
URL:https://nightclub.to/event/steven-wilson-the-overview-tour-2/
LOCATION:The Danforth Music Hall\, Toronto
CATEGORIES:Rock
ATTACH;FMTTYPE=image/jpeg:https://nightclub.to/wp-content/uploads/2025/09/steven-wilson-the-overview-tour.jpg
END:VEVENT
BEGIN:VEVENT
DTSTART;TZID=America/Toronto:20250922T190000
DTEND;TZID=America/Toronto:20250922T190000
DTSTAMP:20260420T012621
CREATED:20250921T000546Z
LAST-MODIFIED:20250923T050354Z
UID:10001106-1758567600-1758567600@nightclub.to
SUMMARY:Steven Wilson: The Overview Tour
DESCRIPTION:
URL:https://nightclub.to/event/steven-wilson-the-overview-tour/
LOCATION:The Danforth Music Hall\, Toronto
CATEGORIES:Rock
ATTACH;FMTTYPE=image/jpeg:https://nightclub.to/wp-content/uploads/2025/09/steven-wilson-the-overview-tour.jpg
END:VEVENT
BEGIN:VEVENT
DTSTART;TZID=America/Toronto:20250921T190000
DTEND;TZID=America/Toronto:20250921T190000
DTSTAMP:20260420T012621
CREATED:20250920T050958Z
LAST-MODIFIED:20250921T225912Z
UID:10001105-1758481200-1758481200@nightclub.to
SUMMARY:Sextile w/ Automatic
DESCRIPTION:
URL:https://nightclub.to/event/sextile-w-automatic/
LOCATION:Velvet Underground\, Toronto
CATEGORIES:Rock
ATTACH;FMTTYPE=image/jpeg:https://nightclub.to/wp-content/uploads/2025/09/sextile-automatic.jpg
END:VEVENT
BEGIN:VEVENT
DTSTART;TZID=America/Toronto:20250921T190000
DTEND;TZID=America/Toronto:20250921T190000
DTSTAMP:20260420T012621
CREATED:20250920T000845Z
LAST-MODIFIED:20250922T045456Z
UID:10001102-1758481200-1758481200@nightclub.to
SUMMARY:Yungblud
DESCRIPTION:
URL:https://nightclub.to/event/yungblud/
LOCATION:The Danforth Music Hall\, Toronto
CATEGORIES:Rock
ATTACH;FMTTYPE=image/jpeg:https://nightclub.to/wp-content/uploads/2025/09/yungblud.jpg
END:VEVENT
BEGIN:VEVENT
DTSTART;TZID=America/Toronto:20250921T190000
DTEND;TZID=America/Toronto:20250921T190000
DTSTAMP:20260420T012621
CREATED:20250920T000844Z
LAST-MODIFIED:20250922T040235Z
UID:10001101-1758481200-1758481200@nightclub.to
SUMMARY:Sextile & Automatic
DESCRIPTION:
URL:https://nightclub.to/event/sextile-automatic/
LOCATION:Velvet Underground\, Toronto
CATEGORIES:Rock
ATTACH;FMTTYPE=image/jpeg:https://nightclub.to/wp-content/uploads/2025/09/sextile-automatic.jpg
END:VEVENT
BEGIN:VEVENT
DTSTART;TZID=America/Toronto:20250920T220000
DTEND;TZID=America/Toronto:20250920T220000
DTSTAMP:20260420T012621
CREATED:20250919T000939Z
LAST-MODIFIED:20250921T075916Z
UID:10001095-1758405600-1758405600@nightclub.to
SUMMARY:Jacques Greene & Nosaj Thing
DESCRIPTION:
URL:https://nightclub.to/event/jacques-greene-nosaj-thing/
LOCATION:The Mod Club (formerly known as The Axis Club)\, Toronto
CATEGORIES:Rock
ATTACH;FMTTYPE=image/jpeg:https://nightclub.to/wp-content/uploads/2025/09/jacques-greene-nosaj-thing.jpg
END:VEVENT
BEGIN:VEVENT
DTSTART;TZID=America/Toronto:20250920T190000
DTEND;TZID=America/Toronto:20250920T190000
DTSTAMP:20260420T012621
CREATED:20250919T000941Z
LAST-MODIFIED:20250921T045631Z
UID:10001097-1758394800-1758394800@nightclub.to
SUMMARY:SYML - Nobody Lives Here Tour
DESCRIPTION:
URL:https://nightclub.to/event/syml-nobody-lives-here-tour/
LOCATION:The Danforth Music Hall\, Toronto
CATEGORIES:Rock
ATTACH;FMTTYPE=image/jpeg:https://nightclub.to/wp-content/uploads/2025/09/syml-nobody-lives-here-tour.jpg
END:VEVENT
END:VCALENDAR