BEGIN:VCALENDAR
VERSION:2.0
PRODID:-//NightClub.TO - ECPv6.8.2.1//NONSGML v1.0//EN
CALSCALE:GREGORIAN
METHOD:PUBLISH
X-ORIGINAL-URL:https://nightclub.to
X-WR-CALDESC:Events for NightClub.TO
REFRESH-INTERVAL;VALUE=DURATION:PT1H
X-Robots-Tag:noindex
X-PUBLISHED-TTL:PT1H
BEGIN:VTIMEZONE
TZID:America/Toronto
BEGIN:DAYLIGHT
TZOFFSETFROM:-0500
TZOFFSETTO:-0400
TZNAME:EDT
DTSTART:20250309T070000
END:DAYLIGHT
BEGIN:STANDARD
TZOFFSETFROM:-0400
TZOFFSETTO:-0500
TZNAME:EST
DTSTART:20251102T060000
END:STANDARD
END:VTIMEZONE
BEGIN:VEVENT
DTSTART;TZID=America/Toronto:20250502T210000
DTEND;TZID=America/Toronto:20250502T210000
DTSTAMP:20260422T175748
CREATED:20250501T010526Z
LAST-MODIFIED:20250503T055913Z
UID:10000689-1746219600-1746219600@nightclub.to
SUMMARY:Bijelo Dugme
DESCRIPTION:
URL:https://nightclub.to/event/bijelo-dugme/
LOCATION:Rebel\, Toronto
CATEGORIES:Rock
END:VEVENT
BEGIN:VEVENT
DTSTART;TZID=America/Toronto:20250501T190000
DTEND;TZID=America/Toronto:20250501T201500
DTSTAMP:20260422T175748
CREATED:20250501T010822Z
LAST-MODIFIED:20250502T050140Z
UID:10000684-1746126000-1746130500@nightclub.to
SUMMARY:Youth Lagoon: Rarely Do I Dream Tour
DESCRIPTION:
URL:https://nightclub.to/event/youth-lagoon-rarely-do-i-dream-tour/
LOCATION:The Axis Club (formerly known as The Mod Club)\, Toronto
CATEGORIES:Rock
ATTACH;FMTTYPE=image/jpeg:https://nightclub.to/wp-content/uploads/2025/04/youth-lagoon-rarely-do-i-dream-tour.jpg
END:VEVENT
BEGIN:VEVENT
DTSTART;TZID=America/Toronto:20250430T190000
DTEND;TZID=America/Toronto:20250501T201500
DTSTAMP:20260422T175748
CREATED:20250501T010520Z
LAST-MODIFIED:20250501T050219Z
UID:10000682-1746039600-1746130500@nightclub.to
SUMMARY:Jane Remover Presents Turn Up Or Die 
DESCRIPTION:
URL:https://nightclub.to/event/jane-remover-presents-turn-up-or-die/
LOCATION:Velvet Underground\, Toronto
CATEGORIES:Rock
ATTACH;FMTTYPE=image/jpeg:https://nightclub.to/wp-content/uploads/2025/04/jane-remover-presents-turn-up-or-die.jpg
END:VEVENT
BEGIN:VEVENT
DTSTART;TZID=America/Toronto:20250422T190000
DTEND;TZID=America/Toronto:20250501T201500
DTSTAMP:20260422T175748
CREATED:20250501T005703Z
LAST-MODIFIED:20250501T010028Z
UID:10000681-1745348400-1746130500@nightclub.to
SUMMARY:Yukimi (of Little Dragon)
DESCRIPTION:
URL:https://nightclub.to/event/yukimi-of-little-dragon-7592/
LOCATION:The Axis Club (formerly known as The Mod Club)\, Toronto
CATEGORIES:Rock
ATTACH;FMTTYPE=image/png:https://nightclub.to/wp-content/uploads/2025/04/yukimi-of-little-dragon-7592.png
END:VEVENT
BEGIN:VEVENT
DTSTART;TZID=America/Toronto:20250421T190000
DTEND;TZID=America/Toronto:20250421T190000
DTSTAMP:20260422T175748
CREATED:20250420T000703Z
LAST-MODIFIED:20250501T010107Z
UID:10000680-1745262000-1745262000@nightclub.to
SUMMARY:AWOLNATION - THE PHANTOM FIVE TOUR
DESCRIPTION:
URL:https://nightclub.to/event/awolnation-the-phantom-five-tour/
LOCATION:The Danforth Music Hall\, Toronto
CATEGORIES:Rock
ATTACH;FMTTYPE=image/jpeg:https://nightclub.to/wp-content/uploads/2025/04/awolnation-the-phantom-five-tour.jpg
END:VEVENT
BEGIN:VEVENT
DTSTART;TZID=America/Toronto:20250419T200000
DTEND;TZID=America/Toronto:20250419T200000
DTSTAMP:20260422T175748
CREATED:20250418T060334Z
LAST-MODIFIED:20250420T035755Z
UID:10000675-1745092800-1745092800@nightclub.to
SUMMARY:Heroes Featuring Bowie Revisited. A Benefit for Wounded Warriors
DESCRIPTION:
URL:https://nightclub.to/event/heroes-featuring-bowie-revisited-a-benefit-for-wounded-warriors/
LOCATION:The Phoenix Concert Theatre\, Toronto
CATEGORIES:Rock
ATTACH;FMTTYPE=image/png:https://nightclub.to/wp-content/uploads/2025/04/heroes-featuring-bowie-revisited-a-benefit-for-wounded-warriors.png
END:VEVENT
BEGIN:VEVENT
DTSTART;TZID=America/Toronto:20250419T190000
DTEND;TZID=America/Toronto:20250419T190000
DTSTAMP:20260422T175748
CREATED:20250418T000951Z
LAST-MODIFIED:20250420T050251Z
UID:10000670-1745089200-1745089200@nightclub.to
SUMMARY:Teenage Dads - MAJORDOMO USA TOUR
DESCRIPTION:
URL:https://nightclub.to/event/teenage-dads-majordomo-usa-tour/
LOCATION:Velvet Underground\, Toronto
CATEGORIES:Rock
ATTACH;FMTTYPE=image/jpeg:https://nightclub.to/wp-content/uploads/2024/03/teenage-dads-scaled.jpg
END:VEVENT
BEGIN:VEVENT
DTSTART;TZID=America/Toronto:20250415T190000
DTEND;TZID=America/Toronto:20250415T190000
DTSTAMP:20260422T175748
CREATED:20250412T063535Z
LAST-MODIFIED:20250416T050004Z
UID:10000658-1744743600-1744743600@nightclub.to
SUMMARY:Chase Petra
DESCRIPTION:
URL:https://nightclub.to/event/chase-petra/
LOCATION:Velvet Underground\, Toronto
CATEGORIES:Rock
ATTACH;FMTTYPE=image/png:https://nightclub.to/wp-content/uploads/2025/04/chase-petra.png
END:VEVENT
BEGIN:VEVENT
DTSTART;TZID=America/Toronto:20250415T180000
DTEND;TZID=America/Toronto:20250415T180000
DTSTAMP:20260422T175748
CREATED:20250412T060838Z
LAST-MODIFIED:20250416T040113Z
UID:10000657-1744740000-1744740000@nightclub.to
SUMMARY:Elder
DESCRIPTION:
URL:https://nightclub.to/event/elder/
LOCATION:The Axis Club (formerly known as The Mod Club)\, Toronto
CATEGORIES:Rock
ATTACH;FMTTYPE=image/jpeg:https://nightclub.to/wp-content/uploads/2025/04/elder.jpg
END:VEVENT
BEGIN:VEVENT
DTSTART;TZID=America/Toronto:20250414T190000
DTEND;TZID=America/Toronto:20250414T190000
DTSTAMP:20260422T175748
CREATED:20250412T050623Z
LAST-MODIFIED:20250415T050158Z
UID:10000655-1744657200-1744657200@nightclub.to
SUMMARY:hey\, nothing - The 33° Tour
DESCRIPTION:
URL:https://nightclub.to/event/hey-nothing-the-33-tour/
LOCATION:Velvet Underground\, Toronto
CATEGORIES:Rock
ATTACH;FMTTYPE=image/jpeg:https://nightclub.to/wp-content/uploads/2025/04/hey-nothing-the-33-tour.jpg
END:VEVENT
BEGIN:VEVENT
DTSTART;TZID=America/Toronto:20250413T183000
DTEND;TZID=America/Toronto:20250413T183000
DTSTAMP:20260422T175748
CREATED:20250411T060701Z
LAST-MODIFIED:20250414T042758Z
UID:10000654-1744569000-1744569000@nightclub.to
SUMMARY:Free Throw: Those Days Are Gone 10 Year Anniversary Tour
DESCRIPTION:
URL:https://nightclub.to/event/free-throw-those-days-are-gone-10-year-anniversary-tour/
LOCATION:The Axis Club (formerly known as The Mod Club)\, Toronto
CATEGORIES:Rock
ATTACH;FMTTYPE=image/jpeg:https://nightclub.to/wp-content/uploads/2025/04/free-throw-those-days-are-gone-10-year-anniversary-tour-scaled.jpg
END:VEVENT
BEGIN:VEVENT
DTSTART;TZID=America/Toronto:20250412T200000
DTEND;TZID=America/Toronto:20250412T200000
DTSTAMP:20260422T175748
CREATED:20250410T051017Z
LAST-MODIFIED:20250413T040637Z
UID:10000644-1744488000-1744488000@nightclub.to
SUMMARY:Supersonic
DESCRIPTION:
URL:https://nightclub.to/event/supersonic/
LOCATION:The Phoenix Concert Theatre\, Toronto
CATEGORIES:Alternative,Other,Rock
ATTACH;FMTTYPE=image/png:https://nightclub.to/wp-content/uploads/2025/04/supersonic.png
END:VEVENT
BEGIN:VEVENT
DTSTART;TZID=America/Toronto:20250411T190000
DTEND;TZID=America/Toronto:20250411T190000
DTSTAMP:20260422T175748
CREATED:20250406T040648Z
LAST-MODIFIED:20250412T050121Z
UID:10000636-1744398000-1744398000@nightclub.to
SUMMARY:Kathleen Edwards
DESCRIPTION:
URL:https://nightclub.to/event/kathleen-edwards/
LOCATION:The Danforth Music Hall\, Toronto
CATEGORIES:Rock
ATTACH;FMTTYPE=image/jpeg:https://nightclub.to/wp-content/uploads/2025/04/kathleen-edwards-scaled.jpg
END:VEVENT
BEGIN:VEVENT
DTSTART;TZID=America/Toronto:20250409T180000
DTEND;TZID=America/Toronto:20250409T180000
DTSTAMP:20260422T175748
CREATED:20250405T063750Z
LAST-MODIFIED:20250410T040221Z
UID:10000634-1744221600-1744221600@nightclub.to
SUMMARY:CHELSEA GRIN w/ SHADOW OF INTENT\, SIGNS OF THE SWARM\, DISEMBODIED TYRA
DESCRIPTION:
URL:https://nightclub.to/event/chelsea-grin-w-shadow-of-intent-signs-of-the-swarm-disembodied-tyra/
LOCATION:The Danforth Music Hall\, Toronto
CATEGORIES:Rock
ATTACH;FMTTYPE=image/jpeg:https://nightclub.to/wp-content/uploads/2025/04/chelsea-grin-w-shadow-of-intent-signs-of-the-swarm-disembodied-tyra.jpg
END:VEVENT
BEGIN:VEVENT
DTSTART;TZID=America/Toronto:20250405T190000
DTEND;TZID=America/Toronto:20250405T190000
DTSTAMP:20260422T175748
CREATED:20250404T001254Z
LAST-MODIFIED:20250406T035725Z
UID:10000627-1743879600-1743879600@nightclub.to
SUMMARY:Mars Hotel with Special Guest Zuffalo
DESCRIPTION:
URL:https://nightclub.to/event/mars-hotel-with-special-guest-zuffalo/
LOCATION:The Axis Club (formerly known as The Mod Club)\, Toronto
CATEGORIES:Rock
END:VEVENT
BEGIN:VEVENT
DTSTART;TZID=America/Toronto:20250402T190000
DTEND;TZID=America/Toronto:20250402T190000
DTSTAMP:20260422T175748
CREATED:20250329T090651Z
LAST-MODIFIED:20250403T045752Z
UID:10000613-1743620400-1743620400@nightclub.to
SUMMARY:Rebecca Black Presents: The SALVATION Tour
DESCRIPTION:
URL:https://nightclub.to/event/rebecca-black-presents-the-salvation-tour/
LOCATION:The Axis Club (formerly known as The Mod Club)\, Toronto
CATEGORIES:Rock
ATTACH;FMTTYPE=image/jpeg:https://nightclub.to/wp-content/uploads/2025/03/rebecca-black-presents-the-salvation-tour.jpg
END:VEVENT
BEGIN:VEVENT
DTSTART;TZID=America/Toronto:20250401T190000
DTEND;TZID=America/Toronto:20250401T190000
DTSTAMP:20260422T175748
CREATED:20250329T081244Z
LAST-MODIFIED:20250402T050333Z
UID:10000612-1743534000-1743534000@nightclub.to
SUMMARY:The Hard Quartet
DESCRIPTION:
URL:https://nightclub.to/event/the-hard-quartet/
LOCATION:The Danforth Music Hall\, Toronto
CATEGORIES:Rock
ATTACH;FMTTYPE=image/png:https://nightclub.to/wp-content/uploads/2025/03/the-hard-quartet.png
END:VEVENT
BEGIN:VEVENT
DTSTART;TZID=America/Toronto:20250329T190000
DTEND;TZID=America/Toronto:20250329T190000
DTSTAMP:20260422T175748
CREATED:20250327T050345Z
LAST-MODIFIED:20250330T045918Z
UID:10000602-1743274800-1743274800@nightclub.to
SUMMARY:flipturn: The Burnout Days Tour
DESCRIPTION:
URL:https://nightclub.to/event/flipturn-the-burnout-days-tour/
LOCATION:The Danforth Music Hall\, Toronto
CATEGORIES:Rock
ATTACH;FMTTYPE=image/jpeg:https://nightclub.to/wp-content/uploads/2025/03/flipturn-the-burnout-days-tour.jpg
END:VEVENT
BEGIN:VEVENT
DTSTART;TZID=America/Toronto:20250328T190000
DTEND;TZID=America/Toronto:20250328T190000
DTSTAMP:20260422T175748
CREATED:20250323T061100Z
LAST-MODIFIED:20250329T045620Z
UID:10000596-1743188400-1743188400@nightclub.to
SUMMARY:Poppy: They're All Around Us
DESCRIPTION:
URL:https://nightclub.to/event/poppy-theyre-all-around-us/
LOCATION:The Danforth Music Hall\, Toronto
CATEGORIES:Rock
ATTACH;FMTTYPE=image/jpeg:https://nightclub.to/wp-content/uploads/2025/03/poppy-theyre-all-around-us.jpg
END:VEVENT
BEGIN:VEVENT
DTSTART;TZID=America/Toronto:20250327T190000
DTEND;TZID=America/Toronto:20250327T190000
DTSTAMP:20260422T175748
CREATED:20250323T061100Z
LAST-MODIFIED:20250328T035924Z
UID:10000595-1743102000-1743102000@nightclub.to
SUMMARY:The Phoenix Presents Matthew Good & I Mother Earth
DESCRIPTION:
URL:https://nightclub.to/event/the-phoenix-presents-matthew-good-i-mother-earth/
LOCATION:The Phoenix Concert Theatre\, Toronto
CATEGORIES:Alternative,Rock
ATTACH;FMTTYPE=image/jpeg:https://nightclub.to/wp-content/uploads/2024/11/94-9-the-rock-presents-i-mother-earth.jpg
END:VEVENT
BEGIN:VEVENT
DTSTART;TZID=America/Toronto:20250327T190000
DTEND;TZID=America/Toronto:20250327T190000
DTSTAMP:20260422T175749
CREATED:20250323T051344Z
LAST-MODIFIED:20250328T045836Z
UID:10000594-1743102000-1743102000@nightclub.to
SUMMARY:The World Is a Beautiful Place & I Am No Longer Afraid To Die
DESCRIPTION:
URL:https://nightclub.to/event/the-world-is-a-beautiful-place-i-am-no-longer-afraid-to-die/
LOCATION:Velvet Underground\, Toronto
CATEGORIES:Rock
ATTACH;FMTTYPE=image/jpeg:https://nightclub.to/wp-content/uploads/2025/03/the-world-is-a-beautiful-place-i-am-no-longer-afraid-to-die.jpg
END:VEVENT
BEGIN:VEVENT
DTSTART;TZID=America/Toronto:20250326T190000
DTEND;TZID=America/Toronto:20250326T190000
DTSTAMP:20260422T175749
CREATED:20250322T090850Z
LAST-MODIFIED:20250327T045842Z
UID:10000593-1743015600-1743015600@nightclub.to
SUMMARY:Confidence Man
DESCRIPTION:
URL:https://nightclub.to/event/confidence-man/
LOCATION:The Axis Club (formerly known as The Mod Club)\, Toronto
CATEGORIES:Rock
ATTACH;FMTTYPE=image/jpeg:https://nightclub.to/wp-content/uploads/2025/03/confidence-man.jpg
END:VEVENT
BEGIN:VEVENT
DTSTART;TZID=America/Toronto:20250326T190000
DTEND;TZID=America/Toronto:20250326T190000
DTSTAMP:20260422T175749
CREATED:20250322T060811Z
LAST-MODIFIED:20250327T045842Z
UID:10000592-1743015600-1743015600@nightclub.to
SUMMARY:Chuck Ragan
DESCRIPTION:
URL:https://nightclub.to/event/chuck-ragan/
LOCATION:Velvet Underground\, Toronto
CATEGORIES:Rock
ATTACH;FMTTYPE=image/jpeg:https://nightclub.to/wp-content/uploads/2025/03/chuck-ragan.jpg
END:VEVENT
BEGIN:VEVENT
DTSTART;TZID=America/Toronto:20250322T190000
DTEND;TZID=America/Toronto:20250322T190000
DTSTAMP:20260422T175749
CREATED:20250321T000930Z
LAST-MODIFIED:20250323T050214Z
UID:10000585-1742670000-1742670000@nightclub.to
SUMMARY:Neal Francis - Return to Zero Tour
DESCRIPTION:
URL:https://nightclub.to/event/neal-francis-return-to-zero-tour/
LOCATION:The Axis Club (formerly known as The Mod Club)\, Toronto
CATEGORIES:Rock
ATTACH;FMTTYPE=image/jpeg:https://nightclub.to/wp-content/uploads/2025/03/neal-francis-return-to-zero-tour.jpg
END:VEVENT
BEGIN:VEVENT
DTSTART;TZID=America/Toronto:20250321T190000
DTEND;TZID=America/Toronto:20250321T190000
DTSTAMP:20260422T175749
CREATED:20250319T040837Z
LAST-MODIFIED:20250322T035740Z
UID:10000580-1742583600-1742583600@nightclub.to
SUMMARY:Paleface Swiss\, Stick To Your Guns\, Nasty
DESCRIPTION:
URL:https://nightclub.to/event/paleface-swiss-stick-to-your-guns-nasty/
LOCATION:The Phoenix Concert Theatre\, Toronto
CATEGORIES:Rock
ATTACH;FMTTYPE=image/jpeg:https://nightclub.to/wp-content/uploads/2025/03/paleface-swiss-stick-to-your-guns-nasty-scaled.jpg
END:VEVENT
BEGIN:VEVENT
DTSTART;TZID=America/Toronto:20250321T190000
DTEND;TZID=America/Toronto:20250321T190000
DTSTAMP:20260422T175749
CREATED:20250317T050930Z
LAST-MODIFIED:20250322T050720Z
UID:10000578-1742583600-1742583600@nightclub.to
SUMMARY:Cancer Bats
DESCRIPTION:
URL:https://nightclub.to/event/cancer-bats/
LOCATION:Velvet Underground\, Toronto
CATEGORIES:Rock
END:VEVENT
BEGIN:VEVENT
DTSTART;TZID=America/Toronto:20250320T183000
DTEND;TZID=America/Toronto:20250320T183000
DTSTAMP:20260422T175749
CREATED:20250316T070722Z
LAST-MODIFIED:20250321T040248Z
UID:10000576-1742495400-1742495400@nightclub.to
SUMMARY:Delain\, Xandria\, Edge of Paradise
DESCRIPTION:
URL:https://nightclub.to/event/delain-xandria-edge-of-paradise/
LOCATION:The Axis Club\, Toronto
CATEGORIES:Metal,Rock
ATTACH;FMTTYPE=image/jpeg:https://nightclub.to/wp-content/uploads/2025/03/delain.jpg
END:VEVENT
BEGIN:VEVENT
DTSTART;TZID=America/Toronto:20250318T190000
DTEND;TZID=America/Toronto:20250318T190000
DTSTAMP:20260422T175749
CREATED:20250315T050639Z
LAST-MODIFIED:20250319T045635Z
UID:10000569-1742324400-1742324400@nightclub.to
SUMMARY:Emei
DESCRIPTION:
URL:https://nightclub.to/event/emei/
LOCATION:The Axis Club (formerly known as The Mod Club)\, Toronto
CATEGORIES:Rock
ATTACH;FMTTYPE=image/jpeg:https://nightclub.to/wp-content/uploads/2025/03/emei.jpg
END:VEVENT
BEGIN:VEVENT
DTSTART;TZID=America/Toronto:20250313T190000
DTEND;TZID=America/Toronto:20250313T190000
DTSTAMP:20260422T175749
CREATED:20250309T071802Z
LAST-MODIFIED:20250314T050041Z
UID:10000556-1741892400-1741892400@nightclub.to
SUMMARY:Hazlett
DESCRIPTION:
URL:https://nightclub.to/event/hazlett/
LOCATION:The Axis Club (formerly known as The Mod Club)\, Toronto
CATEGORIES:Rock
ATTACH;FMTTYPE=image/jpeg:https://nightclub.to/wp-content/uploads/2025/03/hazlett-scaled.jpg
END:VEVENT
BEGIN:VEVENT
DTSTART;TZID=America/Toronto:20250313T190000
DTEND;TZID=America/Toronto:20250313T190000
DTSTAMP:20260422T175749
CREATED:20250309T070706Z
LAST-MODIFIED:20250314T050041Z
UID:10000557-1741892400-1741892400@nightclub.to
SUMMARY:Thunder Queens
DESCRIPTION:
URL:https://nightclub.to/event/thunder-queens/
LOCATION:Velvet Underground\, Toronto
CATEGORIES:Rock
END:VEVENT
END:VCALENDAR