BEGIN:VCALENDAR
VERSION:2.0
PRODID:-//NightClub.TO - ECPv6.8.2.1//NONSGML v1.0//EN
CALSCALE:GREGORIAN
METHOD:PUBLISH
X-WR-CALNAME:NightClub.TO
X-ORIGINAL-URL:https://nightclub.to
X-WR-CALDESC:Events for NightClub.TO
REFRESH-INTERVAL;VALUE=DURATION:PT1H
X-Robots-Tag:noindex
X-PUBLISHED-TTL:PT1H
BEGIN:VTIMEZONE
TZID:America/Toronto
BEGIN:DAYLIGHT
TZOFFSETFROM:-0500
TZOFFSETTO:-0400
TZNAME:EDT
DTSTART:20250309T070000
END:DAYLIGHT
BEGIN:STANDARD
TZOFFSETFROM:-0400
TZOFFSETTO:-0500
TZNAME:EST
DTSTART:20251102T060000
END:STANDARD
END:VTIMEZONE
BEGIN:VEVENT
DTSTART;TZID=America/Toronto:20250826T180000
DTEND;TZID=America/Toronto:20250826T180000
DTSTAMP:20260422T090733
CREATED:20250823T090908Z
LAST-MODIFIED:20250827T035605Z
UID:10001015-1756231200-1756231200@nightclub.to
SUMMARY:Thousand Below - The Buried In Jade Tour
DESCRIPTION:
URL:https://nightclub.to/event/thousand-below-the-buried-in-jade-tour/
LOCATION:Velvet Underground\, Toronto
CATEGORIES:Rock
ATTACH;FMTTYPE=image/jpeg:https://nightclub.to/wp-content/uploads/2025/08/thousand-below-the-buried-in-jade-tour-scaled.jpg
END:VEVENT
BEGIN:VEVENT
DTSTART;TZID=America/Toronto:20250825T190000
DTEND;TZID=America/Toronto:20250825T190000
DTSTAMP:20260422T090733
CREATED:20250823T063820Z
LAST-MODIFIED:20250826T045724Z
UID:10001014-1756148400-1756148400@nightclub.to
SUMMARY:Jake Minch - George On Tour
DESCRIPTION:
URL:https://nightclub.to/event/jake-minch-george-on-tour/
LOCATION:Velvet Underground\, Toronto
CATEGORIES:Rock
ATTACH;FMTTYPE=image/jpeg:https://nightclub.to/wp-content/uploads/2025/08/jake-minch-george-on-tour.jpg
END:VEVENT
BEGIN:VEVENT
DTSTART;TZID=America/Toronto:20250823T190000
DTEND;TZID=America/Toronto:20250823T190000
DTSTAMP:20260422T090733
CREATED:20250820T050539Z
LAST-MODIFIED:20250824T050322Z
UID:10001010-1755975600-1755975600@nightclub.to
SUMMARY:Kiesza
DESCRIPTION:
URL:https://nightclub.to/event/kiesza/
LOCATION:Velvet Underground\, Toronto
CATEGORIES:Rock
ATTACH;FMTTYPE=image/jpeg:https://nightclub.to/wp-content/uploads/2025/08/kiesza.jpg
END:VEVENT
BEGIN:VEVENT
DTSTART;TZID=America/Toronto:20250808T190000
DTEND;TZID=America/Toronto:20250808T190000
DTSTAMP:20260422T090733
CREATED:20250804T060903Z
LAST-MODIFIED:20250805T203104Z
UID:10000976-1754679600-1754679600@nightclub.to
SUMMARY:Thomas Anders & Band featuring Precious Wilson
DESCRIPTION:
URL:https://nightclub.to/event/thomas-anders-band-featuring-precious-wilson-2/
LOCATION:Rebel\, Toronto
CATEGORIES:Rock
ATTACH;FMTTYPE=image/jpeg:https://nightclub.to/wp-content/uploads/2025/08/thomas-anders-band-featuring-precious-wilson-2.jpg
END:VEVENT
BEGIN:VEVENT
DTSTART;TZID=America/Toronto:20250808T190000
DTEND;TZID=America/Toronto:20250808T190000
DTSTAMP:20260422T090733
CREATED:20250804T040525Z
LAST-MODIFIED:20250809T035640Z
UID:10000972-1754679600-1754679600@nightclub.to
SUMMARY:Thomas Anders & Band featuring Precious Wilson
DESCRIPTION:
URL:https://nightclub.to/event/thomas-anders-band-featuring-precious-wilson/
LOCATION:Rebel\, Toronto
CATEGORIES:Rock
ATTACH;FMTTYPE=image/jpeg:https://nightclub.to/wp-content/uploads/2025/08/thomas-anders-band-featuring-precious-wilson.jpg
END:VEVENT
BEGIN:VEVENT
DTSTART;TZID=America/Toronto:20250808T190000
DTEND;TZID=America/Toronto:20250808T190000
DTSTAMP:20260422T090733
CREATED:20250804T040521Z
LAST-MODIFIED:20250809T045513Z
UID:10000973-1754679600-1754679600@nightclub.to
SUMMARY:WesGhost - CAN WE GO BACK TO SLEEP TOUR
DESCRIPTION:
URL:https://nightclub.to/event/wesghost-can-we-go-back-to-sleep-tour/
LOCATION:Velvet Underground\, Toronto
CATEGORIES:Rock
END:VEVENT
BEGIN:VEVENT
DTSTART;TZID=America/Toronto:20250807T190000
DTEND;TZID=America/Toronto:20250807T190000
DTSTAMP:20260422T090733
CREATED:20250803T110133Z
LAST-MODIFIED:20250808T050148Z
UID:10000971-1754593200-1754593200@nightclub.to
SUMMARY:Michael Marcagi
DESCRIPTION:
URL:https://nightclub.to/event/michael-marcagi/
LOCATION:The Danforth Music Hall\, Toronto
CATEGORIES:Rock
ATTACH;FMTTYPE=image/jpeg:https://nightclub.to/wp-content/uploads/2025/08/michael-marcagi.jpg
END:VEVENT
BEGIN:VEVENT
DTSTART;TZID=America/Toronto:20250806T183000
DTEND;TZID=America/Toronto:20250806T183000
DTSTAMP:20260422T090733
CREATED:20250803T070354Z
LAST-MODIFIED:20250807T045640Z
UID:10000970-1754505000-1754505000@nightclub.to
SUMMARY:Spike & the Gimme Gimmes - Wet\, Hot American Summer
DESCRIPTION:
URL:https://nightclub.to/event/spike-the-gimme-gimmes-wet-hot-american-summer/
LOCATION:The Danforth Music Hall\, Toronto
CATEGORIES:Rock
ATTACH;FMTTYPE=image/jpeg:https://nightclub.to/wp-content/uploads/2025/08/spike-the-gimme-gimmes-wet-hot-american-summer.jpg
END:VEVENT
BEGIN:VEVENT
DTSTART;TZID=America/Toronto:20250731T190000
DTEND;TZID=America/Toronto:20250731T190000
DTSTAMP:20260422T090733
CREATED:20250727T050726Z
LAST-MODIFIED:20250801T045738Z
UID:10000949-1753988400-1753988400@nightclub.to
SUMMARY:celebrating the 10 year anniversary of Everybody Wants - THE STRUTS
DESCRIPTION:
URL:https://nightclub.to/event/celebrating-the-10-year-anniversary-of-everybody-wants-the-struts/
LOCATION:The Danforth Music Hall\, Toronto
CATEGORIES:Rock
ATTACH;FMTTYPE=image/jpeg:https://nightclub.to/wp-content/uploads/2025/07/celebrating-the-10-year-anniversary-of-everybody-wants-the-struts.jpg
END:VEVENT
BEGIN:VEVENT
DTSTART;TZID=America/Toronto:20250720T190000
DTEND;TZID=America/Toronto:20250720T190000
DTSTAMP:20260422T090733
CREATED:20250719T000536Z
LAST-MODIFIED:20250721T050102Z
UID:10000930-1753038000-1753038000@nightclub.to
SUMMARY:The Coronas - MOVED TO VELVET UNDERGROUND
DESCRIPTION:
URL:https://nightclub.to/event/the-coronas-moved-to-velvet-underground/
LOCATION:Velvet Underground\, Toronto
CATEGORIES:Rock
ATTACH;FMTTYPE=image/jpeg:https://nightclub.to/wp-content/uploads/2025/07/the-coronas-moved-to-velvet-underground.jpg
END:VEVENT
BEGIN:VEVENT
DTSTART;TZID=America/Toronto:20250720T183000
DTEND;TZID=America/Toronto:20250720T183000
DTSTAMP:20260422T090733
CREATED:20250719T000541Z
LAST-MODIFIED:20250721T042952Z
UID:10000932-1753036200-1753036200@nightclub.to
SUMMARY:Whirr & Nothing
DESCRIPTION:
URL:https://nightclub.to/event/whirr-nothing/
LOCATION:The Danforth Music Hall\, Toronto
CATEGORIES:Rock
ATTACH;FMTTYPE=image/jpeg:https://nightclub.to/wp-content/uploads/2025/07/whirr-nothing.jpg
END:VEVENT
BEGIN:VEVENT
DTSTART;TZID=America/Toronto:20250718T183000
DTEND;TZID=America/Toronto:20250718T183000
DTSTAMP:20260422T090733
CREATED:20250713T063520Z
LAST-MODIFIED:20250719T042506Z
UID:10000919-1752863400-1752863400@nightclub.to
SUMMARY:PUP
DESCRIPTION:
URL:https://nightclub.to/event/pup/
LOCATION:The Danforth Music Hall\, Toronto
CATEGORIES:Rock
ATTACH;FMTTYPE=image/jpeg:https://nightclub.to/wp-content/uploads/2025/07/pup.jpg
END:VEVENT
BEGIN:VEVENT
DTSTART;TZID=America/Toronto:20250717T190000
DTEND;TZID=America/Toronto:20250717T190000
DTSTAMP:20260422T090733
CREATED:20250713T050631Z
LAST-MODIFIED:20250718T045944Z
UID:10000917-1752778800-1752778800@nightclub.to
SUMMARY:Tom Morello
DESCRIPTION:
URL:https://nightclub.to/event/tom-morello-2/
LOCATION:The Danforth Music Hall\, Toronto
CATEGORIES:Rock
ATTACH;FMTTYPE=image/jpeg:https://nightclub.to/wp-content/uploads/2025/07/tom-morello.jpg
END:VEVENT
BEGIN:VEVENT
DTSTART;TZID=America/Toronto:20250715T190000
DTEND;TZID=America/Toronto:20250715T190000
DTSTAMP:20260422T090733
CREATED:20250712T090807Z
LAST-MODIFIED:20250716T050145Z
UID:10000914-1752606000-1752606000@nightclub.to
SUMMARY:Tom Morello
DESCRIPTION:
URL:https://nightclub.to/event/tom-morello/
LOCATION:The Danforth Music Hall\, Toronto
CATEGORIES:Rock
ATTACH;FMTTYPE=image/jpeg:https://nightclub.to/wp-content/uploads/2025/07/tom-morello.jpg
END:VEVENT
BEGIN:VEVENT
DTSTART;TZID=America/Toronto:20250711T190000
DTEND;TZID=America/Toronto:20250711T190000
DTSTAMP:20260422T090733
CREATED:20250705T060442Z
LAST-MODIFIED:20250712T045947Z
UID:10000903-1752260400-1752260400@nightclub.to
SUMMARY:Kurt Vile & the Violators
DESCRIPTION:
URL:https://nightclub.to/event/kurt-vile-the-violators/
LOCATION:The Danforth Music Hall\, Toronto
CATEGORIES:Rock
ATTACH;FMTTYPE=image/jpeg:https://nightclub.to/wp-content/uploads/2025/07/kurt-vile-the-violators.jpg
END:VEVENT
BEGIN:VEVENT
DTSTART;TZID=America/Toronto:20250705T183000
DTEND;TZID=America/Toronto:20250705T183000
DTSTAMP:20260422T090733
CREATED:20250701T090819Z
LAST-MODIFIED:20250706T042850Z
UID:10000895-1751740200-1751740200@nightclub.to
SUMMARY:Phoneboy
DESCRIPTION:
URL:https://nightclub.to/event/phoneboy/
LOCATION:Velvet Underground\, Toronto
CATEGORIES:Rock
ATTACH;FMTTYPE=image/jpeg:https://nightclub.to/wp-content/uploads/2025/07/phoneboy.jpg
END:VEVENT
BEGIN:VEVENT
DTSTART;TZID=America/Toronto:20250703T190000
DTEND;TZID=America/Toronto:20250703T190000
DTSTAMP:20260422T090733
CREATED:20250629T170306Z
LAST-MODIFIED:20250704T045914Z
UID:10000886-1751569200-1751569200@nightclub.to
SUMMARY:Strung Out
DESCRIPTION:
URL:https://nightclub.to/event/strung-out/
LOCATION:The Mod Club (formerly known as The Axis Club)\, Toronto
CATEGORIES:Rock
ATTACH;FMTTYPE=image/jpeg:https://nightclub.to/wp-content/uploads/2025/06/strung-out.jpg
END:VEVENT
BEGIN:VEVENT
DTSTART;TZID=America/Toronto:20250630T190000
DTEND;TZID=America/Toronto:20250630T190000
DTSTAMP:20260422T090733
CREATED:20250622T143650Z
LAST-MODIFIED:20250701T045246Z
UID:10000868-1751310000-1751310000@nightclub.to
SUMMARY:The Cat Empire - Bird in Paradise Album Tour
DESCRIPTION:
URL:https://nightclub.to/event/the-cat-empire-bird-in-paradise-album-tour/
LOCATION:The Danforth Music Hall\, Toronto
CATEGORIES:Rock
ATTACH;FMTTYPE=image/jpeg:https://nightclub.to/wp-content/uploads/2025/06/the-cat-empire-bird-in-paradise-album-tour.jpg
END:VEVENT
BEGIN:VEVENT
DTSTART;TZID=America/Toronto:20250629T220000
DTEND;TZID=America/Toronto:20250629T220000
DTSTAMP:20260422T090733
CREATED:20250628T090259Z
LAST-MODIFIED:20250630T060249Z
UID:10000882-1751234400-1751234400@nightclub.to
SUMMARY:Revival
DESCRIPTION:
URL:https://nightclub.to/event/revival-2/
LOCATION:Rebel\, Toronto
CATEGORIES:Dance/Electronic,Rock
ATTACH;FMTTYPE=image/jpeg:https://nightclub.to/wp-content/uploads/2025/06/la-leche-revival-combo-ticket.jpg
END:VEVENT
BEGIN:VEVENT
DTSTART;TZID=America/Toronto:20250622T180000
DTEND;TZID=America/Toronto:20250622T180000
DTSTAMP:20260422T090733
CREATED:20250621T000250Z
LAST-MODIFIED:20250623T035911Z
UID:10000853-1750615200-1750615200@nightclub.to
SUMMARY:Miss May I
DESCRIPTION:
URL:https://nightclub.to/event/miss-may-i/
LOCATION:Velvet Underground\, Toronto
CATEGORIES:Rock
ATTACH;FMTTYPE=image/jpeg:https://nightclub.to/wp-content/uploads/2025/06/miss-may-i.jpg
END:VEVENT
BEGIN:VEVENT
DTSTART;TZID=America/Toronto:20250621T190000
DTEND;TZID=America/Toronto:20250621T201500
DTSTAMP:20260422T090733
CREATED:20250621T040718Z
LAST-MODIFIED:20250622T040220Z
UID:10000854-1750532400-1750536900@nightclub.to
SUMMARY:KiLLeR DWaRfS with very special guests Sven Gali
DESCRIPTION:
URL:https://nightclub.to/event/killer-dwarfs-with-very-special-guests-sven-gali/
LOCATION:The Phoenix Concert Theatre\, Toronto
CATEGORIES:Rock
ATTACH;FMTTYPE=image/png:https://nightclub.to/wp-content/uploads/2025/06/killer-dwarfs-with-very-special-guests-sven-gali.png
END:VEVENT
BEGIN:VEVENT
DTSTART;TZID=America/Toronto:20250621T180000
DTEND;TZID=America/Toronto:20250621T180000
DTSTAMP:20260422T090733
CREATED:20250620T000841Z
LAST-MODIFIED:20250622T040220Z
UID:10000852-1750528800-1750528800@nightclub.to
SUMMARY:Murder By Death - Farewell Tour
DESCRIPTION:
URL:https://nightclub.to/event/murder-by-death-farewell-tour/
LOCATION:The Danforth Music Hall\, Toronto
CATEGORIES:Rock
ATTACH;FMTTYPE=image/jpeg:https://nightclub.to/wp-content/uploads/2025/06/murder-by-death-farewell-tour.jpg
END:VEVENT
BEGIN:VEVENT
DTSTART;TZID=America/Toronto:20250614T190000
DTEND;TZID=America/Toronto:20250614T190000
DTSTAMP:20260422T090733
CREATED:20250612T050558Z
LAST-MODIFIED:20250615T050020Z
UID:10000831-1749927600-1749927600@nightclub.to
SUMMARY:The Watchmen
DESCRIPTION:
URL:https://nightclub.to/event/the-watchmen/
LOCATION:The Danforth Music Hall\, Toronto
CATEGORIES:Rock
ATTACH;FMTTYPE=image/jpeg:https://nightclub.to/wp-content/uploads/2025/06/the-watchmen-scaled.jpg
END:VEVENT
BEGIN:VEVENT
DTSTART;TZID=America/Toronto:20250613T190000
DTEND;TZID=America/Toronto:20250613T190000
DTSTAMP:20260422T090733
CREATED:20250609T040401Z
LAST-MODIFIED:20250613T235922Z
UID:10000826-1749841200-1749841200@nightclub.to
SUMMARY:Strange Advance with special guests The Box and Images In Vogue
DESCRIPTION:
URL:https://nightclub.to/event/strange-advance-with-special-guests-the-box-and-images-in-vogue/
LOCATION:The Phoenix Concert Theatre\, Toronto
CATEGORIES:Pop,Rock
ATTACH;FMTTYPE=image/png:https://nightclub.to/wp-content/uploads/2025/06/strange-advance-with-special-guests-the-box-and-images-in-vogue.png
END:VEVENT
BEGIN:VEVENT
DTSTART;TZID=America/Toronto:20250613T190000
DTEND;TZID=America/Toronto:20250613T190000
DTSTAMP:20260422T090733
CREATED:20250608T170617Z
LAST-MODIFIED:20250614T050440Z
UID:10000825-1749841200-1749841200@nightclub.to
SUMMARY:Provoker - mausoleum tour
DESCRIPTION:
URL:https://nightclub.to/event/provoker-mausoleum-tour/
LOCATION:The Mod Club (formerly known as The Axis Club)\, Toronto
CATEGORIES:Rock
ATTACH;FMTTYPE=image/jpeg:https://nightclub.to/wp-content/uploads/2025/06/provoker-mausoleum-tour.jpg
END:VEVENT
BEGIN:VEVENT
DTSTART;TZID=America/Toronto:20250613T190000
DTEND;TZID=America/Toronto:20250613T190000
DTSTAMP:20260422T090733
CREATED:20250608T101254Z
LAST-MODIFIED:20250614T050225Z
UID:10000824-1749841200-1749841200@nightclub.to
SUMMARY:Red Leather
DESCRIPTION:
URL:https://nightclub.to/event/red-leather/
LOCATION:Velvet Underground\, Toronto
CATEGORIES:Rock
ATTACH;FMTTYPE=image/jpeg:https://nightclub.to/wp-content/uploads/2025/06/red-leather.jpg
END:VEVENT
BEGIN:VEVENT
DTSTART;TZID=America/Toronto:20250611T190000
DTEND;TZID=America/Toronto:20250611T190000
DTSTAMP:20260422T090733
CREATED:20250608T063755Z
LAST-MODIFIED:20250612T045624Z
UID:10000822-1749668400-1749668400@nightclub.to
SUMMARY:Arm's Length
DESCRIPTION:
URL:https://nightclub.to/event/arms-length/
LOCATION:The Mod Club (formerly known as The Axis Club)\, Toronto
CATEGORIES:Rock
ATTACH;FMTTYPE=image/jpeg:https://nightclub.to/wp-content/uploads/2025/06/arms-length.jpg
END:VEVENT
BEGIN:VEVENT
DTSTART;TZID=America/Toronto:20250610T190000
DTEND;TZID=America/Toronto:20250610T190000
DTSTAMP:20260422T090733
CREATED:20250608T053247Z
LAST-MODIFIED:20250611T050158Z
UID:10000819-1749582000-1749582000@nightclub.to
SUMMARY:Sleigh Bells North American Tour 2025 with special guest Sophie Hunter
DESCRIPTION:
URL:https://nightclub.to/event/sleigh-bells-north-american-tour-2025-with-special-guest-sophie-hunter/
LOCATION:The Mod Club (formerly known as The Axis Club)\, Toronto
CATEGORIES:Rock
ATTACH;FMTTYPE=image/jpeg:https://nightclub.to/wp-content/uploads/2025/06/sleigh-bells-north-american-tour-2025-with-special-guest-sophie-hunter.jpg
END:VEVENT
BEGIN:VEVENT
DTSTART;TZID=America/Toronto:20250609T190000
DTEND;TZID=America/Toronto:20250609T190000
DTSTAMP:20260422T090733
CREATED:20250608T000424Z
LAST-MODIFIED:20250610T045832Z
UID:10000817-1749495600-1749495600@nightclub.to
SUMMARY:INOHA
DESCRIPTION:
URL:https://nightclub.to/event/inoha/
LOCATION:Velvet Underground\, Toronto
CATEGORIES:Rock
ATTACH;FMTTYPE=image/jpeg:https://nightclub.to/wp-content/uploads/2025/06/inoha.jpg
END:VEVENT
BEGIN:VEVENT
DTSTART;TZID=America/Toronto:20250608T170000
DTEND;TZID=America/Toronto:20250608T170000
DTSTAMP:20260422T090733
CREATED:20250607T000847Z
LAST-MODIFIED:20250609T035720Z
UID:10000814-1749402000-1749402000@nightclub.to
SUMMARY:HARMS WAY & FULL OF HELL
DESCRIPTION:
URL:https://nightclub.to/event/harms-way-full-of-hell/
LOCATION:The Mod Club (formerly known as The Axis Club)\, Toronto
CATEGORIES:Rock
ATTACH;FMTTYPE=image/jpeg:https://nightclub.to/wp-content/uploads/2025/06/harms-way-full-of-hell.jpg
END:VEVENT
END:VCALENDAR