BEGIN:VCALENDAR
VERSION:2.0
PRODID:-//NightClub.TO - ECPv6.8.2.1//NONSGML v1.0//EN
CALSCALE:GREGORIAN
METHOD:PUBLISH
X-ORIGINAL-URL:https://nightclub.to
X-WR-CALDESC:Events for NightClub.TO
REFRESH-INTERVAL;VALUE=DURATION:PT1H
X-Robots-Tag:noindex
X-PUBLISHED-TTL:PT1H
BEGIN:VTIMEZONE
TZID:America/Toronto
BEGIN:DAYLIGHT
TZOFFSETFROM:-0500
TZOFFSETTO:-0400
TZNAME:EDT
DTSTART:20250309T070000
END:DAYLIGHT
BEGIN:STANDARD
TZOFFSETFROM:-0400
TZOFFSETTO:-0500
TZNAME:EST
DTSTART:20251102T060000
END:STANDARD
END:VTIMEZONE
BEGIN:VEVENT
DTSTART;TZID=America/Toronto:20250919T190000
DTEND;TZID=America/Toronto:20250919T190000
DTSTAMP:20260422T054707
CREATED:20250918T000633Z
LAST-MODIFIED:20250920T050133Z
UID:10001091-1758308400-1758308400@nightclub.to
SUMMARY:The Slackers
DESCRIPTION:
URL:https://nightclub.to/event/the-slackers/
LOCATION:The Mod Club (formerly known as The Axis Club)\, Toronto
CATEGORIES:Rock
ATTACH;FMTTYPE=image/jpeg:https://nightclub.to/wp-content/uploads/2024/03/the-slackers-with-some-ska-band.jpg
END:VEVENT
BEGIN:VEVENT
DTSTART;TZID=America/Toronto:20250919T180000
DTEND;TZID=America/Toronto:20250919T180000
DTSTAMP:20260422T054707
CREATED:20250918T000635Z
LAST-MODIFIED:20250920T040147Z
UID:10001090-1758304800-1758304800@nightclub.to
SUMMARY:THE BOUNCING SOULS EAST COAST! F#CK YOU! TOUR
DESCRIPTION:
URL:https://nightclub.to/event/the-bouncing-souls-east-coast-fck-you-tour/
LOCATION:The Danforth Music Hall\, Toronto
CATEGORIES:Rock
ATTACH;FMTTYPE=image/jpeg:https://nightclub.to/wp-content/uploads/2025/09/the-bouncing-souls-east-coast-fck-you-tour.jpg
END:VEVENT
BEGIN:VEVENT
DTSTART;TZID=America/Toronto:20250918T190000
DTEND;TZID=America/Toronto:20250918T190000
DTSTAMP:20260422T054707
CREATED:20250915T050738Z
LAST-MODIFIED:20250919T045716Z
UID:10001084-1758222000-1758222000@nightclub.to
SUMMARY:Kula Shaker
DESCRIPTION:
URL:https://nightclub.to/event/kula-shaker/
LOCATION:The Mod Club (formerly known as The Axis Club)\, Toronto
CATEGORIES:Rock
ATTACH;FMTTYPE=image/jpeg:https://nightclub.to/wp-content/uploads/2025/09/kula-shaker.jpg
END:VEVENT
BEGIN:VEVENT
DTSTART;TZID=America/Toronto:20250918T180000
DTEND;TZID=America/Toronto:20250918T180000
DTSTAMP:20260422T054707
CREATED:20250915T050515Z
LAST-MODIFIED:20250919T035941Z
UID:10001083-1758218400-1758218400@nightclub.to
SUMMARY:Between the Buried and Me & Hail The Sun
DESCRIPTION:
URL:https://nightclub.to/event/between-the-buried-and-me-hail-the-sun/
LOCATION:The Danforth Music Hall\, Toronto
CATEGORIES:Rock
ATTACH;FMTTYPE=image/jpeg:https://nightclub.to/wp-content/uploads/2025/09/between-the-buried-and-me-hail-the-sun.jpg
END:VEVENT
BEGIN:VEVENT
DTSTART;TZID=America/Toronto:20250917T190000
DTEND;TZID=America/Toronto:20250917T190000
DTSTAMP:20260422T054707
CREATED:20250914T050519Z
LAST-MODIFIED:20250918T050049Z
UID:10001079-1758135600-1758135600@nightclub.to
SUMMARY:X Ambassadors - The VHS(X) North American Tour
DESCRIPTION:
URL:https://nightclub.to/event/x-ambassadors-the-vhsx-north-american-tour/
LOCATION:The Danforth Music Hall\, Toronto
CATEGORIES:Rock
ATTACH;FMTTYPE=image/jpeg:https://nightclub.to/wp-content/uploads/2025/09/x-ambassadors-the-vhsx-north-american-tour.jpg
END:VEVENT
BEGIN:VEVENT
DTSTART;TZID=America/Toronto:20250916T190000
DTEND;TZID=America/Toronto:20250916T190000
DTSTAMP:20260422T054707
CREATED:20250913T092054Z
LAST-MODIFIED:20250917T050236Z
UID:10001078-1758049200-1758049200@nightclub.to
SUMMARY:quannnic
DESCRIPTION:
URL:https://nightclub.to/event/quannnic/
LOCATION:Velvet Underground\, Toronto
CATEGORIES:Rock
ATTACH;FMTTYPE=image/jpeg:https://nightclub.to/wp-content/uploads/2025/09/quannnic-scaled.jpg
END:VEVENT
BEGIN:VEVENT
DTSTART;TZID=America/Toronto:20250915T190000
DTEND;TZID=America/Toronto:20250915T190000
DTSTAMP:20260422T054707
CREATED:20250913T063804Z
LAST-MODIFIED:20250916T045630Z
UID:10001076-1757962800-1757962800@nightclub.to
SUMMARY:Spacey Jane - If That Makes Sense Tour
DESCRIPTION:
URL:https://nightclub.to/event/spacey-jane-if-that-makes-sense-tour/
LOCATION:The Danforth Music Hall\, Toronto
CATEGORIES:Rock
ATTACH;FMTTYPE=image/jpeg:https://nightclub.to/wp-content/uploads/2025/09/spacey-jane-if-that-makes-sense-tour.jpg
END:VEVENT
BEGIN:VEVENT
DTSTART;TZID=America/Toronto:20250914T190000
DTEND;TZID=America/Toronto:20250914T190000
DTSTAMP:20260422T054707
CREATED:20250913T000558Z
LAST-MODIFIED:20250915T050239Z
UID:10001073-1757876400-1757876400@nightclub.to
SUMMARY:The Brian Jonestown Massacre
DESCRIPTION:
URL:https://nightclub.to/event/the-brian-jonestown-massacre/
LOCATION:The Danforth Music Hall\, Toronto
CATEGORIES:Rock
ATTACH;FMTTYPE=image/jpeg:https://nightclub.to/wp-content/uploads/2025/09/the-brian-jonestown-massacre.jpg
END:VEVENT
BEGIN:VEVENT
DTSTART;TZID=America/Toronto:20250913T190000
DTEND;TZID=America/Toronto:20250913T190000
DTSTAMP:20260422T054707
CREATED:20250912T000210Z
LAST-MODIFIED:20250914T045652Z
UID:10001070-1757790000-1757790000@nightclub.to
SUMMARY:SE SO NEON - NOW North American Tour 2025
DESCRIPTION:
URL:https://nightclub.to/event/se-so-neon-now-north-american-tour-2025/
LOCATION:The Phoenix Concert Theatre\, Toronto
CATEGORIES:Rock
ATTACH;FMTTYPE=image/jpeg:https://nightclub.to/wp-content/uploads/2025/09/se-so-neon-now-north-american-tour-2025.jpg
END:VEVENT
BEGIN:VEVENT
DTSTART;TZID=America/Toronto:20250912T200000
DTEND;TZID=America/Toronto:20250912T200000
DTSTAMP:20260422T054707
CREATED:20250911T051847Z
LAST-MODIFIED:20250913T000104Z
UID:10001068-1757707200-1757707200@nightclub.to
SUMMARY:The Darkness: Dreams on Toast with Mark Daly
DESCRIPTION:
URL:https://nightclub.to/event/the-darkness-dreams-on-toast-with-mark-daly/
LOCATION:The Phoenix Concert Theatre\, Toronto
CATEGORIES:Rock
ATTACH;FMTTYPE=image/jpeg:https://nightclub.to/wp-content/uploads/2025/09/the-darkness-dreams-on-toast-with-mark-daly-scaled.jpg
END:VEVENT
BEGIN:VEVENT
DTSTART;TZID=America/Toronto:20250911T190000
DTEND;TZID=America/Toronto:20250911T190000
DTSTAMP:20260422T054707
CREATED:20250907T101009Z
LAST-MODIFIED:20250912T045639Z
UID:10001060-1757617200-1757617200@nightclub.to
SUMMARY:The Waterboys
DESCRIPTION:
URL:https://nightclub.to/event/the-waterboys/
LOCATION:The Danforth Music Hall\, Toronto
CATEGORIES:Rock
ATTACH;FMTTYPE=image/jpeg:https://nightclub.to/wp-content/uploads/2025/09/the-waterboys.jpg
END:VEVENT
BEGIN:VEVENT
DTSTART;TZID=America/Toronto:20250910T180000
DTEND;TZID=America/Toronto:20250910T180000
DTSTAMP:20260422T054707
CREATED:20250907T090515Z
LAST-MODIFIED:20250911T040209Z
UID:10001059-1757527200-1757527200@nightclub.to
SUMMARY:Slow Crush
DESCRIPTION:
URL:https://nightclub.to/event/slow-crush/
LOCATION:Velvet Underground\, Toronto
CATEGORIES:Rock
ATTACH;FMTTYPE=image/jpeg:https://nightclub.to/wp-content/uploads/2025/09/slow-crush.jpg
END:VEVENT
BEGIN:VEVENT
DTSTART;TZID=America/Toronto:20250909T190000
DTEND;TZID=America/Toronto:20250909T190000
DTSTAMP:20260422T054707
CREATED:20250907T040358Z
LAST-MODIFIED:20250910T045831Z
UID:10001055-1757444400-1757444400@nightclub.to
SUMMARY:Hazlett
DESCRIPTION:
URL:https://nightclub.to/event/hazlett-2/
LOCATION:The Danforth Music Hall\, Toronto
CATEGORIES:Rock
ATTACH;FMTTYPE=image/jpeg:https://nightclub.to/wp-content/uploads/2025/09/hazlett-2.jpg
END:VEVENT
BEGIN:VEVENT
DTSTART;TZID=America/Toronto:20250909T190000
DTEND;TZID=America/Toronto:20250909T190000
DTSTAMP:20260422T054707
CREATED:20250907T040352Z
LAST-MODIFIED:20250910T045830Z
UID:10001054-1757444400-1757444400@nightclub.to
SUMMARY:Alice Merton
DESCRIPTION:
URL:https://nightclub.to/event/alice-merton/
LOCATION:The Mod Club (formerly known as The Axis Club)\, Toronto
CATEGORIES:Rock
ATTACH;FMTTYPE=image/jpeg:https://nightclub.to/wp-content/uploads/2025/09/alice-merton.jpg
END:VEVENT
BEGIN:VEVENT
DTSTART;TZID=America/Toronto:20250906T193000
DTEND;TZID=America/Toronto:20250906T193000
DTSTAMP:20260422T054707
CREATED:20250904T040552Z
LAST-MODIFIED:20250907T045743Z
UID:10001045-1757187000-1757187000@nightclub.to
SUMMARY:Geordie Kieffer: Hush Hush Canada Tour
DESCRIPTION:
URL:https://nightclub.to/event/geordie-kieffer-hush-hush-canada-tour/
LOCATION:The Mod Club (formerly known as The Axis Club)\, Toronto
CATEGORIES:Rock
ATTACH;FMTTYPE=image/jpeg:https://nightclub.to/wp-content/uploads/2025/09/geordie-kieffer-hush-hush-canada-tour-scaled.jpg
END:VEVENT
BEGIN:VEVENT
DTSTART;TZID=America/Toronto:20250906T190000
DTEND;TZID=America/Toronto:20250906T201500
DTSTAMP:20260422T054707
CREATED:20250906T063629Z
LAST-MODIFIED:20250907T035822Z
UID:10001053-1757185200-1757189700@nightclub.to
SUMMARY:La Dispute
DESCRIPTION:
URL:https://nightclub.to/event/la-dispute/
LOCATION:The Phoenix Concert Theatre\, Toronto
CATEGORIES:Rock
ATTACH;FMTTYPE=image/png:https://nightclub.to/wp-content/uploads/2025/09/la-dispute.png
END:VEVENT
BEGIN:VEVENT
DTSTART;TZID=America/Toronto:20250906T180000
DTEND;TZID=America/Toronto:20250906T180000
DTSTAMP:20260422T054707
CREATED:20250905T000359Z
LAST-MODIFIED:20250907T035655Z
UID:10001048-1757181600-1757181600@nightclub.to
SUMMARY:Comeback Kid Wake The Dead 20 Year Anniversary Tour
DESCRIPTION:
URL:https://nightclub.to/event/comeback-kid-wake-the-dead-20-year-anniversary-tour/
LOCATION:The Danforth Music Hall\, Toronto
CATEGORIES:Rock
ATTACH;FMTTYPE=image/jpeg:https://nightclub.to/wp-content/uploads/2025/09/comeback-kid-wake-the-dead-20-year-anniversary-tour.jpg
END:VEVENT
BEGIN:VEVENT
DTSTART;TZID=America/Toronto:20250905T223000
DTEND;TZID=America/Toronto:20250905T223000
DTSTAMP:20260422T054707
CREATED:20250611T142531Z
LAST-MODIFIED:20250906T063200Z
UID:10000866-1757111400-1757111400@nightclub.to
SUMMARY:Sizzla: Live In Concert
DESCRIPTION:
URL:https://nightclub.to/event/sizzla-live-in-concert/
LOCATION:Rebel\, Toronto
CATEGORIES:Rock
ATTACH;FMTTYPE=image/jpeg:https://nightclub.to/wp-content/uploads/2025/06/sizzla-live-in-concert.jpg
END:VEVENT
BEGIN:VEVENT
DTSTART;TZID=America/Toronto:20250905T183000
DTEND;TZID=America/Toronto:20250905T183000
DTSTAMP:20260422T054707
CREATED:20250901T040243Z
LAST-MODIFIED:20250906T043051Z
UID:10001038-1757097000-1757097000@nightclub.to
SUMMARY:Descendents
DESCRIPTION:
URL:https://nightclub.to/event/descendents/
LOCATION:The Danforth Music Hall\, Toronto
CATEGORIES:Rock
ATTACH;FMTTYPE=image/jpeg:https://nightclub.to/wp-content/uploads/2025/09/descendents.jpg
END:VEVENT
BEGIN:VEVENT
DTSTART;TZID=America/Toronto:20250826T190000
DTEND;TZID=America/Toronto:20250826T190000
DTSTAMP:20260422T054707
CREATED:20250824T000214Z
LAST-MODIFIED:20250827T045940Z
UID:10001016-1756234800-1756234800@nightclub.to
SUMMARY:Goldford
DESCRIPTION:
URL:https://nightclub.to/event/goldford/
LOCATION:The Mod Club (formerly known as The Axis Club)\, Toronto
CATEGORIES:Rock
ATTACH;FMTTYPE=image/jpeg:https://nightclub.to/wp-content/uploads/2025/08/goldford.jpg
END:VEVENT
BEGIN:VEVENT
DTSTART;TZID=America/Toronto:20250826T180000
DTEND;TZID=America/Toronto:20250826T180000
DTSTAMP:20260422T054707
CREATED:20250823T090908Z
LAST-MODIFIED:20250827T035605Z
UID:10001015-1756231200-1756231200@nightclub.to
SUMMARY:Thousand Below - The Buried In Jade Tour
DESCRIPTION:
URL:https://nightclub.to/event/thousand-below-the-buried-in-jade-tour/
LOCATION:Velvet Underground\, Toronto
CATEGORIES:Rock
ATTACH;FMTTYPE=image/jpeg:https://nightclub.to/wp-content/uploads/2025/08/thousand-below-the-buried-in-jade-tour-scaled.jpg
END:VEVENT
BEGIN:VEVENT
DTSTART;TZID=America/Toronto:20250825T190000
DTEND;TZID=America/Toronto:20250825T190000
DTSTAMP:20260422T054707
CREATED:20250823T063820Z
LAST-MODIFIED:20250826T045724Z
UID:10001014-1756148400-1756148400@nightclub.to
SUMMARY:Jake Minch - George On Tour
DESCRIPTION:
URL:https://nightclub.to/event/jake-minch-george-on-tour/
LOCATION:Velvet Underground\, Toronto
CATEGORIES:Rock
ATTACH;FMTTYPE=image/jpeg:https://nightclub.to/wp-content/uploads/2025/08/jake-minch-george-on-tour.jpg
END:VEVENT
BEGIN:VEVENT
DTSTART;TZID=America/Toronto:20250823T190000
DTEND;TZID=America/Toronto:20250823T190000
DTSTAMP:20260422T054707
CREATED:20250820T050539Z
LAST-MODIFIED:20250824T050322Z
UID:10001010-1755975600-1755975600@nightclub.to
SUMMARY:Kiesza
DESCRIPTION:
URL:https://nightclub.to/event/kiesza/
LOCATION:Velvet Underground\, Toronto
CATEGORIES:Rock
ATTACH;FMTTYPE=image/jpeg:https://nightclub.to/wp-content/uploads/2025/08/kiesza.jpg
END:VEVENT
BEGIN:VEVENT
DTSTART;TZID=America/Toronto:20250808T190000
DTEND;TZID=America/Toronto:20250808T190000
DTSTAMP:20260422T054707
CREATED:20250804T060903Z
LAST-MODIFIED:20250805T203104Z
UID:10000976-1754679600-1754679600@nightclub.to
SUMMARY:Thomas Anders & Band featuring Precious Wilson
DESCRIPTION:
URL:https://nightclub.to/event/thomas-anders-band-featuring-precious-wilson-2/
LOCATION:Rebel\, Toronto
CATEGORIES:Rock
ATTACH;FMTTYPE=image/jpeg:https://nightclub.to/wp-content/uploads/2025/08/thomas-anders-band-featuring-precious-wilson-2.jpg
END:VEVENT
BEGIN:VEVENT
DTSTART;TZID=America/Toronto:20250808T190000
DTEND;TZID=America/Toronto:20250808T190000
DTSTAMP:20260422T054707
CREATED:20250804T040525Z
LAST-MODIFIED:20250809T035640Z
UID:10000972-1754679600-1754679600@nightclub.to
SUMMARY:Thomas Anders & Band featuring Precious Wilson
DESCRIPTION:
URL:https://nightclub.to/event/thomas-anders-band-featuring-precious-wilson/
LOCATION:Rebel\, Toronto
CATEGORIES:Rock
ATTACH;FMTTYPE=image/jpeg:https://nightclub.to/wp-content/uploads/2025/08/thomas-anders-band-featuring-precious-wilson.jpg
END:VEVENT
BEGIN:VEVENT
DTSTART;TZID=America/Toronto:20250808T190000
DTEND;TZID=America/Toronto:20250808T190000
DTSTAMP:20260422T054707
CREATED:20250804T040521Z
LAST-MODIFIED:20250809T045513Z
UID:10000973-1754679600-1754679600@nightclub.to
SUMMARY:WesGhost - CAN WE GO BACK TO SLEEP TOUR
DESCRIPTION:
URL:https://nightclub.to/event/wesghost-can-we-go-back-to-sleep-tour/
LOCATION:Velvet Underground\, Toronto
CATEGORIES:Rock
END:VEVENT
BEGIN:VEVENT
DTSTART;TZID=America/Toronto:20250807T190000
DTEND;TZID=America/Toronto:20250807T190000
DTSTAMP:20260422T054707
CREATED:20250803T110133Z
LAST-MODIFIED:20250808T050148Z
UID:10000971-1754593200-1754593200@nightclub.to
SUMMARY:Michael Marcagi
DESCRIPTION:
URL:https://nightclub.to/event/michael-marcagi/
LOCATION:The Danforth Music Hall\, Toronto
CATEGORIES:Rock
ATTACH;FMTTYPE=image/jpeg:https://nightclub.to/wp-content/uploads/2025/08/michael-marcagi.jpg
END:VEVENT
BEGIN:VEVENT
DTSTART;TZID=America/Toronto:20250806T183000
DTEND;TZID=America/Toronto:20250806T183000
DTSTAMP:20260422T054707
CREATED:20250803T070354Z
LAST-MODIFIED:20250807T045640Z
UID:10000970-1754505000-1754505000@nightclub.to
SUMMARY:Spike & the Gimme Gimmes - Wet\, Hot American Summer
DESCRIPTION:
URL:https://nightclub.to/event/spike-the-gimme-gimmes-wet-hot-american-summer/
LOCATION:The Danforth Music Hall\, Toronto
CATEGORIES:Rock
ATTACH;FMTTYPE=image/jpeg:https://nightclub.to/wp-content/uploads/2025/08/spike-the-gimme-gimmes-wet-hot-american-summer.jpg
END:VEVENT
BEGIN:VEVENT
DTSTART;TZID=America/Toronto:20250731T190000
DTEND;TZID=America/Toronto:20250731T190000
DTSTAMP:20260422T054707
CREATED:20250727T050726Z
LAST-MODIFIED:20250801T045738Z
UID:10000949-1753988400-1753988400@nightclub.to
SUMMARY:celebrating the 10 year anniversary of Everybody Wants - THE STRUTS
DESCRIPTION:
URL:https://nightclub.to/event/celebrating-the-10-year-anniversary-of-everybody-wants-the-struts/
LOCATION:The Danforth Music Hall\, Toronto
CATEGORIES:Rock
ATTACH;FMTTYPE=image/jpeg:https://nightclub.to/wp-content/uploads/2025/07/celebrating-the-10-year-anniversary-of-everybody-wants-the-struts.jpg
END:VEVENT
BEGIN:VEVENT
DTSTART;TZID=America/Toronto:20250720T190000
DTEND;TZID=America/Toronto:20250720T190000
DTSTAMP:20260422T054707
CREATED:20250719T000536Z
LAST-MODIFIED:20250721T050102Z
UID:10000930-1753038000-1753038000@nightclub.to
SUMMARY:The Coronas - MOVED TO VELVET UNDERGROUND
DESCRIPTION:
URL:https://nightclub.to/event/the-coronas-moved-to-velvet-underground/
LOCATION:Velvet Underground\, Toronto
CATEGORIES:Rock
ATTACH;FMTTYPE=image/jpeg:https://nightclub.to/wp-content/uploads/2025/07/the-coronas-moved-to-velvet-underground.jpg
END:VEVENT
END:VCALENDAR