BEGIN:VCALENDAR
VERSION:2.0
PRODID:-//NightClub.TO - ECPv6.8.2.1//NONSGML v1.0//EN
CALSCALE:GREGORIAN
METHOD:PUBLISH
X-WR-CALNAME:NightClub.TO
X-ORIGINAL-URL:https://nightclub.to
X-WR-CALDESC:Events for NightClub.TO
REFRESH-INTERVAL;VALUE=DURATION:PT1H
X-Robots-Tag:noindex
X-PUBLISHED-TTL:PT1H
BEGIN:VTIMEZONE
TZID:America/Toronto
BEGIN:DAYLIGHT
TZOFFSETFROM:-0500
TZOFFSETTO:-0400
TZNAME:EDT
DTSTART:20250309T070000
END:DAYLIGHT
BEGIN:STANDARD
TZOFFSETFROM:-0400
TZOFFSETTO:-0500
TZNAME:EST
DTSTART:20251102T060000
END:STANDARD
BEGIN:DAYLIGHT
TZOFFSETFROM:-0500
TZOFFSETTO:-0400
TZNAME:EDT
DTSTART:20260308T070000
END:DAYLIGHT
BEGIN:STANDARD
TZOFFSETFROM:-0400
TZOFFSETTO:-0500
TZNAME:EST
DTSTART:20261101T060000
END:STANDARD
END:VTIMEZONE
BEGIN:VEVENT
DTSTART;TZID=America/Toronto:20260411T190000
DTEND;TZID=America/Toronto:20260411T190000
DTSTAMP:20260419T162824
CREATED:20251217T191553Z
LAST-MODIFIED:20260217T073941Z
UID:10001435-1775934000-1775934000@nightclub.to
SUMMARY:The Academy Is... - Almost Here. 20th Anniversary Tour
DESCRIPTION:
URL:https://nightclub.to/event/the-academy-is-almost-here-20th-anniversary-tour/
LOCATION:The Danforth Music Hall\, Toronto
CATEGORIES:Rock
ATTACH;FMTTYPE=image/jpeg:https://nightclub.to/wp-content/uploads/2025/12/the-academy-is-almost-here-20th-anniversary-tour.jpg
END:VEVENT
BEGIN:VEVENT
DTSTART;TZID=America/Toronto:20260326T180000
DTEND;TZID=America/Toronto:20260326T180000
DTSTAMP:20260419T162824
CREATED:20260321T090729Z
LAST-MODIFIED:20260326T182212Z
UID:10001601-1774548000-1774548000@nightclub.to
SUMMARY:Joyce Manor\, Militarie Gun\, Teen Mortgage\, & Combat
DESCRIPTION:
URL:https://nightclub.to/event/joyce-manor-militarie-gun-teen-mortgage-combat/
LOCATION:The Danforth Music Hall\, Toronto
CATEGORIES:Rock
ATTACH;FMTTYPE=image/jpeg:https://nightclub.to/wp-content/uploads/2026/03/joyce-manor-militarie-gun-teen-mortgage-combat.jpg
END:VEVENT
BEGIN:VEVENT
DTSTART;TZID=America/Toronto:20260325T190000
DTEND;TZID=America/Toronto:20260325T190000
DTSTAMP:20260419T162824
CREATED:20260321T080858Z
LAST-MODIFIED:20260326T045737Z
UID:10001600-1774465200-1774465200@nightclub.to
SUMMARY:Rhye
DESCRIPTION:
URL:https://nightclub.to/event/rhye/
LOCATION:The Mod Club\, Toronto
CATEGORIES:Rock
ATTACH;FMTTYPE=image/jpeg:https://nightclub.to/wp-content/uploads/2026/03/rhye-scaled.jpg
END:VEVENT
BEGIN:VEVENT
DTSTART;TZID=America/Toronto:20260323T190000
DTEND;TZID=America/Toronto:20260323T190000
DTSTAMP:20260419T162824
CREATED:20260321T060753Z
LAST-MODIFIED:20260324T035753Z
UID:10001598-1774292400-1774292400@nightclub.to
SUMMARY:HighSchool
DESCRIPTION:
URL:https://nightclub.to/event/highschool/
LOCATION:Drake Underground\, Toronto
CATEGORIES:Alternative,Rock
ATTACH;FMTTYPE=image/jpeg:https://nightclub.to/wp-content/uploads/2026/03/highschool.jpg
END:VEVENT
BEGIN:VEVENT
DTSTART;TZID=America/Toronto:20260323T190000
DTEND;TZID=America/Toronto:20260323T190000
DTSTAMP:20260419T162824
CREATED:20260320T070649Z
LAST-MODIFIED:20260324T045824Z
UID:10001597-1774292400-1774292400@nightclub.to
SUMMARY:Eliza McLamb - Good Story Tour
DESCRIPTION:
URL:https://nightclub.to/event/eliza-mclamb-good-story-tour/
LOCATION:The Mod Club\, Toronto
CATEGORIES:Rock
ATTACH;FMTTYPE=image/jpeg:https://nightclub.to/wp-content/uploads/2026/03/eliza-mclamb-good-story-tour.jpg
END:VEVENT
BEGIN:VEVENT
DTSTART;TZID=America/Toronto:20260321T190000
DTEND;TZID=America/Toronto:20260321T190000
DTSTAMP:20260419T162824
CREATED:20260319T040348Z
LAST-MODIFIED:20260322T045820Z
UID:10001593-1774119600-1774119600@nightclub.to
SUMMARY:Sloan - A Tour de Force
DESCRIPTION:
URL:https://nightclub.to/event/sloan-a-tour-de-force/
LOCATION:The Danforth Music Hall\, Toronto
CATEGORIES:Rock
ATTACH;FMTTYPE=image/jpeg:https://nightclub.to/wp-content/uploads/2026/03/sloan-a-tour-de-force-scaled.jpg
END:VEVENT
BEGIN:VEVENT
DTSTART;TZID=America/Toronto:20260319T183000
DTEND;TZID=America/Toronto:20260319T183000
DTSTAMP:20260419T162824
CREATED:20260316T050827Z
LAST-MODIFIED:20260320T043151Z
UID:10001588-1773945000-1773945000@nightclub.to
SUMMARY:EIDOLA "THE EVISCERATE // MEND TOUR"
DESCRIPTION:
URL:https://nightclub.to/event/eidola-the-eviscerate-mend-tour/
LOCATION:The Mod Club\, Toronto
CATEGORIES:Rock
ATTACH;FMTTYPE=image/jpeg:https://nightclub.to/wp-content/uploads/2026/03/eidola-the-eviscerate-mend-tour.jpg
END:VEVENT
BEGIN:VEVENT
DTSTART;TZID=America/Toronto:20260317T190000
DTEND;TZID=America/Toronto:20260317T190000
DTSTAMP:20260419T162824
CREATED:20260315T000445Z
LAST-MODIFIED:20260318T045842Z
UID:10001583-1773774000-1773774000@nightclub.to
SUMMARY:The Mary Wallopers
DESCRIPTION:
URL:https://nightclub.to/event/the-mary-wallopers/
LOCATION:The Danforth Music Hall\, Toronto
CATEGORIES:Rock
ATTACH;FMTTYPE=image/jpeg:https://nightclub.to/wp-content/uploads/2026/03/the-mary-wallopers.jpg
END:VEVENT
BEGIN:VEVENT
DTSTART;TZID=America/Toronto:20260313T190000
DTEND;TZID=America/Toronto:20260313T190000
DTSTAMP:20260419T162824
CREATED:20260308T102054Z
LAST-MODIFIED:20260314T045612Z
UID:10001568-1773428400-1773428400@nightclub.to
SUMMARY:John Shambles
DESCRIPTION:
URL:https://nightclub.to/event/john-shambles/
LOCATION:The Mod Club\, Toronto
CATEGORIES:Rock
ATTACH;FMTTYPE=image/jpeg:https://nightclub.to/wp-content/uploads/2026/03/john-shambles.jpg
END:VEVENT
BEGIN:VEVENT
DTSTART;TZID=America/Toronto:20260311T180000
DTEND;TZID=America/Toronto:20260311T180000
DTSTAMP:20260419T162824
CREATED:20260308T050556Z
LAST-MODIFIED:20260312T040251Z
UID:10001565-1773252000-1773252000@nightclub.to
SUMMARY:Capstan: Cultural Divide 10 Year Anniversary Tour
DESCRIPTION:
URL:https://nightclub.to/event/capstan-cultural-divide-10-year-anniversary-tour/
LOCATION:The Mod Club\, Toronto
CATEGORIES:Rock
ATTACH;FMTTYPE=image/jpeg:https://nightclub.to/wp-content/uploads/2026/03/capstan-cultural-divide-10-year-anniversary-tour.jpg
END:VEVENT
BEGIN:VEVENT
DTSTART;TZID=America/Toronto:20260308T180000
DTEND;TZID=America/Toronto:20260308T180000
DTSTAMP:20260419T162824
CREATED:20260306T144018Z
LAST-MODIFIED:20260309T050048Z
UID:10001560-1772992800-1772992800@nightclub.to
SUMMARY:Mammoth - The End Tour
DESCRIPTION:
URL:https://nightclub.to/event/mammoth-the-end-tour/
LOCATION:The Danforth Music Hall\, Toronto
CATEGORIES:Rock
ATTACH;FMTTYPE=image/jpeg:https://nightclub.to/wp-content/uploads/2026/03/mammoth-the-end-tour.jpg
END:VEVENT
BEGIN:VEVENT
DTSTART;TZID=America/Toronto:20260304T190000
DTEND;TZID=America/Toronto:20260304T190000
DTSTAMP:20260419T162824
CREATED:20260228T100504Z
LAST-MODIFIED:20260305T055721Z
UID:10001550-1772650800-1772650800@nightclub.to
SUMMARY:Peaches - No Lube So Rude Tour
DESCRIPTION:
URL:https://nightclub.to/event/peaches-no-lube-so-rude-tour/
LOCATION:The Danforth Music Hall\, Toronto
CATEGORIES:Rock
ATTACH;FMTTYPE=image/jpeg:https://nightclub.to/wp-content/uploads/2026/02/peaches-no-lube-so-rude-tour.jpg
END:VEVENT
BEGIN:VEVENT
DTSTART;TZID=America/Toronto:20260220T190000
DTEND;TZID=America/Toronto:20260220T190000
DTSTAMP:20260419T162824
CREATED:20260215T070500Z
LAST-MODIFIED:20260221T065928Z
UID:10001521-1771614000-1771614000@nightclub.to
SUMMARY:Big Sugar
DESCRIPTION:
URL:https://nightclub.to/event/big-sugar/
LOCATION:The Danforth Music Hall\, Toronto
CATEGORIES:Rock
ATTACH;FMTTYPE=image/jpeg:https://nightclub.to/wp-content/uploads/2026/02/big-sugar.jpg
END:VEVENT
BEGIN:VEVENT
DTSTART;TZID=America/Toronto:20260212T190000
DTEND;TZID=America/Toronto:20260212T190000
DTSTAMP:20260419T162824
CREATED:20260207T073744Z
LAST-MODIFIED:20260213T055912Z
UID:10001498-1770922800-1770922800@nightclub.to
SUMMARY:The Barr Brothers - Let It Hiss Tour
DESCRIPTION:
URL:https://nightclub.to/event/the-barr-brothers-let-it-hiss-tour/
LOCATION:The Danforth Music Hall\, Toronto
CATEGORIES:Rock
ATTACH;FMTTYPE=image/jpeg:https://nightclub.to/wp-content/uploads/2026/02/the-barr-brothers-let-it-hiss-tour.jpg
END:VEVENT
BEGIN:VEVENT
DTSTART;TZID=America/Toronto:20260210T190000
DTEND;TZID=America/Toronto:20260210T190000
DTSTAMP:20260419T162824
CREATED:20260207T070644Z
LAST-MODIFIED:20260211T055950Z
UID:10001497-1770750000-1770750000@nightclub.to
SUMMARY:Summer Salt - Reside North America
DESCRIPTION:
URL:https://nightclub.to/event/summer-salt-reside-north-america/
LOCATION:The Mod Club\, Toronto
CATEGORIES:Rock
ATTACH;FMTTYPE=image/jpeg:https://nightclub.to/wp-content/uploads/2026/02/summer-salt-reside-north-america.jpg
END:VEVENT
BEGIN:VEVENT
DTSTART;TZID=America/Toronto:20260207T193000
DTEND;TZID=America/Toronto:20260207T193000
DTSTAMP:20260419T162824
CREATED:20260201T070923Z
LAST-MODIFIED:20260208T050245Z
UID:10001490-1770492600-1770492600@nightclub.to
SUMMARY:Harm & Ease with Pink Leather Jackets and Wasting Time
DESCRIPTION:
URL:https://nightclub.to/event/harm-ease-with-pink-leather-jackets-and-wasting-time/
LOCATION:Drake Underground\, Toronto
CATEGORIES:Rock
ATTACH;FMTTYPE=image/png:https://nightclub.to/wp-content/uploads/2026/02/harm-ease-with-pink-leather-jackets-and-wasting-time.png
END:VEVENT
BEGIN:VEVENT
DTSTART;TZID=America/Toronto:20260130T190000
DTEND;TZID=America/Toronto:20260130T190000
DTSTAMP:20260419T162824
CREATED:20260125T070632Z
LAST-MODIFIED:20260131T055714Z
UID:10001472-1769799600-1769799600@nightclub.to
SUMMARY:Danko Jones
DESCRIPTION:
URL:https://nightclub.to/event/danko-jones/
LOCATION:The Mod Club\, Toronto
CATEGORIES:Rock
ATTACH;FMTTYPE=image/jpeg:https://nightclub.to/wp-content/uploads/2026/01/danko-jones.jpg
END:VEVENT
BEGIN:VEVENT
DTSTART;TZID=America/Toronto:20260129T190000
DTEND;TZID=America/Toronto:20260129T190000
DTSTAMP:20260419T162824
CREATED:20260125T050418Z
LAST-MODIFIED:20260130T055752Z
UID:10001469-1769713200-1769713200@nightclub.to
SUMMARY:Justin Furstenfeld
DESCRIPTION:
URL:https://nightclub.to/event/justin-furstenfeld/
LOCATION:The Danforth Music Hall\, Toronto
CATEGORIES:Rock
ATTACH;FMTTYPE=image/jpeg:https://nightclub.to/wp-content/uploads/2026/01/justin-furstenfeld.jpg
END:VEVENT
BEGIN:VEVENT
DTSTART;TZID=America/Toronto:20260127T190000
DTEND;TZID=America/Toronto:20260127T190000
DTSTAMP:20260419T162824
CREATED:20260124T100549Z
LAST-MODIFIED:20260128T045637Z
UID:10001467-1769540400-1769540400@nightclub.to
SUMMARY:Bad Bad Hats
DESCRIPTION:
URL:https://nightclub.to/event/bad-bad-hats/
LOCATION:Drake Underground\, Toronto
CATEGORIES:Alternative,Rock
ATTACH;FMTTYPE=image/jpeg:https://nightclub.to/wp-content/uploads/2026/01/bad-bad-hats.jpg
END:VEVENT
BEGIN:VEVENT
DTSTART;TZID=America/Toronto:20260127T180000
DTEND;TZID=America/Toronto:20260127T180000
DTSTAMP:20260419T162824
CREATED:20260124T073716Z
LAST-MODIFIED:20260128T050156Z
UID:10001466-1769536800-1769536800@nightclub.to
SUMMARY:Lord Of The Lost & The Birthday Massacre
DESCRIPTION:
URL:https://nightclub.to/event/lord-of-the-lost-the-birthday-massacre/
LOCATION:The Danforth Music Hall\, Toronto
CATEGORIES:Rock
ATTACH;FMTTYPE=image/jpeg:https://nightclub.to/wp-content/uploads/2026/01/lord-of-the-lost-the-birthday-massacre.jpg
END:VEVENT
BEGIN:VEVENT
DTSTART;TZID=America/Toronto:20260125T190000
DTEND;TZID=America/Toronto:20260125T190000
DTSTAMP:20260419T162824
CREATED:20260124T000727Z
LAST-MODIFIED:20260126T045705Z
UID:10001464-1769367600-1769367600@nightclub.to
SUMMARY:Ondara presents: The Jet Stone Conspiracy
DESCRIPTION:
URL:https://nightclub.to/event/ondara-presents-the-jet-stone-conspiracy/
LOCATION:Drake Underground\, Toronto
CATEGORIES:Rock
ATTACH;FMTTYPE=image/jpeg:https://nightclub.to/wp-content/uploads/2026/01/ondara-presents-the-jet-stone-conspiracy-scaled.jpg
END:VEVENT
BEGIN:VEVENT
DTSTART;TZID=America/Toronto:20260124T190000
DTEND;TZID=America/Toronto:20260124T190000
DTSTAMP:20260419T162824
CREATED:20260118T100532Z
LAST-MODIFIED:20260125T060020Z
UID:10001460-1769281200-1769281200@nightclub.to
SUMMARY:The Residents
DESCRIPTION:
URL:https://nightclub.to/event/the-residents/
LOCATION:The Danforth Music Hall\, Toronto
CATEGORIES:Rock
ATTACH;FMTTYPE=image/jpeg:https://nightclub.to/wp-content/uploads/2026/01/the-residents.jpg
END:VEVENT
BEGIN:VEVENT
DTSTART;TZID=America/Toronto:20251212T180000
DTEND;TZID=America/Toronto:20251212T180000
DTSTAMP:20260419T162824
CREATED:20251207T080405Z
LAST-MODIFIED:20251213T050006Z
UID:10001392-1765562400-1765562400@nightclub.to
SUMMARY:The Flatliners w/ Fucked Up\, Samiam\, Dead Broke
DESCRIPTION:
URL:https://nightclub.to/event/the-flatliners-w-fucked-up-samiam-dead-broke/
LOCATION:The Danforth Music Hall\, Toronto
CATEGORIES:Rock
ATTACH;FMTTYPE=image/jpeg:https://nightclub.to/wp-content/uploads/2024/12/the-flatliners-scaled.jpg
END:VEVENT
BEGIN:VEVENT
DTSTART;TZID=America/Toronto:20251207T190000
DTEND;TZID=America/Toronto:20251207T190000
DTSTAMP:20260419T162824
CREATED:20251206T000551Z
LAST-MODIFIED:20251208T055651Z
UID:10001385-1765134000-1765134000@nightclub.to
SUMMARY:Luvcat: Lipstick & Pearls Tour
DESCRIPTION:
URL:https://nightclub.to/event/luvcat-lipstick-pearls-tour/
LOCATION:The Mod Club (formerly known as The Axis Club)\, Toronto
CATEGORIES:Rock
ATTACH;FMTTYPE=image/jpeg:https://nightclub.to/wp-content/uploads/2025/12/luvcat-lipstick-pearls-tour.jpg
END:VEVENT
BEGIN:VEVENT
DTSTART;TZID=America/Toronto:20251206T183000
DTEND;TZID=America/Toronto:20251206T183000
DTSTAMP:20260419T162824
CREATED:20251205T000526Z
LAST-MODIFIED:20251207T060107Z
UID:10001380-1765045800-1765045800@nightclub.to
SUMMARY:The Trews with Terra Lightfoot
DESCRIPTION:
URL:https://nightclub.to/event/the-trews-with-terra-lightfoot/
LOCATION:The Danforth Music Hall\, Toronto
CATEGORIES:Rock
ATTACH;FMTTYPE=image/jpeg:https://nightclub.to/wp-content/uploads/2024/12/the-trews.jpg
END:VEVENT
BEGIN:VEVENT
DTSTART;TZID=America/Toronto:20251205T190000
DTEND;TZID=America/Toronto:20251205T190000
DTSTAMP:20260419T162824
CREATED:20251130T070945Z
LAST-MODIFIED:20251206T055622Z
UID:10001373-1764961200-1764961200@nightclub.to
SUMMARY:Stars
DESCRIPTION:
URL:https://nightclub.to/event/stars/
LOCATION:The Danforth Music Hall\, Toronto
CATEGORIES:Rock
ATTACH;FMTTYPE=image/jpeg:https://nightclub.to/wp-content/uploads/2025/11/stars.jpg
END:VEVENT
BEGIN:VEVENT
DTSTART;TZID=America/Toronto:20251205T190000
DTEND;TZID=America/Toronto:20251205T190000
DTSTAMP:20260419T162824
CREATED:20251130T070743Z
LAST-MODIFIED:20251206T055846Z
UID:10001372-1764961200-1764961200@nightclub.to
SUMMARY:Spoons
DESCRIPTION:
URL:https://nightclub.to/event/spoons/
LOCATION:The Mod Club (formerly known as The Axis Club)\, Toronto
CATEGORIES:Rock
ATTACH;FMTTYPE=image/jpeg:https://nightclub.to/wp-content/uploads/2025/11/spoons-scaled.jpg
END:VEVENT
BEGIN:VEVENT
DTSTART;TZID=America/Toronto:20251130T190000
DTEND;TZID=America/Toronto:20251130T190000
DTSTAMP:20260419T162824
CREATED:20251129T000452Z
LAST-MODIFIED:20251201T055743Z
UID:10001366-1764529200-1764529200@nightclub.to
SUMMARY:Elisapie
DESCRIPTION:
URL:https://nightclub.to/event/elisapie/
LOCATION:The Danforth Music Hall\, Toronto
CATEGORIES:Rock
ATTACH;FMTTYPE=image/png:https://nightclub.to/wp-content/uploads/2025/11/elisapie.png
END:VEVENT
BEGIN:VEVENT
DTSTART;TZID=America/Toronto:20251129T190000
DTEND;TZID=America/Toronto:20251129T190000
DTSTAMP:20260419T162824
CREATED:20251127T060711Z
LAST-MODIFIED:20251130T060046Z
UID:10001361-1764442800-1764442800@nightclub.to
SUMMARY:54-40
DESCRIPTION:
URL:https://nightclub.to/event/54-40-2/
LOCATION:The Danforth Music Hall\, Toronto
CATEGORIES:Rock
ATTACH;FMTTYPE=image/jpeg:https://nightclub.to/wp-content/uploads/2024/11/54-40.jpg
END:VEVENT
BEGIN:VEVENT
DTSTART;TZID=America/Toronto:20251128T190000
DTEND;TZID=America/Toronto:20251128T190000
DTSTAMP:20260419T162824
CREATED:20251123T100819Z
LAST-MODIFIED:20251129T055916Z
UID:10001351-1764356400-1764356400@nightclub.to
SUMMARY:The Beths
DESCRIPTION:
URL:https://nightclub.to/event/the-beths-2/
LOCATION:The Danforth Music Hall\, Toronto
CATEGORIES:Rock
ATTACH;FMTTYPE=image/jpeg:https://nightclub.to/wp-content/uploads/2025/11/the-beths.jpg
END:VEVENT
END:VCALENDAR