BEGIN:VCALENDAR
VERSION:2.0
PRODID:-//NightClub.TO - ECPv6.8.2.1//NONSGML v1.0//EN
CALSCALE:GREGORIAN
METHOD:PUBLISH
X-ORIGINAL-URL:https://nightclub.to
X-WR-CALDESC:Events for NightClub.TO
REFRESH-INTERVAL;VALUE=DURATION:PT1H
X-Robots-Tag:noindex
X-PUBLISHED-TTL:PT1H
BEGIN:VTIMEZONE
TZID:America/Toronto
BEGIN:DAYLIGHT
TZOFFSETFROM:-0500
TZOFFSETTO:-0400
TZNAME:EDT
DTSTART:20260308T070000
END:DAYLIGHT
BEGIN:STANDARD
TZOFFSETFROM:-0400
TZOFFSETTO:-0500
TZNAME:EST
DTSTART:20261101T060000
END:STANDARD
END:VTIMEZONE
BEGIN:VEVENT
DTSTART;TZID=America/Toronto:20260613T190000
DTEND;TZID=America/Toronto:20260613T190000
DTSTAMP:20260419T191742
CREATED:20260129T232544Z
LAST-MODIFIED:20260418T181817Z
UID:10001495-1781377200-1781377200@nightclub.to
SUMMARY:Yot Club - Simpleton Tour
DESCRIPTION:
URL:https://nightclub.to/event/yot-club-simpleton-tour/
LOCATION:The Mod Club\, Toronto
CATEGORIES:Rock
ATTACH;FMTTYPE=image/jpeg:https://nightclub.to/wp-content/uploads/2026/01/yot-club-simpleton-tour.jpg
END:VEVENT
BEGIN:VEVENT
DTSTART;TZID=America/Toronto:20260614T190000
DTEND;TZID=America/Toronto:20260614T190000
DTSTAMP:20260419T191742
CREATED:20260217T073938Z
LAST-MODIFIED:20260323T170157Z
UID:10001606-1781463600-1781463600@nightclub.to
SUMMARY:Josiah and The Bonnevilles: The Redline North America Tour
DESCRIPTION:
URL:https://nightclub.to/event/josiah-and-the-bonnevilles-the-redline-north-america-tour/
LOCATION:The Danforth Music Hall\, Toronto
CATEGORIES:Rock
ATTACH;FMTTYPE=image/jpeg:https://nightclub.to/wp-content/uploads/2026/02/josiah-and-the-bonnevilles-the-redline-north-america-tour.jpg
END:VEVENT
BEGIN:VEVENT
DTSTART;TZID=America/Toronto:20260624T190000
DTEND;TZID=America/Toronto:20260624T190000
DTSTAMP:20260419T191742
CREATED:20260401T170918Z
LAST-MODIFIED:20260418T181927Z
UID:10001624-1782327600-1782327600@nightclub.to
SUMMARY:Riebl Tedesco McGill
DESCRIPTION:
URL:https://nightclub.to/event/riebl-tedesco-mcgill/
LOCATION:The Mod Club\, Toronto
CATEGORIES:Rock
END:VEVENT
END:VCALENDAR