BEGIN:VCALENDAR
VERSION:2.0
PRODID:-//NightClub.TO - ECPv6.8.2.1//NONSGML v1.0//EN
CALSCALE:GREGORIAN
METHOD:PUBLISH
X-ORIGINAL-URL:https://nightclub.to
X-WR-CALDESC:Events for NightClub.TO
REFRESH-INTERVAL;VALUE=DURATION:PT1H
X-Robots-Tag:noindex
X-PUBLISHED-TTL:PT1H
BEGIN:VTIMEZONE
TZID:America/Toronto
BEGIN:DAYLIGHT
TZOFFSETFROM:-0500
TZOFFSETTO:-0400
TZNAME:EDT
DTSTART:20260308T070000
END:DAYLIGHT
BEGIN:STANDARD
TZOFFSETFROM:-0400
TZOFFSETTO:-0500
TZNAME:EST
DTSTART:20261101T060000
END:STANDARD
END:VTIMEZONE
BEGIN:VEVENT
DTSTART;TZID=America/Toronto:20260304T190000
DTEND;TZID=America/Toronto:20260304T190000
DTSTAMP:20260419T175746
CREATED:20260228T100504Z
LAST-MODIFIED:20260305T055721Z
UID:10001550-1772650800-1772650800@nightclub.to
SUMMARY:Peaches - No Lube So Rude Tour
DESCRIPTION:
URL:https://nightclub.to/event/peaches-no-lube-so-rude-tour/
LOCATION:The Danforth Music Hall\, Toronto
CATEGORIES:Rock
ATTACH;FMTTYPE=image/jpeg:https://nightclub.to/wp-content/uploads/2026/02/peaches-no-lube-so-rude-tour.jpg
END:VEVENT
BEGIN:VEVENT
DTSTART;TZID=America/Toronto:20260308T180000
DTEND;TZID=America/Toronto:20260308T180000
DTSTAMP:20260419T175746
CREATED:20260306T144018Z
LAST-MODIFIED:20260309T050048Z
UID:10001560-1772992800-1772992800@nightclub.to
SUMMARY:Mammoth - The End Tour
DESCRIPTION:
URL:https://nightclub.to/event/mammoth-the-end-tour/
LOCATION:The Danforth Music Hall\, Toronto
CATEGORIES:Rock
ATTACH;FMTTYPE=image/jpeg:https://nightclub.to/wp-content/uploads/2026/03/mammoth-the-end-tour.jpg
END:VEVENT
BEGIN:VEVENT
DTSTART;TZID=America/Toronto:20260311T180000
DTEND;TZID=America/Toronto:20260311T180000
DTSTAMP:20260419T175746
CREATED:20260308T050556Z
LAST-MODIFIED:20260312T040251Z
UID:10001565-1773252000-1773252000@nightclub.to
SUMMARY:Capstan: Cultural Divide 10 Year Anniversary Tour
DESCRIPTION:
URL:https://nightclub.to/event/capstan-cultural-divide-10-year-anniversary-tour/
LOCATION:The Mod Club\, Toronto
CATEGORIES:Rock
ATTACH;FMTTYPE=image/jpeg:https://nightclub.to/wp-content/uploads/2026/03/capstan-cultural-divide-10-year-anniversary-tour.jpg
END:VEVENT
BEGIN:VEVENT
DTSTART;TZID=America/Toronto:20260313T190000
DTEND;TZID=America/Toronto:20260313T190000
DTSTAMP:20260419T175746
CREATED:20260308T102054Z
LAST-MODIFIED:20260314T045612Z
UID:10001568-1773428400-1773428400@nightclub.to
SUMMARY:John Shambles
DESCRIPTION:
URL:https://nightclub.to/event/john-shambles/
LOCATION:The Mod Club\, Toronto
CATEGORIES:Rock
ATTACH;FMTTYPE=image/jpeg:https://nightclub.to/wp-content/uploads/2026/03/john-shambles.jpg
END:VEVENT
BEGIN:VEVENT
DTSTART;TZID=America/Toronto:20260317T190000
DTEND;TZID=America/Toronto:20260317T190000
DTSTAMP:20260419T175746
CREATED:20260315T000445Z
LAST-MODIFIED:20260318T045842Z
UID:10001583-1773774000-1773774000@nightclub.to
SUMMARY:The Mary Wallopers
DESCRIPTION:
URL:https://nightclub.to/event/the-mary-wallopers/
LOCATION:The Danforth Music Hall\, Toronto
CATEGORIES:Rock
ATTACH;FMTTYPE=image/jpeg:https://nightclub.to/wp-content/uploads/2026/03/the-mary-wallopers.jpg
END:VEVENT
BEGIN:VEVENT
DTSTART;TZID=America/Toronto:20260319T183000
DTEND;TZID=America/Toronto:20260319T183000
DTSTAMP:20260419T175746
CREATED:20260316T050827Z
LAST-MODIFIED:20260320T043151Z
UID:10001588-1773945000-1773945000@nightclub.to
SUMMARY:EIDOLA "THE EVISCERATE // MEND TOUR"
DESCRIPTION:
URL:https://nightclub.to/event/eidola-the-eviscerate-mend-tour/
LOCATION:The Mod Club\, Toronto
CATEGORIES:Rock
ATTACH;FMTTYPE=image/jpeg:https://nightclub.to/wp-content/uploads/2026/03/eidola-the-eviscerate-mend-tour.jpg
END:VEVENT
BEGIN:VEVENT
DTSTART;TZID=America/Toronto:20260321T190000
DTEND;TZID=America/Toronto:20260321T190000
DTSTAMP:20260419T175746
CREATED:20260319T040348Z
LAST-MODIFIED:20260322T045820Z
UID:10001593-1774119600-1774119600@nightclub.to
SUMMARY:Sloan - A Tour de Force
DESCRIPTION:
URL:https://nightclub.to/event/sloan-a-tour-de-force/
LOCATION:The Danforth Music Hall\, Toronto
CATEGORIES:Rock
ATTACH;FMTTYPE=image/jpeg:https://nightclub.to/wp-content/uploads/2026/03/sloan-a-tour-de-force-scaled.jpg
END:VEVENT
BEGIN:VEVENT
DTSTART;TZID=America/Toronto:20260323T190000
DTEND;TZID=America/Toronto:20260323T190000
DTSTAMP:20260419T175746
CREATED:20260320T070649Z
LAST-MODIFIED:20260324T045824Z
UID:10001597-1774292400-1774292400@nightclub.to
SUMMARY:Eliza McLamb - Good Story Tour
DESCRIPTION:
URL:https://nightclub.to/event/eliza-mclamb-good-story-tour/
LOCATION:The Mod Club\, Toronto
CATEGORIES:Rock
ATTACH;FMTTYPE=image/jpeg:https://nightclub.to/wp-content/uploads/2026/03/eliza-mclamb-good-story-tour.jpg
END:VEVENT
BEGIN:VEVENT
DTSTART;TZID=America/Toronto:20260323T190000
DTEND;TZID=America/Toronto:20260323T190000
DTSTAMP:20260419T175746
CREATED:20260321T060753Z
LAST-MODIFIED:20260324T035753Z
UID:10001598-1774292400-1774292400@nightclub.to
SUMMARY:HighSchool
DESCRIPTION:
URL:https://nightclub.to/event/highschool/
LOCATION:Drake Underground\, Toronto
CATEGORIES:Alternative,Rock
ATTACH;FMTTYPE=image/jpeg:https://nightclub.to/wp-content/uploads/2026/03/highschool.jpg
END:VEVENT
BEGIN:VEVENT
DTSTART;TZID=America/Toronto:20260325T190000
DTEND;TZID=America/Toronto:20260325T190000
DTSTAMP:20260419T175746
CREATED:20260321T080858Z
LAST-MODIFIED:20260326T045737Z
UID:10001600-1774465200-1774465200@nightclub.to
SUMMARY:Rhye
DESCRIPTION:
URL:https://nightclub.to/event/rhye/
LOCATION:The Mod Club\, Toronto
CATEGORIES:Rock
ATTACH;FMTTYPE=image/jpeg:https://nightclub.to/wp-content/uploads/2026/03/rhye-scaled.jpg
END:VEVENT
BEGIN:VEVENT
DTSTART;TZID=America/Toronto:20260326T180000
DTEND;TZID=America/Toronto:20260326T180000
DTSTAMP:20260419T175746
CREATED:20260321T090729Z
LAST-MODIFIED:20260326T182212Z
UID:10001601-1774548000-1774548000@nightclub.to
SUMMARY:Joyce Manor\, Militarie Gun\, Teen Mortgage\, & Combat
DESCRIPTION:
URL:https://nightclub.to/event/joyce-manor-militarie-gun-teen-mortgage-combat/
LOCATION:The Danforth Music Hall\, Toronto
CATEGORIES:Rock
ATTACH;FMTTYPE=image/jpeg:https://nightclub.to/wp-content/uploads/2026/03/joyce-manor-militarie-gun-teen-mortgage-combat.jpg
END:VEVENT
END:VCALENDAR