BEGIN:VCALENDAR
VERSION:2.0
PRODID:-//NightClub.TO - ECPv6.8.2.1//NONSGML v1.0//EN
CALSCALE:GREGORIAN
METHOD:PUBLISH
X-WR-CALNAME:NightClub.TO
X-ORIGINAL-URL:https://nightclub.to
X-WR-CALDESC:Events for NightClub.TO
REFRESH-INTERVAL;VALUE=DURATION:PT1H
X-Robots-Tag:noindex
X-PUBLISHED-TTL:PT1H
BEGIN:VTIMEZONE
TZID:America/Toronto
BEGIN:DAYLIGHT
TZOFFSETFROM:-0500
TZOFFSETTO:-0400
TZNAME:EDT
DTSTART:20250309T070000
END:DAYLIGHT
BEGIN:STANDARD
TZOFFSETFROM:-0400
TZOFFSETTO:-0500
TZNAME:EST
DTSTART:20251102T060000
END:STANDARD
END:VTIMEZONE
BEGIN:VEVENT
DTSTART;TZID=America/Toronto:20250207T220000
DTEND;TZID=America/Toronto:20250207T220000
DTSTAMP:20260424T182629
CREATED:20250202T075151Z
LAST-MODIFIED:20250208T071253Z
UID:10000467-1738965600-1738965600@nightclub.to
SUMMARY:Unc's Lover's Rock featuring Bammy
DESCRIPTION:
URL:https://nightclub.to/event/uncs-lovers-rock-featuring-bammy/
LOCATION:The Axis Club (formerly known as The Mod Club)\, Toronto
CATEGORIES:Reggae
END:VEVENT
END:VCALENDAR