BEGIN:VCALENDAR
VERSION:2.0
PRODID:-//NightClub.TO - ECPv6.8.2.1//NONSGML v1.0//EN
CALSCALE:GREGORIAN
METHOD:PUBLISH
X-WR-CALNAME:NightClub.TO
X-ORIGINAL-URL:https://nightclub.to
X-WR-CALDESC:Events for NightClub.TO
REFRESH-INTERVAL;VALUE=DURATION:PT1H
X-Robots-Tag:noindex
X-PUBLISHED-TTL:PT1H
BEGIN:VTIMEZONE
TZID:America/Toronto
BEGIN:DAYLIGHT
TZOFFSETFROM:-0500
TZOFFSETTO:-0400
TZNAME:EDT
DTSTART:20240310T070000
END:DAYLIGHT
BEGIN:STANDARD
TZOFFSETFROM:-0400
TZOFFSETTO:-0500
TZNAME:EST
DTSTART:20241103T060000
END:STANDARD
BEGIN:DAYLIGHT
TZOFFSETFROM:-0500
TZOFFSETTO:-0400
TZNAME:EDT
DTSTART:20250309T070000
END:DAYLIGHT
BEGIN:STANDARD
TZOFFSETFROM:-0400
TZOFFSETTO:-0500
TZNAME:EST
DTSTART:20251102T060000
END:STANDARD
BEGIN:DAYLIGHT
TZOFFSETFROM:-0500
TZOFFSETTO:-0400
TZNAME:EDT
DTSTART:20260308T070000
END:DAYLIGHT
BEGIN:STANDARD
TZOFFSETFROM:-0400
TZOFFSETTO:-0500
TZNAME:EST
DTSTART:20261101T060000
END:STANDARD
END:VTIMEZONE
BEGIN:VEVENT
DTSTART;TZID=America/Toronto:20260220T180000
DTEND;TZID=America/Toronto:20260220T180000
DTSTAMP:20260420T045802
CREATED:20260215T070601Z
LAST-MODIFIED:20260221T065824Z
UID:10001520-1771610400-1771610400@nightclub.to
SUMMARY:Unified 66
DESCRIPTION:
URL:https://nightclub.to/event/unified-66/
LOCATION:Rebel\, Toronto
CATEGORIES:Martial Arts
ATTACH;FMTTYPE=image/jpeg:https://nightclub.to/wp-content/uploads/2024/06/unified-national.jpg
END:VEVENT
BEGIN:VEVENT
DTSTART;TZID=America/Toronto:20250926T180000
DTEND;TZID=America/Toronto:20250926T180000
DTSTAMP:20260420T045802
CREATED:20250924T050357Z
LAST-MODIFIED:20250927T060146Z
UID:10001123-1758909600-1758909600@nightclub.to
SUMMARY:Unified 63
DESCRIPTION:
URL:https://nightclub.to/event/unified-63/
LOCATION:Rebel\, Toronto
CATEGORIES:Martial Arts
ATTACH;FMTTYPE=image/jpeg:https://nightclub.to/wp-content/uploads/2024/06/unified-national.jpg
END:VEVENT
BEGIN:VEVENT
DTSTART;TZID=America/Toronto:20250530T180000
DTEND;TZID=America/Toronto:20250530T180000
DTSTAMP:20260420T045802
CREATED:20250525T060856Z
LAST-MODIFIED:20250531T060018Z
UID:10000780-1748628000-1748628000@nightclub.to
SUMMARY:Unified 62
DESCRIPTION:
URL:https://nightclub.to/event/unified-62/
LOCATION:Rebel\, Toronto
CATEGORIES:Martial Arts
ATTACH;FMTTYPE=image/jpeg:https://nightclub.to/wp-content/uploads/2024/06/unified-national.jpg
END:VEVENT
BEGIN:VEVENT
DTSTART;TZID=America/Toronto:20250124T180000
DTEND;TZID=America/Toronto:20250124T180000
DTSTAMP:20260420T045802
CREATED:20250119T081502Z
LAST-MODIFIED:20250125T064020Z
UID:10000429-1737741600-1737741600@nightclub.to
SUMMARY:Unified 60
DESCRIPTION:
URL:https://nightclub.to/event/unified-60/
LOCATION:Rebel\, Toronto
CATEGORIES:Martial Arts
ATTACH;FMTTYPE=image/jpeg:https://nightclub.to/wp-content/uploads/2024/06/unified-national.jpg
END:VEVENT
BEGIN:VEVENT
DTSTART;TZID=America/Toronto:20241004T180000
DTEND;TZID=America/Toronto:20241004T180000
DTSTAMP:20260420T045802
CREATED:20240930T203000Z
LAST-MODIFIED:20241005T050339Z
UID:10000155-1728064800-1728064800@nightclub.to
SUMMARY:Unified 59
DESCRIPTION:
URL:https://nightclub.to/event/unified-59/
LOCATION:Rebel\, Toronto
CATEGORIES:Martial Arts
ATTACH;FMTTYPE=image/jpeg:https://nightclub.to/wp-content/uploads/2024/06/unified-national.jpg
END:VEVENT
END:VCALENDAR