BEGIN:VCALENDAR
VERSION:2.0
PRODID:-//NightClub.TO - ECPv6.8.2.1//NONSGML v1.0//EN
CALSCALE:GREGORIAN
METHOD:PUBLISH
X-WR-CALNAME:NightClub.TO
X-ORIGINAL-URL:https://nightclub.to
X-WR-CALDESC:Events for NightClub.TO
REFRESH-INTERVAL;VALUE=DURATION:PT1H
X-Robots-Tag:noindex
X-PUBLISHED-TTL:PT1H
BEGIN:VTIMEZONE
TZID:America/Toronto
BEGIN:DAYLIGHT
TZOFFSETFROM:-0500
TZOFFSETTO:-0400
TZNAME:EDT
DTSTART:20250309T070000
END:DAYLIGHT
BEGIN:STANDARD
TZOFFSETFROM:-0400
TZOFFSETTO:-0500
TZNAME:EST
DTSTART:20251102T060000
END:STANDARD
END:VTIMEZONE
BEGIN:VEVENT
DTSTART;TZID=America/Toronto:20250905T190000
DTEND;TZID=America/Toronto:20250905T190000
DTSTAMP:20260425T162316
CREATED:20250831T170504Z
LAST-MODIFIED:20250906T045555Z
UID:10001037-1757098800-1757098800@nightclub.to
SUMMARY:Giggs
DESCRIPTION:
URL:https://nightclub.to/event/giggs/
LOCATION:The Mod Club (formerly known as The Axis Club)\, Toronto
CATEGORIES:Hip-Hop/Rap
ATTACH;FMTTYPE=image/jpeg:https://nightclub.to/wp-content/uploads/2025/08/giggs.jpg
END:VEVENT
BEGIN:VEVENT
DTSTART;TZID=America/Toronto:20250904T193000
DTEND;TZID=America/Toronto:20250904T193000
DTSTAMP:20260425T162316
CREATED:20250831T060733Z
LAST-MODIFIED:20250905T051624Z
UID:10001036-1757014200-1757014200@nightclub.to
SUMMARY:fakemink: Etna Vera Vela
DESCRIPTION:
URL:https://nightclub.to/event/fakemink-etna-vera-vela/
LOCATION:The Mod Club (formerly known as The Axis Club)\, Toronto
CATEGORIES:Hip-Hop/Rap
END:VEVENT
BEGIN:VEVENT
DTSTART;TZID=America/Toronto:20250902T190000
DTEND;TZID=America/Toronto:20250902T190000
DTSTAMP:20260425T162316
CREATED:20250831T040630Z
LAST-MODIFIED:20250903T045854Z
UID:10001034-1756839600-1756839600@nightclub.to
SUMMARY:AJ McQueen - When We Evolve Tour
DESCRIPTION:
URL:https://nightclub.to/event/aj-mcqueen-when-we-evolve-tour/
LOCATION:Velvet Underground\, Toronto
CATEGORIES:Hip-Hop/Rap
ATTACH;FMTTYPE=image/png:https://nightclub.to/wp-content/uploads/2025/08/aj-mcqueen-when-we-evolve-tour-scaled.png
END:VEVENT
BEGIN:VEVENT
DTSTART;TZID=America/Toronto:20250831T220000
DTEND;TZID=America/Toronto:20250831T220000
DTSTAMP:20260425T162316
CREATED:20250830T060445Z
LAST-MODIFIED:20250901T090208Z
UID:10001032-1756677600-1756677600@nightclub.to
SUMMARY:REAL LOVE LONG WEEKEND
DESCRIPTION:
URL:https://nightclub.to/event/real-love-long-weekend-4/
LOCATION:Celebrities Nightclub\, Vancouver
CATEGORIES:Hip-Hop/Rap
ATTACH;FMTTYPE=image/png:https://nightclub.to/wp-content/uploads/2025/08/real-love-long-weekend-4.png
END:VEVENT
BEGIN:VEVENT
DTSTART;TZID=America/Toronto:20250829T220000
DTEND;TZID=America/Toronto:20250829T220000
DTSTAMP:20260425T162316
CREATED:20250824T091359Z
LAST-MODIFIED:20250830T090128Z
UID:10001021-1756504800-1756504800@nightclub.to
SUMMARY:FOR REAL FRIDAYS Summer 2025: presented by Real Love
DESCRIPTION:
URL:https://nightclub.to/event/for-real-fridays-summer-2025-presented-by-real-love-7/
LOCATION:Celebrities Nightclub\, Vancouver
CATEGORIES:Hip-Hop/Rap
ATTACH;FMTTYPE=image/png:https://nightclub.to/wp-content/uploads/2025/08/for-real-fridays-summer-2025-presented-by-real-love-7.png
END:VEVENT
BEGIN:VEVENT
DTSTART;TZID=America/Toronto:20250829T190000
DTEND;TZID=America/Toronto:20250829T190000
DTSTAMP:20260425T162316
CREATED:20250824T060827Z
LAST-MODIFIED:20250830T035803Z
UID:10001020-1756494000-1756494000@nightclub.to
SUMMARY:gunnr - North America Tour
DESCRIPTION:
URL:https://nightclub.to/event/gunnr-north-america-tour/
LOCATION:Drake Underground\, Toronto
CATEGORIES:Hip-Hop/Rap
ATTACH;FMTTYPE=image/png:https://nightclub.to/wp-content/uploads/2025/08/gunnr-north-america-tour.png
END:VEVENT
BEGIN:VEVENT
DTSTART;TZID=America/Toronto:20250824T190000
DTEND;TZID=America/Toronto:20250824T190000
DTSTAMP:20260425T162316
CREATED:20250823T000727Z
LAST-MODIFIED:20250825T045609Z
UID:10001013-1756062000-1756062000@nightclub.to
SUMMARY:Hanumankind - OTW Tour: North America 2025
DESCRIPTION:
URL:https://nightclub.to/event/hanumankind-otw-tour-north-america-2025/
LOCATION:The Danforth Music Hall\, Toronto
CATEGORIES:Hip-Hop/Rap
ATTACH;FMTTYPE=image/jpeg:https://nightclub.to/wp-content/uploads/2025/08/hanumankind-otw-tour-north-america-2025.jpg
END:VEVENT
BEGIN:VEVENT
DTSTART;TZID=America/Toronto:20250823T190000
DTEND;TZID=America/Toronto:20250823T190000
DTSTAMP:20260425T162316
CREATED:20250820T050537Z
LAST-MODIFIED:20250824T050205Z
UID:10001009-1755975600-1755975600@nightclub.to
SUMMARY:Darci - Code Break Live Tour
DESCRIPTION:
URL:https://nightclub.to/event/darci-code-break-live-tour/
LOCATION:The Mod Club (formerly known as The Axis Club)\, Toronto
CATEGORIES:Hip-Hop/Rap
ATTACH;FMTTYPE=image/jpeg:https://nightclub.to/wp-content/uploads/2025/08/darci-code-break-live-tour.jpg
END:VEVENT
BEGIN:VEVENT
DTSTART;TZID=America/Toronto:20250822T220000
DTEND;TZID=America/Toronto:20250822T220000
DTSTAMP:20260425T162316
CREATED:20250817T061019Z
LAST-MODIFIED:20250823T085948Z
UID:10001005-1755900000-1755900000@nightclub.to
SUMMARY:FOR REAL FRIDAYS Summer 2025: presented by Real Love
DESCRIPTION:
URL:https://nightclub.to/event/for-real-fridays-summer-2025-presented-by-real-love-6/
LOCATION:Celebrities Nightclub\, Vancouver
CATEGORIES:Hip-Hop/Rap
ATTACH;FMTTYPE=image/png:https://nightclub.to/wp-content/uploads/2025/07/for-real-fridays-summer-2025-presented-by-real-love.png
END:VEVENT
BEGIN:VEVENT
DTSTART;TZID=America/Toronto:20250816T130000
DTEND;TZID=America/Toronto:20250816T130000
DTSTAMP:20260425T162316
CREATED:20250811T210936Z
LAST-MODIFIED:20250817T035908Z
UID:10000997-1755349200-1755349200@nightclub.to
SUMMARY:Unreal Pool Party
DESCRIPTION:
URL:https://nightclub.to/event/unreal-pool-party/
LOCATION:Cabana Pool Bar\, Toronto
CATEGORIES:Hip-Hop/Rap
END:VEVENT
BEGIN:VEVENT
DTSTART;TZID=America/Toronto:20250815T220000
DTEND;TZID=America/Toronto:20250815T220000
DTSTAMP:20260425T162316
CREATED:20250810T080446Z
LAST-MODIFIED:20250816T085212Z
UID:10000993-1755295200-1755295200@nightclub.to
SUMMARY:FOR REAL FRIDAYS Summer 2025: presented by Real Love
DESCRIPTION:
URL:https://nightclub.to/event/for-real-fridays-summer-2025-presented-by-real-love-5/
LOCATION:Celebrities Nightclub\, Vancouver
CATEGORIES:Hip-Hop/Rap
ATTACH;FMTTYPE=image/png:https://nightclub.to/wp-content/uploads/2025/08/for-real-fridays-summer-2025-presented-by-real-love-5.png
END:VEVENT
BEGIN:VEVENT
DTSTART;TZID=America/Toronto:20250808T220000
DTEND;TZID=America/Toronto:20250808T220000
DTSTAMP:20260425T162316
CREATED:20250804T060904Z
LAST-MODIFIED:20250809T085613Z
UID:10000975-1754690400-1754690400@nightclub.to
SUMMARY:FOR REAL FRIDAYS Summer 2025: presented by Real Love
DESCRIPTION:
URL:https://nightclub.to/event/for-real-fridays-summer-2025-presented-by-real-love-4/
LOCATION:Celebrities Nightclub\, Vancouver
CATEGORIES:Hip-Hop/Rap
ATTACH;FMTTYPE=image/png:https://nightclub.to/wp-content/uploads/2025/07/for-real-fridays-summer-2025-presented-by-real-love.png
END:VEVENT
BEGIN:VEVENT
DTSTART;TZID=America/Toronto:20250729T190000
DTEND;TZID=America/Toronto:20250729T190000
DTSTAMP:20260425T162316
CREATED:20250727T040344Z
LAST-MODIFIED:20250730T050106Z
UID:10000948-1753815600-1753815600@nightclub.to
SUMMARY:Sematary - Death's Wagon Tour
DESCRIPTION:
URL:https://nightclub.to/event/sematary-deaths-wagon-tour/
LOCATION:The Mod Club (formerly known as The Axis Club)\, Toronto
CATEGORIES:Hip-Hop/Rap
ATTACH;FMTTYPE=image/jpeg:https://nightclub.to/wp-content/uploads/2025/07/sematary-deaths-wagon-tour.jpg
END:VEVENT
BEGIN:VEVENT
DTSTART;TZID=America/Toronto:20250726T220000
DTEND;TZID=America/Toronto:20250726T220000
DTSTAMP:20260425T162316
CREATED:20250723T151935Z
LAST-MODIFIED:20250727T060150Z
UID:10000944-1753567200-1753567200@nightclub.to
SUMMARY:A BOOGIE WIT DA HOODIE
DESCRIPTION:
URL:https://nightclub.to/event/a-boogie-wit-da-hoodie-3/
LOCATION:Rebel\, Toronto
CATEGORIES:Hip-Hop/Rap
ATTACH;FMTTYPE=image/jpeg:https://nightclub.to/wp-content/uploads/2025/07/a-boogie-wit-da-hoodie-scaled.jpg
END:VEVENT
BEGIN:VEVENT
DTSTART;TZID=America/Toronto:20250726T220000
DTEND;TZID=America/Toronto:20250726T220000
DTSTAMP:20260425T162316
CREATED:20250721T040130Z
LAST-MODIFIED:20250727T070006Z
UID:10000940-1753567200-1753567200@nightclub.to
SUMMARY:A BOOGIE WIT DA HOODIE
DESCRIPTION:
URL:https://nightclub.to/event/a-boogie-wit-da-hoodie-2/
LOCATION:Rebel\, Toronto
CATEGORIES:Hip-Hop/Rap
ATTACH;FMTTYPE=image/jpeg:https://nightclub.to/wp-content/uploads/2025/07/a-boogie-wit-da-hoodie-scaled.jpg
END:VEVENT
BEGIN:VEVENT
DTSTART;TZID=America/Toronto:20250726T130000
DTEND;TZID=America/Toronto:20250726T130000
DTSTAMP:20260425T162316
CREATED:20250720T170546Z
LAST-MODIFIED:20250727T035453Z
UID:10000939-1753534800-1753534800@nightclub.to
SUMMARY:A BOOGIE WIT DA HOODIE
DESCRIPTION:
URL:https://nightclub.to/event/a-boogie-wit-da-hoodie/
LOCATION:Cabana Pool Bar\, Toronto
CATEGORIES:Hip-Hop/Rap
ATTACH;FMTTYPE=image/jpeg:https://nightclub.to/wp-content/uploads/2025/07/a-boogie-wit-da-hoodie-scaled.jpg
END:VEVENT
BEGIN:VEVENT
DTSTART;TZID=America/Toronto:20250725T220000
DTEND;TZID=America/Toronto:20250725T220000
DTSTAMP:20260425T162316
CREATED:20250720T060553Z
LAST-MODIFIED:20250726T090141Z
UID:10000937-1753480800-1753480800@nightclub.to
SUMMARY:FOR REAL FRIDAYS Summer 2025: presented by Real Love
DESCRIPTION:
URL:https://nightclub.to/event/for-real-fridays-summer-2025-presented-by-real-love-3/
LOCATION:Celebrities Nightclub\, Vancouver
CATEGORIES:Hip-Hop/Rap
ATTACH;FMTTYPE=image/png:https://nightclub.to/wp-content/uploads/2025/07/for-real-fridays-summer-2025-presented-by-real-love.png
END:VEVENT
BEGIN:VEVENT
DTSTART;TZID=America/Toronto:20250718T220000
DTEND;TZID=America/Toronto:20250718T220000
DTSTAMP:20260425T162316
CREATED:20250713T170759Z
LAST-MODIFIED:20250719T090136Z
UID:10000922-1752876000-1752876000@nightclub.to
SUMMARY:FOR REAL FRIDAYS Summer 2025: presented by Real Love
DESCRIPTION:
URL:https://nightclub.to/event/for-real-fridays-summer-2025-presented-by-real-love-2/
LOCATION:Celebrities Nightclub\, Vancouver
CATEGORIES:Hip-Hop/Rap
ATTACH;FMTTYPE=image/png:https://nightclub.to/wp-content/uploads/2025/07/for-real-fridays-summer-2025-presented-by-real-love.png
END:VEVENT
BEGIN:VEVENT
DTSTART;TZID=America/Toronto:20250718T200000
DTEND;TZID=America/Toronto:20250718T200000
DTSTAMP:20260425T162316
CREATED:20250713T060714Z
LAST-MODIFIED:20250719T041240Z
UID:10000918-1752868800-1752868800@nightclub.to
SUMMARY:Sukha - Bringing It Home Tour
DESCRIPTION:
URL:https://nightclub.to/event/sukha-bringing-it-home-tour/
LOCATION:Rebel\, Toronto
CATEGORIES:Hip-Hop/Rap
ATTACH;FMTTYPE=image/jpeg:https://nightclub.to/wp-content/uploads/2025/07/sukha-bringing-it-home-tour.jpg
END:VEVENT
BEGIN:VEVENT
DTSTART;TZID=America/Toronto:20250712T190000
DTEND;TZID=America/Toronto:20250712T190000
DTSTAMP:20260425T162316
CREATED:20250706T070512Z
LAST-MODIFIED:20250713T050030Z
UID:10000907-1752346800-1752346800@nightclub.to
SUMMARY:Dom Corleo
DESCRIPTION:
URL:https://nightclub.to/event/dom-corleo-2/
LOCATION:The Mod Club (formerly known as The Axis Club)\, Toronto
CATEGORIES:Hip-Hop/Rap
ATTACH;FMTTYPE=image/jpeg:https://nightclub.to/wp-content/uploads/2025/07/dom-corleo-2.jpg
END:VEVENT
BEGIN:VEVENT
DTSTART;TZID=America/Toronto:20250711T220000
DTEND;TZID=America/Toronto:20250711T220000
DTSTAMP:20260425T162316
CREATED:20250706T043615Z
LAST-MODIFIED:20250712T085734Z
UID:10000905-1752271200-1752271200@nightclub.to
SUMMARY:FOR REAL FRIDAYS Summer 2025: presented by Real Love
DESCRIPTION:
URL:https://nightclub.to/event/for-real-fridays-summer-2025-presented-by-real-love/
LOCATION:Celebrities Nightclub\, Vancouver
CATEGORIES:Hip-Hop/Rap
ATTACH;FMTTYPE=image/png:https://nightclub.to/wp-content/uploads/2025/07/for-real-fridays-summer-2025-presented-by-real-love.png
END:VEVENT
BEGIN:VEVENT
DTSTART;TZID=America/Toronto:20250705T220000
DTEND;TZID=America/Toronto:20250705T220000
DTSTAMP:20260425T162316
CREATED:20250702T083618Z
LAST-MODIFIED:20250706T055728Z
UID:10000896-1751752800-1751752800@nightclub.to
SUMMARY:QUAVO
DESCRIPTION:
URL:https://nightclub.to/event/quavo-2/
LOCATION:Rebel\, Toronto
CATEGORIES:Hip-Hop/Rap
ATTACH;FMTTYPE=image/jpeg:https://nightclub.to/wp-content/uploads/2025/07/quavo.jpg
END:VEVENT
BEGIN:VEVENT
DTSTART;TZID=America/Toronto:20250705T220000
DTEND;TZID=America/Toronto:20250705T220000
DTSTAMP:20260425T162316
CREATED:20250701T051411Z
LAST-MODIFIED:20250706T065529Z
UID:10000894-1751752800-1751752800@nightclub.to
SUMMARY:QUAVO
DESCRIPTION:
URL:https://nightclub.to/event/quavo/
LOCATION:Rebel\, Toronto
CATEGORIES:Hip-Hop/Rap
ATTACH;FMTTYPE=image/jpeg:https://nightclub.to/wp-content/uploads/2025/07/quavo.jpg
END:VEVENT
BEGIN:VEVENT
DTSTART;TZID=America/Toronto:20250703T190000
DTEND;TZID=America/Toronto:20250703T190000
DTSTAMP:20260425T162316
CREATED:20250630T050459Z
LAST-MODIFIED:20250701T002323Z
UID:10000888-1751569200-1751569200@nightclub.to
SUMMARY:Lil Mosey - Presented By F7 & Nightshift Entertainment
DESCRIPTION:
URL:https://nightclub.to/event/lil-mosey-presented-by-f7-nightshift-entertainment/
LOCATION:The Phoenix Concert Theatre\, Toronto
CATEGORIES:Hip-Hop/Rap
ATTACH;FMTTYPE=image/jpeg:https://nightclub.to/wp-content/uploads/2025/06/lil-mosey-presented-by-f7-nightshift-entertainment.jpg
END:VEVENT
BEGIN:VEVENT
DTSTART;TZID=America/Toronto:20250630T220000
DTEND;TZID=America/Toronto:20250630T220000
DTSTAMP:20260425T162316
CREATED:20250629T000312Z
LAST-MODIFIED:20250701T085902Z
UID:10000883-1751320800-1751320800@nightclub.to
SUMMARY:REAL LOVE LONG WEEKEND 9 YEAR ANNIVERSARY
DESCRIPTION:
URL:https://nightclub.to/event/real-love-long-weekend-9-year-anniversary/
LOCATION:Celebrities Nightclub\, Vancouver
CATEGORIES:Hip-Hop/Rap
ATTACH;FMTTYPE=image/png:https://nightclub.to/wp-content/uploads/2025/06/real-love-long-weekend-9-year-anniversary.png
END:VEVENT
BEGIN:VEVENT
DTSTART;TZID=America/Toronto:20250628T223000
DTEND;TZID=America/Toronto:20250628T223000
DTSTAMP:20260425T162316
CREATED:20250627T000123Z
LAST-MODIFIED:20250629T063051Z
UID:10000875-1751149800-1751149800@nightclub.to
SUMMARY:TAKE OVER SATURDAY
DESCRIPTION:
URL:https://nightclub.to/event/take-over-saturday/
LOCATION:DPRTMNT\, Toronto
CATEGORIES:Hip-Hop/Rap
ATTACH;FMTTYPE=image/png:https://nightclub.to/wp-content/uploads/2025/06/take-over-saturday.png
END:VEVENT
BEGIN:VEVENT
DTSTART;TZID=America/Toronto:20250627T220000
DTEND;TZID=America/Toronto:20250627T220000
DTSTAMP:20260425T162316
CREATED:20250626T000847Z
LAST-MODIFIED:20250628T085759Z
UID:10000870-1751061600-1751061600@nightclub.to
SUMMARY:FOR REAL FRIDAYS SUMMER 2025: T4P IN: A Long Weekend Celebration presented by Real Love
DESCRIPTION:
URL:https://nightclub.to/event/for-real-fridays-summer-2025-t4p-in-a-long-weekend-celebration-presented-by-real-love/
LOCATION:Celebrities Nightclub\, Vancouver
CATEGORIES:Hip-Hop/Rap
ATTACH;FMTTYPE=image/png:https://nightclub.to/wp-content/uploads/2025/06/for-real-fridays-summer-2025-t4p-in-a-long-weekend-celebration-presented-by-real-love.png
END:VEVENT
BEGIN:VEVENT
DTSTART;TZID=America/Toronto:20250627T190000
DTEND;TZID=America/Toronto:20250627T190000
DTSTAMP:20260425T162316
CREATED:20250622T040632Z
LAST-MODIFIED:20250628T050006Z
UID:10000859-1751050800-1751050800@nightclub.to
SUMMARY:Millyz
DESCRIPTION:
URL:https://nightclub.to/event/millyz/
LOCATION:The Mod Club (formerly known as The Axis Club)\, Toronto
CATEGORIES:Hip-Hop/Rap
ATTACH;FMTTYPE=image/jpeg:https://nightclub.to/wp-content/uploads/2025/06/millyz.jpg
END:VEVENT
BEGIN:VEVENT
DTSTART;TZID=America/Toronto:20250621T200000
DTEND;TZID=America/Toronto:20250621T200000
DTSTAMP:20260425T162316
CREATED:20250620T000713Z
LAST-MODIFIED:20250622T060140Z
UID:10000851-1750536000-1750536000@nightclub.to
SUMMARY:Karma Events Present: Nawaj Ansari
DESCRIPTION:
URL:https://nightclub.to/event/karma-events-present-nawaj-ansari/
LOCATION:The Mod Club (formerly known as The Axis Club)\, Toronto
CATEGORIES:Hip-Hop/Rap
ATTACH;FMTTYPE=image/jpeg:https://nightclub.to/wp-content/uploads/2025/06/karma-events-present-nawaj-ansari.jpg
END:VEVENT
BEGIN:VEVENT
DTSTART;TZID=America/Toronto:20250621T180000
DTEND;TZID=America/Toronto:20250621T201500
DTSTAMP:20260425T162316
CREATED:20250621T060556Z
LAST-MODIFIED:20250622T040057Z
UID:10000856-1750528800-1750536900@nightclub.to
SUMMARY:THE ROOTS
DESCRIPTION:
URL:https://nightclub.to/event/the-roots-2/
LOCATION:Rebel\, Toronto
CATEGORIES:Hip-Hop/Rap
ATTACH;FMTTYPE=image/jpeg:https://nightclub.to/wp-content/uploads/2025/06/the-roots-2.jpg
END:VEVENT
END:VCALENDAR