BEGIN:VCALENDAR
VERSION:2.0
PRODID:-//NightClub.TO - ECPv6.8.2.1//NONSGML v1.0//EN
CALSCALE:GREGORIAN
METHOD:PUBLISH
X-ORIGINAL-URL:https://nightclub.to
X-WR-CALDESC:Events for NightClub.TO
REFRESH-INTERVAL;VALUE=DURATION:PT1H
X-Robots-Tag:noindex
X-PUBLISHED-TTL:PT1H
BEGIN:VTIMEZONE
TZID:America/Toronto
BEGIN:DAYLIGHT
TZOFFSETFROM:-0500
TZOFFSETTO:-0400
TZNAME:EDT
DTSTART:20250309T070000
END:DAYLIGHT
BEGIN:STANDARD
TZOFFSETFROM:-0400
TZOFFSETTO:-0500
TZNAME:EST
DTSTART:20251102T060000
END:STANDARD
END:VTIMEZONE
BEGIN:VEVENT
DTSTART;TZID=America/Toronto:20251116T170000
DTEND;TZID=America/Toronto:20251116T170000
DTSTAMP:20260425T123201
CREATED:20251115T000502Z
LAST-MODIFIED:20251115T210830Z
UID:10001318-1763312400-1763312400@nightclub.to
SUMMARY:Sexyy Red - Live In Concert
DESCRIPTION:
URL:https://nightclub.to/event/sexyy-red-live-in-concert/
LOCATION:Rebel\, Toronto
CATEGORIES:Hip-Hop/Rap
ATTACH;FMTTYPE=image/jpeg:https://nightclub.to/wp-content/uploads/2025/11/sexyy-red-live-in-concert.jpg
END:VEVENT
BEGIN:VEVENT
DTSTART;TZID=America/Toronto:20251112T190000
DTEND;TZID=America/Toronto:20251112T190000
DTSTAMP:20260425T123201
CREATED:20251110T061040Z
LAST-MODIFIED:20251113T000215Z
UID:10001301-1762974000-1762974000@nightclub.to
SUMMARY:DANNY BROWN - STARDUST TOUR
DESCRIPTION:
URL:https://nightclub.to/event/danny-brown-stardust-tour/
LOCATION:Rebel\, Toronto
CATEGORIES:Hip-Hop/Rap
ATTACH;FMTTYPE=image/jpeg:https://nightclub.to/wp-content/uploads/2024/03/danny-brown-quaranta-24-sold-out.jpg
END:VEVENT
BEGIN:VEVENT
DTSTART;TZID=America/Toronto:20251112T190000
DTEND;TZID=America/Toronto:20251112T190000
DTSTAMP:20260425T123201
CREATED:20251110T060917Z
LAST-MODIFIED:20251113T055813Z
UID:10001300-1762974000-1762974000@nightclub.to
SUMMARY:"Monster Energy Outbreak" Presents 4batz: Im Still Shinin Tour
DESCRIPTION:
URL:https://nightclub.to/event/monster-energy-outbreak-presents-4batz-im-still-shinin-tour/
LOCATION:The Phoenix Concert Theatre\, Toronto
CATEGORIES:Hip-Hop/Rap
ATTACH;FMTTYPE=image/jpeg:https://nightclub.to/wp-content/uploads/2025/11/monster-energy-outbreak-presents-4batz-im-still-shinin-tour.jpg
END:VEVENT
BEGIN:VEVENT
DTSTART;TZID=America/Toronto:20251110T220000
DTEND;TZID=America/Toronto:20251110T220000
DTSTAMP:20260425T123201
CREATED:20251109T060244Z
LAST-MODIFIED:20251111T100046Z
UID:10001294-1762812000-1762812000@nightclub.to
SUMMARY:REAL LOVE: A R&B LOVE STORY
DESCRIPTION:
URL:https://nightclub.to/event/real-love-a-rb-love-story/
LOCATION:Celebrities Nightclub\, Vancouver
CATEGORIES:Hip-Hop/Rap
ATTACH;FMTTYPE=image/png:https://nightclub.to/wp-content/uploads/2025/11/real-love-a-rb-love-story.png
END:VEVENT
BEGIN:VEVENT
DTSTART;TZID=America/Toronto:20251109T200000
DTEND;TZID=America/Toronto:20251109T200000
DTSTAMP:20260425T123201
CREATED:20251108T100240Z
LAST-MODIFIED:20251110T050052Z
UID:10001290-1762718400-1762718400@nightclub.to
SUMMARY:Sultaan Rap God tour
DESCRIPTION:
URL:https://nightclub.to/event/sultaan-rap-god-tour/
LOCATION:The Phoenix Concert Theatre\, Toronto
CATEGORIES:Hip-Hop/Rap
ATTACH;FMTTYPE=image/png:https://nightclub.to/wp-content/uploads/2025/11/sultaan-rap-god-tour.png
END:VEVENT
BEGIN:VEVENT
DTSTART;TZID=America/Toronto:20251106T190000
DTEND;TZID=America/Toronto:20251106T190000
DTSTAMP:20260425T123201
CREATED:20251104T060922Z
LAST-MODIFIED:20251107T045750Z
UID:10001276-1762455600-1762455600@nightclub.to
SUMMARY:Lil Tecca: The Dopamine Experience
DESCRIPTION:
URL:https://nightclub.to/event/lil-tecca-the-dopamine-experience-2/
LOCATION:Rebel\, Toronto
CATEGORIES:Hip-Hop/Rap
ATTACH;FMTTYPE=image/jpeg:https://nightclub.to/wp-content/uploads/2025/11/lil-tecca-the-dopamine-experience-scaled.jpg
END:VEVENT
BEGIN:VEVENT
DTSTART;TZID=America/Toronto:20251104T190000
DTEND;TZID=America/Toronto:20251104T190000
DTSTAMP:20260425T123201
CREATED:20251102T050901Z
LAST-MODIFIED:20251105T045846Z
UID:10001268-1762282800-1762282800@nightclub.to
SUMMARY:Lil Tecca: The Dopamine Experience
DESCRIPTION:
URL:https://nightclub.to/event/lil-tecca-the-dopamine-experience/
LOCATION:Rebel\, Toronto
CATEGORIES:Hip-Hop/Rap
ATTACH;FMTTYPE=image/jpeg:https://nightclub.to/wp-content/uploads/2025/11/lil-tecca-the-dopamine-experience-scaled.jpg
END:VEVENT
BEGIN:VEVENT
DTSTART;TZID=America/Toronto:20251030T200000
DTEND;TZID=America/Toronto:20251030T200000
DTSTAMP:20260425T123201
CREATED:20251028T051023Z
LAST-MODIFIED:20251031T000041Z
UID:10001247-1761854400-1761854400@nightclub.to
SUMMARY:Pete & Bas with Delivery Boys
DESCRIPTION:
URL:https://nightclub.to/event/pete-bas-with-delivery-boys/
LOCATION:The Phoenix Concert Theatre\, Toronto
CATEGORIES:Hip-Hop/Rap
ATTACH;FMTTYPE=image/png:https://nightclub.to/wp-content/uploads/2025/10/pete-bas-with-delivery-boys.png
END:VEVENT
BEGIN:VEVENT
DTSTART;TZID=America/Toronto:20251030T193000
DTEND;TZID=America/Toronto:20251030T193000
DTSTAMP:20260425T123201
CREATED:20250822T192044Z
LAST-MODIFIED:20251031T040239Z
UID:10001028-1761852600-1761852600@nightclub.to
SUMMARY:OsamaSon - Psykotic Tour
DESCRIPTION:
URL:https://nightclub.to/event/osamason-psykotic-tour/
LOCATION:Rebel\, Toronto
CATEGORIES:Hip-Hop/Rap
ATTACH;FMTTYPE=image/jpeg:https://nightclub.to/wp-content/uploads/2025/08/osamason-psykotic-tour.jpg
END:VEVENT
BEGIN:VEVENT
DTSTART;TZID=America/Toronto:20251030T190000
DTEND;TZID=America/Toronto:20251030T190000
DTSTAMP:20260425T123201
CREATED:20251027T040401Z
LAST-MODIFIED:20251029T192347Z
UID:10001244-1761850800-1761850800@nightclub.to
SUMMARY:GASHI
DESCRIPTION:
URL:https://nightclub.to/event/gashi/
LOCATION:The Mod Club (formerly known as The Axis Club)\, Toronto
CATEGORIES:Hip-Hop/Rap
ATTACH;FMTTYPE=image/jpeg:https://nightclub.to/wp-content/uploads/2025/10/gashi.jpg
END:VEVENT
BEGIN:VEVENT
DTSTART;TZID=America/Toronto:20251022T190000
DTEND;TZID=America/Toronto:20251022T190000
DTSTAMP:20260425T123201
CREATED:20251020T050817Z
LAST-MODIFIED:20251023T040343Z
UID:10001221-1761159600-1761159600@nightclub.to
SUMMARY:J.I.D - God Does Like Paradise Tour
DESCRIPTION:
URL:https://nightclub.to/event/j-i-d-god-does-like-paradise-tour/
LOCATION:Rebel\, Toronto
CATEGORIES:Hip-Hop/Rap
ATTACH;FMTTYPE=image/jpeg:https://nightclub.to/wp-content/uploads/2025/10/j-i-d-god-does-like-paradise-tour-scaled.jpg
END:VEVENT
BEGIN:VEVENT
DTSTART;TZID=America/Toronto:20251021T190000
DTEND;TZID=America/Toronto:20251021T190000
DTSTAMP:20260425T123201
CREATED:20251019T050304Z
LAST-MODIFIED:20251022T045614Z
UID:10001215-1761073200-1761073200@nightclub.to
SUMMARY:JOEY VALENCE & BRAE - HYPERYOUTH World Tour
DESCRIPTION:
URL:https://nightclub.to/event/joey-valence-brae-hyperyouth-world-tour/
LOCATION:The Danforth Music Hall\, Toronto
CATEGORIES:Hip-Hop/Rap
ATTACH;FMTTYPE=image/jpeg:https://nightclub.to/wp-content/uploads/2025/10/joey-valence-brae-hyperyouth-world-tour.jpg
END:VEVENT
BEGIN:VEVENT
DTSTART;TZID=America/Toronto:20251019T190000
DTEND;TZID=America/Toronto:20251019T190000
DTSTAMP:20260425T123201
CREATED:20251018T050610Z
LAST-MODIFIED:20251020T040241Z
UID:10001211-1760900400-1760900400@nightclub.to
SUMMARY:MASTER PEACE - No More Underground: North America Tour
DESCRIPTION:
URL:https://nightclub.to/event/master-peace-no-more-underground-north-america-tour/
LOCATION:Drake Underground\, Toronto
CATEGORIES:Hip-Hop/Rap
ATTACH;FMTTYPE=image/png:https://nightclub.to/wp-content/uploads/2025/10/master-peace-no-more-underground-north-america-tour.png
END:VEVENT
BEGIN:VEVENT
DTSTART;TZID=America/Toronto:20251019T190000
DTEND;TZID=America/Toronto:20251019T190000
DTSTAMP:20260425T123201
CREATED:20251018T000205Z
LAST-MODIFIED:20251020T045950Z
UID:10001210-1760900400-1760900400@nightclub.to
SUMMARY:Tee Grizzley - Forever My Moment Tour
DESCRIPTION:
URL:https://nightclub.to/event/tee-grizzley-forever-my-moment-tour/
LOCATION:Velvet Underground\, Toronto
CATEGORIES:Hip-Hop/Rap
ATTACH;FMTTYPE=image/jpeg:https://nightclub.to/wp-content/uploads/2025/10/tee-grizzley-forever-my-moment-tour.jpg
END:VEVENT
BEGIN:VEVENT
DTSTART;TZID=America/Toronto:20251012T220000
DTEND;TZID=America/Toronto:20251012T220000
DTSTAMP:20260425T123201
CREATED:20251011T090632Z
LAST-MODIFIED:20251013T085815Z
UID:10001188-1760306400-1760306400@nightclub.to
SUMMARY:REAL LOVE LONG WEEKEND: A R&B LOVE STORY
DESCRIPTION:
URL:https://nightclub.to/event/real-love-long-weekend-a-rb-love-story/
LOCATION:Celebrities Nightclub\, Vancouver
CATEGORIES:Hip-Hop/Rap
ATTACH;FMTTYPE=image/png:https://nightclub.to/wp-content/uploads/2025/10/real-love-long-weekend-a-rb-love-story.png
END:VEVENT
BEGIN:VEVENT
DTSTART;TZID=America/Toronto:20251007T190000
DTEND;TZID=America/Toronto:20251007T190000
DTSTAMP:20260425T123201
CREATED:20251005T050645Z
LAST-MODIFIED:20251008T050307Z
UID:10001164-1759863600-1759863600@nightclub.to
SUMMARY:Skizzy Mars
DESCRIPTION:
URL:https://nightclub.to/event/skizzy-mars/
LOCATION:Velvet Underground\, Toronto
CATEGORIES:Hip-Hop/Rap
ATTACH;FMTTYPE=image/jpeg:https://nightclub.to/wp-content/uploads/2025/10/skizzy-mars.jpg
END:VEVENT
BEGIN:VEVENT
DTSTART;TZID=America/Toronto:20251006T190000
DTEND;TZID=America/Toronto:20251006T190000
DTSTAMP:20260425T123201
CREATED:20251005T001033Z
LAST-MODIFIED:20251007T035901Z
UID:10001161-1759777200-1759777200@nightclub.to
SUMMARY:Chance the Rapper - And We Back Tour
DESCRIPTION:
URL:https://nightclub.to/event/chance-the-rapper-and-we-back-tour/
LOCATION:Rebel\, Toronto
CATEGORIES:Hip-Hop/Rap
ATTACH;FMTTYPE=image/jpeg:https://nightclub.to/wp-content/uploads/2025/10/chance-the-rapper-and-we-back-tour.jpg
END:VEVENT
BEGIN:VEVENT
DTSTART;TZID=America/Toronto:20250929T200000
DTEND;TZID=America/Toronto:20250929T200000
DTSTAMP:20260425T123201
CREATED:20250927T100304Z
LAST-MODIFIED:20250930T054107Z
UID:10001137-1759176000-1759176000@nightclub.to
SUMMARY:Kota The Friend
DESCRIPTION:
URL:https://nightclub.to/event/kota-the-friend/
LOCATION:The Phoenix Concert Theatre\, Toronto
CATEGORIES:Hip-Hop/Rap
ATTACH;FMTTYPE=image/jpeg:https://nightclub.to/wp-content/uploads/2025/09/kota-the-friend.jpg
END:VEVENT
BEGIN:VEVENT
DTSTART;TZID=America/Toronto:20250928T190000
DTEND;TZID=America/Toronto:20250928T190000
DTSTAMP:20260425T123201
CREATED:20250927T000229Z
LAST-MODIFIED:20250929T045819Z
UID:10001133-1759086000-1759086000@nightclub.to
SUMMARY:Jok'Air
DESCRIPTION:
URL:https://nightclub.to/event/jokair/
LOCATION:The Mod Club (formerly known as The Axis Club)\, Toronto
CATEGORIES:Hip-Hop/Rap
END:VEVENT
BEGIN:VEVENT
DTSTART;TZID=America/Toronto:20250926T210000
DTEND;TZID=America/Toronto:20250926T210000
DTSTAMP:20260425T123201
CREATED:20250925T050958Z
LAST-MODIFIED:20250925T235910Z
UID:10001127-1758920400-1758920400@nightclub.to
SUMMARY:Totally 2000's Video Dance Party
DESCRIPTION:
URL:https://nightclub.to/event/totally-2000s-video-dance-party/
LOCATION:The Phoenix Concert Theatre\, Toronto
CATEGORIES:Hip-Hop/Rap
ATTACH;FMTTYPE=image/png:https://nightclub.to/wp-content/uploads/2025/09/totally-2000s-video-dance-party.png
END:VEVENT
BEGIN:VEVENT
DTSTART;TZID=America/Toronto:20250925T190000
DTEND;TZID=America/Toronto:20250925T190000
DTSTAMP:20260425T123201
CREATED:20250922T051222Z
LAST-MODIFIED:20250924T235745Z
UID:10001116-1758826800-1758826800@nightclub.to
SUMMARY:BABYTRON
DESCRIPTION:
URL:https://nightclub.to/event/babytron/
LOCATION:Velvet Underground\, Toronto
CATEGORIES:Hip-Hop/Rap
ATTACH;FMTTYPE=image/jpeg:https://nightclub.to/wp-content/uploads/2024/11/babytron-blp-kosher-moved-to-phoenix-concert-theatre-scaled.jpg
END:VEVENT
BEGIN:VEVENT
DTSTART;TZID=America/Toronto:20250924T200000
DTEND;TZID=America/Toronto:20250924T200000
DTSTAMP:20260425T123201
CREATED:20250921T230734Z
LAST-MODIFIED:20250924T140309Z
UID:10001112-1758744000-1758744000@nightclub.to
SUMMARY:GoldLink Presents "Enoch" w/ Spark Houston\, GRG Cult\, Generous Poet\, Ohbrreezy\, TJM
DESCRIPTION:
URL:https://nightclub.to/event/goldlink-presents-enoch-w-spark-houston-grg-cult-generous-poet-ohbrreezy-tjm/
LOCATION:The Phoenix Concert Theatre\, Toronto
CATEGORIES:Hip-Hop/Rap
ATTACH;FMTTYPE=image/jpeg:https://nightclub.to/wp-content/uploads/2025/09/goldlink-presents-enoch-w-spark-houston-grg-cult-generous-poet-ohbrreezy-tjm.jpg
END:VEVENT
BEGIN:VEVENT
DTSTART;TZID=America/Toronto:20250921T190000
DTEND;TZID=America/Toronto:20250921T190000
DTSTAMP:20260425T123201
CREATED:20250920T000643Z
LAST-MODIFIED:20250922T045635Z
UID:10001103-1758481200-1758481200@nightclub.to
SUMMARY:Cochise
DESCRIPTION:
URL:https://nightclub.to/event/cochise-2/
LOCATION:The Mod Club (formerly known as The Axis Club)\, Toronto
CATEGORIES:Hip-Hop/Rap
ATTACH;FMTTYPE=image/jpeg:https://nightclub.to/wp-content/uploads/2025/09/cochise-2.jpg
END:VEVENT
BEGIN:VEVENT
DTSTART;TZID=America/Toronto:20250918T193000
DTEND;TZID=America/Toronto:20250918T193000
DTSTAMP:20260425T123201
CREATED:20250917T050940Z
LAST-MODIFIED:20250917T235931Z
UID:10001087-1758223800-1758223800@nightclub.to
SUMMARY:JO DOLO: Going Gold Tour
DESCRIPTION:
URL:https://nightclub.to/event/jo-dolo-going-gold-tour/
LOCATION:Drake Underground\, Toronto
CATEGORIES:Hip-Hop/Rap
ATTACH;FMTTYPE=image/png:https://nightclub.to/wp-content/uploads/2025/09/jo-dolo-going-gold-tour.png
END:VEVENT
BEGIN:VEVENT
DTSTART;TZID=America/Toronto:20250916T190000
DTEND;TZID=America/Toronto:20250916T190000
DTSTAMP:20260425T123201
CREATED:20250913T080653Z
LAST-MODIFIED:20250917T050124Z
UID:10001077-1758049200-1758049200@nightclub.to
SUMMARY:B.o.B - Adventures of Bobby Ray 15th Anniversary Tour
DESCRIPTION:
URL:https://nightclub.to/event/b-o-b-adventures-of-bobby-ray-15th-anniversary-tour/
LOCATION:The Mod Club (formerly known as The Axis Club)\, Toronto
CATEGORIES:Hip-Hop/Rap
ATTACH;FMTTYPE=image/jpeg:https://nightclub.to/wp-content/uploads/2025/09/b-o-b-adventures-of-bobby-ray-15th-anniversary-tour-scaled.jpg
END:VEVENT
BEGIN:VEVENT
DTSTART;TZID=America/Toronto:20250914T190000
DTEND;TZID=America/Toronto:20250914T190000
DTSTAMP:20260425T123201
CREATED:20250913T000423Z
LAST-MODIFIED:20250915T050045Z
UID:10001074-1757876400-1757876400@nightclub.to
SUMMARY:Smokedope2016
DESCRIPTION:
URL:https://nightclub.to/event/smokedope2016/
LOCATION:The Mod Club (formerly known as The Axis Club)\, Toronto
CATEGORIES:Hip-Hop/Rap
ATTACH;FMTTYPE=image/jpeg:https://nightclub.to/wp-content/uploads/2025/09/smokedope2016-scaled.jpg
END:VEVENT
BEGIN:VEVENT
DTSTART;TZID=America/Toronto:20250914T190000
DTEND;TZID=America/Toronto:20250914T190000
DTSTAMP:20260425T123201
CREATED:20250913T000421Z
LAST-MODIFIED:20250915T050047Z
UID:10001075-1757876400-1757876400@nightclub.to
SUMMARY:Mark Battles Live In Toronto
DESCRIPTION:
URL:https://nightclub.to/event/mark-battles-live-in-toronto/
LOCATION:Velvet Underground\, Toronto
CATEGORIES:Hip-Hop/Rap
END:VEVENT
BEGIN:VEVENT
DTSTART;TZID=America/Toronto:20250911T190000
DTEND;TZID=America/Toronto:20250911T190000
DTSTAMP:20260425T123201
CREATED:20250908T050843Z
LAST-MODIFIED:20250911T235416Z
UID:10001061-1757617200-1757617200@nightclub.to
SUMMARY:CupcakKe - Presented By F7 Live & Nightshift Entertainment
DESCRIPTION:
URL:https://nightclub.to/event/cupcakke-presented-by-f7-live-nightshift-entertainment/
LOCATION:The Phoenix Concert Theatre\, Toronto
CATEGORIES:Dance/Electronic,Hip-Hop/Rap
ATTACH;FMTTYPE=image/jpeg:https://nightclub.to/wp-content/uploads/2025/09/cupcakke-presented-by-f7-live-nightshift-entertainment.jpg
END:VEVENT
BEGIN:VEVENT
DTSTART;TZID=America/Toronto:20250905T220000
DTEND;TZID=America/Toronto:20250905T220000
DTSTAMP:20260425T123201
CREATED:20250901T090854Z
LAST-MODIFIED:20250904T235753Z
UID:10001042-1757109600-1757109600@nightclub.to
SUMMARY:FOR REAL FRIDAYS 1 YEAR ANNIVERSARY and SUMMER 4EVER FINALE presented by Real Love
DESCRIPTION:
URL:https://nightclub.to/event/for-real-fridays-1-year-anniversary-and-summer-4ever-finale-presented-by-real-love/
LOCATION:Celebrities Nightclub\, Vancouver
CATEGORIES:Hip-Hop/Rap
ATTACH;FMTTYPE=image/png:https://nightclub.to/wp-content/uploads/2025/09/for-real-fridays-1-year-anniversary-and-summer-4ever-finale-presented-by-real-love.png
END:VEVENT
BEGIN:VEVENT
DTSTART;TZID=America/Toronto:20250905T190000
DTEND;TZID=America/Toronto:20250905T190000
DTSTAMP:20260425T123201
CREATED:20250901T060644Z
LAST-MODIFIED:20250905T235844Z
UID:10001041-1757098800-1757098800@nightclub.to
SUMMARY:DUCKWRTH - All American Freak Show Tour
DESCRIPTION:
URL:https://nightclub.to/event/duckwrth-all-american-freak-show-tour/
LOCATION:The Phoenix Concert Theatre\, Toronto
CATEGORIES:Hip-Hop/Rap
ATTACH;FMTTYPE=image/jpeg:https://nightclub.to/wp-content/uploads/2025/09/duckwrth-all-american-freak-show-tour.jpg
END:VEVENT
END:VCALENDAR