BEGIN:VCALENDAR
VERSION:2.0
PRODID:-//NightClub.TO - ECPv6.8.2.1//NONSGML v1.0//EN
CALSCALE:GREGORIAN
METHOD:PUBLISH
X-ORIGINAL-URL:https://nightclub.to
X-WR-CALDESC:Events for NightClub.TO
REFRESH-INTERVAL;VALUE=DURATION:PT1H
X-Robots-Tag:noindex
X-PUBLISHED-TTL:PT1H
BEGIN:VTIMEZONE
TZID:America/Toronto
BEGIN:DAYLIGHT
TZOFFSETFROM:-0500
TZOFFSETTO:-0400
TZNAME:EDT
DTSTART:20250309T070000
END:DAYLIGHT
BEGIN:STANDARD
TZOFFSETFROM:-0400
TZOFFSETTO:-0500
TZNAME:EST
DTSTART:20251102T060000
END:STANDARD
BEGIN:DAYLIGHT
TZOFFSETFROM:-0500
TZOFFSETTO:-0400
TZNAME:EDT
DTSTART:20260308T070000
END:DAYLIGHT
BEGIN:STANDARD
TZOFFSETFROM:-0400
TZOFFSETTO:-0500
TZNAME:EST
DTSTART:20261101T060000
END:STANDARD
END:VTIMEZONE
BEGIN:VEVENT
DTSTART;TZID=America/Toronto:20260201T190000
DTEND;TZID=America/Toronto:20260201T190000
DTSTAMP:20260425T093228
CREATED:20260131T000627Z
LAST-MODIFIED:20260202T060047Z
UID:10001483-1769972400-1769972400@nightclub.to
SUMMARY:ESDEEKID REBEL TOUR REINFORCED BY RICO ACE
DESCRIPTION:
URL:https://nightclub.to/event/esdeekid-rebel-tour-reinforced-by-rico-ace-2/
LOCATION:The Mod Club\, Toronto
CATEGORIES:Hip-Hop/Rap
ATTACH;FMTTYPE=image/jpeg:https://nightclub.to/wp-content/uploads/2026/01/esdeekid-rebel-tour-reinforced-by-rico-ace.jpg
END:VEVENT
BEGIN:VEVENT
DTSTART;TZID=America/Toronto:20260131T190000
DTEND;TZID=America/Toronto:20260131T190000
DTSTAMP:20260425T093228
CREATED:20260129T060458Z
LAST-MODIFIED:20260201T055712Z
UID:10001478-1769886000-1769886000@nightclub.to
SUMMARY:ESDEEKID REBEL TOUR REINFORCED BY RICO ACE
DESCRIPTION:
URL:https://nightclub.to/event/esdeekid-rebel-tour-reinforced-by-rico-ace/
LOCATION:The Mod Club\, Toronto
CATEGORIES:Hip-Hop/Rap
ATTACH;FMTTYPE=image/jpeg:https://nightclub.to/wp-content/uploads/2026/01/esdeekid-rebel-tour-reinforced-by-rico-ace.jpg
END:VEVENT
BEGIN:VEVENT
DTSTART;TZID=America/Toronto:20260130T220000
DTEND;TZID=America/Toronto:20260130T220000
DTSTAMP:20260425T093228
CREATED:20260125T100326Z
LAST-MODIFIED:20260131T100016Z
UID:10001473-1769810400-1769810400@nightclub.to
SUMMARY:FOR REAL FRIDAYS - R4P&B
DESCRIPTION:
URL:https://nightclub.to/event/for-real-fridays-r4pb-6/
LOCATION:Celebrities Nightclub\, Vancouver
CATEGORIES:Hip-Hop/Rap
ATTACH;FMTTYPE=image/png:https://nightclub.to/wp-content/uploads/2026/01/for-real-fridays-r4pb-6.png
END:VEVENT
BEGIN:VEVENT
DTSTART;TZID=America/Toronto:20260130T190000
DTEND;TZID=America/Toronto:20260130T190000
DTSTAMP:20260425T093228
CREATED:20260126T060500Z
LAST-MODIFIED:20260131T050023Z
UID:10001475-1769799600-1769799600@nightclub.to
SUMMARY:The Pharcyde
DESCRIPTION:
URL:https://nightclub.to/event/the-pharcyde/
LOCATION:The Phoenix Concert Theatre\, Toronto
CATEGORIES:Hip-Hop/Rap
ATTACH;FMTTYPE=image/jpeg:https://nightclub.to/wp-content/uploads/2026/01/the-pharcyde.jpg
END:VEVENT
BEGIN:VEVENT
DTSTART;TZID=America/Toronto:20260116T220000
DTEND;TZID=America/Toronto:20260116T220000
DTSTAMP:20260425T093228
CREATED:20260104T070709Z
LAST-MODIFIED:20260117T095714Z
UID:10001447-1768600800-1768600800@nightclub.to
SUMMARY:FOR REAL FRIDAYS - R4P&B
DESCRIPTION:
URL:https://nightclub.to/event/for-real-fridays-r4pb-5/
LOCATION:Celebrities Nightclub\, Vancouver
CATEGORIES:Hip-Hop/Rap
ATTACH;FMTTYPE=image/png:https://nightclub.to/wp-content/uploads/2026/01/for-real-fridays-r4pb-5.png
END:VEVENT
BEGIN:VEVENT
DTSTART;TZID=America/Toronto:20260109T220000
DTEND;TZID=America/Toronto:20260109T220000
DTSTAMP:20260425T093228
CREATED:20251228T131145Z
LAST-MODIFIED:20260110T095537Z
UID:10001441-1767996000-1767996000@nightclub.to
SUMMARY:FOR REAL FRIDAYS - R4P&B
DESCRIPTION:
URL:https://nightclub.to/event/for-real-fridays-r4pb-4/
LOCATION:Celebrities Nightclub\, Vancouver
CATEGORIES:Hip-Hop/Rap
ATTACH;FMTTYPE=image/png:https://nightclub.to/wp-content/uploads/2025/12/for-real-fridays-r4pb-4.png
END:VEVENT
BEGIN:VEVENT
DTSTART;TZID=America/Toronto:20260102T220000
DTEND;TZID=America/Toronto:20260102T220000
DTSTAMP:20260425T093228
CREATED:20251227T110737Z
LAST-MODIFIED:20260103T095939Z
UID:10001438-1767391200-1767391200@nightclub.to
SUMMARY:FOR REAL FRIDAYS 2026: NEW YEAR\, NEW ME
DESCRIPTION:
URL:https://nightclub.to/event/for-real-fridays-2026-new-year-new-me/
LOCATION:Celebrities Nightclub\, Vancouver
CATEGORIES:Hip-Hop/Rap
ATTACH;FMTTYPE=image/png:https://nightclub.to/wp-content/uploads/2025/12/for-real-fridays-2026-new-year-new-me.png
END:VEVENT
BEGIN:VEVENT
DTSTART;TZID=America/Toronto:20251221T220000
DTEND;TZID=America/Toronto:20251221T220000
DTSTAMP:20260425T093228
CREATED:20251219T100311Z
LAST-MODIFIED:20251222T095538Z
UID:10001420-1766354400-1766354400@nightclub.to
SUMMARY:REAL LOVE HOLIDAYS
DESCRIPTION:
URL:https://nightclub.to/event/real-love-holidays-2/
LOCATION:Celebrities Nightclub\, Vancouver
CATEGORIES:Hip-Hop/Rap
ATTACH;FMTTYPE=image/png:https://nightclub.to/wp-content/uploads/2025/12/real-love-holidays-2.png
END:VEVENT
BEGIN:VEVENT
DTSTART;TZID=America/Toronto:20251218T223000
DTEND;TZID=America/Toronto:20251218T223000
DTSTAMP:20260425T093228
CREATED:20251214T080459Z
LAST-MODIFIED:20251217T012438Z
UID:10001409-1766097000-1766097000@nightclub.to
SUMMARY:Burna Boy Hosts the No Sign of Weakness Concert Afterparty
DESCRIPTION:
URL:https://nightclub.to/event/burna-boy-hosts-the-no-sign-of-weakness-concert-afterparty/
LOCATION:Rebel\, Toronto
CATEGORIES:Hip-Hop/Rap
ATTACH;FMTTYPE=image/jpeg:https://nightclub.to/wp-content/uploads/2025/12/burna-boy-hosts-the-no-sign-of-weakness-concert-afterparty-scaled.jpg
END:VEVENT
BEGIN:VEVENT
DTSTART;TZID=America/Toronto:20251217T190000
DTEND;TZID=America/Toronto:20251217T190000
DTSTAMP:20260425T093228
CREATED:20251214T070356Z
LAST-MODIFIED:20251218T055748Z
UID:10001407-1765998000-1765998000@nightclub.to
SUMMARY:Bankrol Hayden
DESCRIPTION:
URL:https://nightclub.to/event/bankrol-hayden/
LOCATION:The Mod Club (formerly known as The Axis Club)\, Toronto
CATEGORIES:Hip-Hop/Rap
ATTACH;FMTTYPE=image/jpeg:https://nightclub.to/wp-content/uploads/2025/12/bankrol-hayden-scaled.jpg
END:VEVENT
BEGIN:VEVENT
DTSTART;TZID=America/Toronto:20251214T200000
DTEND;TZID=America/Toronto:20251214T200000
DTSTAMP:20260425T093228
CREATED:20251213T050611Z
LAST-MODIFIED:20251215T050213Z
UID:10001403-1765742400-1765742400@nightclub.to
SUMMARY:Pete Rock
DESCRIPTION:
URL:https://nightclub.to/event/pete-rock/
LOCATION:The Phoenix Concert Theatre\, Toronto
CATEGORIES:Hip-Hop/Rap
ATTACH;FMTTYPE=image/jpeg:https://nightclub.to/wp-content/uploads/2025/12/pete-rock.jpg
END:VEVENT
BEGIN:VEVENT
DTSTART;TZID=America/Toronto:20251213T210000
DTEND;TZID=America/Toronto:20251213T210000
DTSTAMP:20260425T093228
CREATED:20251212T000644Z
LAST-MODIFIED:20251214T075751Z
UID:10001398-1765659600-1765659600@nightclub.to
SUMMARY:iheartluster: evilgiane\, AL-P & luster
DESCRIPTION:
URL:https://nightclub.to/event/iheartluster-evilgiane-al-p-luster/
LOCATION:The Mod Club (formerly known as The Axis Club)\, Toronto
CATEGORIES:Hip-Hop/Rap
ATTACH;FMTTYPE=image/jpeg:https://nightclub.to/wp-content/uploads/2025/12/iheartluster-evilgiane-al-p-luster.jpg
END:VEVENT
BEGIN:VEVENT
DTSTART;TZID=America/Toronto:20251212T180000
DTEND;TZID=America/Toronto:20251212T180000
DTSTAMP:20260425T093228
CREATED:20250810T040920Z
LAST-MODIFIED:20251213T050010Z
UID:10000989-1765562400-1765562400@nightclub.to
SUMMARY:Inoi Music Festival
DESCRIPTION:
URL:https://nightclub.to/event/inoi-music-festival/
LOCATION:Rebel\, Toronto
CATEGORIES:Hip-Hop/Rap
END:VEVENT
BEGIN:VEVENT
DTSTART;TZID=America/Toronto:20251207T190000
DTEND;TZID=America/Toronto:20251207T190000
DTSTAMP:20260425T093228
CREATED:20251206T000600Z
LAST-MODIFIED:20251208T050053Z
UID:10001383-1765134000-1765134000@nightclub.to
SUMMARY:PARTYOF2 - AMERIKA’S NEXT TOP PARTY! TOUR
DESCRIPTION:
URL:https://nightclub.to/event/partyof2-amerikas-next-top-party-tour/
LOCATION:Drake Underground\, Toronto
CATEGORIES:Hip-Hop/Rap
ATTACH;FMTTYPE=image/png:https://nightclub.to/wp-content/uploads/2025/12/partyof2-amerikas-next-top-party-tour.png
END:VEVENT
BEGIN:VEVENT
DTSTART;TZID=America/Toronto:20251204T200000
DTEND;TZID=America/Toronto:20251204T200000
DTSTAMP:20260425T093228
CREATED:20251130T060602Z
LAST-MODIFIED:20251204T235832Z
UID:10001371-1764878400-1764878400@nightclub.to
SUMMARY:揽佬SKAI ISYOURGOD North American Tour 2025 | FFE Presents
DESCRIPTION:
URL:https://nightclub.to/event/%e6%8f%bd%e4%bd%acskai-isyourgod-north-american-tour-2025-ffe-presents/
LOCATION:The Phoenix Concert Theatre\, Toronto
CATEGORIES:Hip-Hop/Rap
ATTACH;FMTTYPE=image/png:https://nightclub.to/wp-content/uploads/2025/11/e68fbde4bdacskai-isyourgod-north-american-tour-2025-ffe-presents.png
END:VEVENT
BEGIN:VEVENT
DTSTART;TZID=America/Toronto:20251204T190000
DTEND;TZID=America/Toronto:20251204T190000
DTSTAMP:20260425T093228
CREATED:20251129T110800Z
LAST-MODIFIED:20251205T045356Z
UID:10001370-1764874800-1764874800@nightclub.to
SUMMARY:Rejjie Snow
DESCRIPTION:
URL:https://nightclub.to/event/rejjie-snow/
LOCATION:The Mod Club (formerly known as The Axis Club)\, Toronto
CATEGORIES:Hip-Hop/Rap
ATTACH;FMTTYPE=image/jpeg:https://nightclub.to/wp-content/uploads/2025/11/rejjie-snow.jpg
END:VEVENT
BEGIN:VEVENT
DTSTART;TZID=America/Toronto:20251129T210000
DTEND;TZID=America/Toronto:20251129T210000
DTSTAMP:20260425T093228
CREATED:20251128T000318Z
LAST-MODIFIED:20251130T065916Z
UID:10001364-1764450000-1764450000@nightclub.to
SUMMARY:Perreoland Toronto
DESCRIPTION:
URL:https://nightclub.to/event/perreoland-toronto/
LOCATION:Rebel\, Toronto
CATEGORIES:Hip-Hop/Rap
END:VEVENT
BEGIN:VEVENT
DTSTART;TZID=America/Toronto:20251127T190000
DTEND;TZID=America/Toronto:20251127T190000
DTSTAMP:20260425T093228
CREATED:20251123T080542Z
LAST-MODIFIED:20251128T055856Z
UID:10001349-1764270000-1764270000@nightclub.to
SUMMARY:SAFE
DESCRIPTION:
URL:https://nightclub.to/event/safe/
LOCATION:The Mod Club (formerly known as The Axis Club)\, Toronto
CATEGORIES:Hip-Hop/Rap
ATTACH;FMTTYPE=image/png:https://nightclub.to/wp-content/uploads/2025/11/safe.png
END:VEVENT
BEGIN:VEVENT
DTSTART;TZID=America/Toronto:20251123T190000
DTEND;TZID=America/Toronto:20251123T190000
DTSTAMP:20260425T093228
CREATED:20251122T000150Z
LAST-MODIFIED:20251124T055710Z
UID:10001341-1763924400-1763924400@nightclub.to
SUMMARY:D Smoke - Wake Up Supa Tour
DESCRIPTION:
URL:https://nightclub.to/event/d-smoke-wake-up-supa-tour/
LOCATION:The Mod Club (formerly known as The Axis Club)\, Toronto
CATEGORIES:Hip-Hop/Rap
ATTACH;FMTTYPE=image/jpeg:https://nightclub.to/wp-content/uploads/2025/11/d-smoke-wake-up-supa-tour.jpg
END:VEVENT
BEGIN:VEVENT
DTSTART;TZID=America/Toronto:20251122T223000
DTEND;TZID=America/Toronto:20251122T223000
DTSTAMP:20260425T093228
CREATED:20251003T220556Z
LAST-MODIFIED:20251123T083214Z
UID:10001183-1763850600-1763850600@nightclub.to
SUMMARY:Skillibeng: Live In Concert
DESCRIPTION:
URL:https://nightclub.to/event/skillibeng-live-in-concert-2/
LOCATION:Rebel\, Toronto
CATEGORIES:Hip-Hop/Rap
ATTACH;FMTTYPE=image/jpeg:https://nightclub.to/wp-content/uploads/2024/11/skillibeng-live-in-concert.jpg
END:VEVENT
BEGIN:VEVENT
DTSTART;TZID=America/Toronto:20251116T170000
DTEND;TZID=America/Toronto:20251116T170000
DTSTAMP:20260425T093228
CREATED:20251115T000502Z
LAST-MODIFIED:20251115T210830Z
UID:10001318-1763312400-1763312400@nightclub.to
SUMMARY:Sexyy Red - Live In Concert
DESCRIPTION:
URL:https://nightclub.to/event/sexyy-red-live-in-concert/
LOCATION:Rebel\, Toronto
CATEGORIES:Hip-Hop/Rap
ATTACH;FMTTYPE=image/jpeg:https://nightclub.to/wp-content/uploads/2025/11/sexyy-red-live-in-concert.jpg
END:VEVENT
BEGIN:VEVENT
DTSTART;TZID=America/Toronto:20251112T190000
DTEND;TZID=America/Toronto:20251112T190000
DTSTAMP:20260425T093228
CREATED:20251110T061040Z
LAST-MODIFIED:20251113T000215Z
UID:10001301-1762974000-1762974000@nightclub.to
SUMMARY:DANNY BROWN - STARDUST TOUR
DESCRIPTION:
URL:https://nightclub.to/event/danny-brown-stardust-tour/
LOCATION:Rebel\, Toronto
CATEGORIES:Hip-Hop/Rap
ATTACH;FMTTYPE=image/jpeg:https://nightclub.to/wp-content/uploads/2024/03/danny-brown-quaranta-24-sold-out.jpg
END:VEVENT
BEGIN:VEVENT
DTSTART;TZID=America/Toronto:20251112T190000
DTEND;TZID=America/Toronto:20251112T190000
DTSTAMP:20260425T093228
CREATED:20251110T060917Z
LAST-MODIFIED:20251113T055813Z
UID:10001300-1762974000-1762974000@nightclub.to
SUMMARY:"Monster Energy Outbreak" Presents 4batz: Im Still Shinin Tour
DESCRIPTION:
URL:https://nightclub.to/event/monster-energy-outbreak-presents-4batz-im-still-shinin-tour/
LOCATION:The Phoenix Concert Theatre\, Toronto
CATEGORIES:Hip-Hop/Rap
ATTACH;FMTTYPE=image/jpeg:https://nightclub.to/wp-content/uploads/2025/11/monster-energy-outbreak-presents-4batz-im-still-shinin-tour.jpg
END:VEVENT
BEGIN:VEVENT
DTSTART;TZID=America/Toronto:20251110T220000
DTEND;TZID=America/Toronto:20251110T220000
DTSTAMP:20260425T093228
CREATED:20251109T060244Z
LAST-MODIFIED:20251111T100046Z
UID:10001294-1762812000-1762812000@nightclub.to
SUMMARY:REAL LOVE: A R&B LOVE STORY
DESCRIPTION:
URL:https://nightclub.to/event/real-love-a-rb-love-story/
LOCATION:Celebrities Nightclub\, Vancouver
CATEGORIES:Hip-Hop/Rap
ATTACH;FMTTYPE=image/png:https://nightclub.to/wp-content/uploads/2025/11/real-love-a-rb-love-story.png
END:VEVENT
BEGIN:VEVENT
DTSTART;TZID=America/Toronto:20251109T200000
DTEND;TZID=America/Toronto:20251109T200000
DTSTAMP:20260425T093228
CREATED:20251108T100240Z
LAST-MODIFIED:20251110T050052Z
UID:10001290-1762718400-1762718400@nightclub.to
SUMMARY:Sultaan Rap God tour
DESCRIPTION:
URL:https://nightclub.to/event/sultaan-rap-god-tour/
LOCATION:The Phoenix Concert Theatre\, Toronto
CATEGORIES:Hip-Hop/Rap
ATTACH;FMTTYPE=image/png:https://nightclub.to/wp-content/uploads/2025/11/sultaan-rap-god-tour.png
END:VEVENT
BEGIN:VEVENT
DTSTART;TZID=America/Toronto:20251106T190000
DTEND;TZID=America/Toronto:20251106T190000
DTSTAMP:20260425T093228
CREATED:20251104T060922Z
LAST-MODIFIED:20251107T045750Z
UID:10001276-1762455600-1762455600@nightclub.to
SUMMARY:Lil Tecca: The Dopamine Experience
DESCRIPTION:
URL:https://nightclub.to/event/lil-tecca-the-dopamine-experience-2/
LOCATION:Rebel\, Toronto
CATEGORIES:Hip-Hop/Rap
ATTACH;FMTTYPE=image/jpeg:https://nightclub.to/wp-content/uploads/2025/11/lil-tecca-the-dopamine-experience-scaled.jpg
END:VEVENT
BEGIN:VEVENT
DTSTART;TZID=America/Toronto:20251104T190000
DTEND;TZID=America/Toronto:20251104T190000
DTSTAMP:20260425T093228
CREATED:20251102T050901Z
LAST-MODIFIED:20251105T045846Z
UID:10001268-1762282800-1762282800@nightclub.to
SUMMARY:Lil Tecca: The Dopamine Experience
DESCRIPTION:
URL:https://nightclub.to/event/lil-tecca-the-dopamine-experience/
LOCATION:Rebel\, Toronto
CATEGORIES:Hip-Hop/Rap
ATTACH;FMTTYPE=image/jpeg:https://nightclub.to/wp-content/uploads/2025/11/lil-tecca-the-dopamine-experience-scaled.jpg
END:VEVENT
BEGIN:VEVENT
DTSTART;TZID=America/Toronto:20251030T200000
DTEND;TZID=America/Toronto:20251030T200000
DTSTAMP:20260425T093228
CREATED:20251028T051023Z
LAST-MODIFIED:20251031T000041Z
UID:10001247-1761854400-1761854400@nightclub.to
SUMMARY:Pete & Bas with Delivery Boys
DESCRIPTION:
URL:https://nightclub.to/event/pete-bas-with-delivery-boys/
LOCATION:The Phoenix Concert Theatre\, Toronto
CATEGORIES:Hip-Hop/Rap
ATTACH;FMTTYPE=image/png:https://nightclub.to/wp-content/uploads/2025/10/pete-bas-with-delivery-boys.png
END:VEVENT
BEGIN:VEVENT
DTSTART;TZID=America/Toronto:20251030T193000
DTEND;TZID=America/Toronto:20251030T193000
DTSTAMP:20260425T093228
CREATED:20250822T192044Z
LAST-MODIFIED:20251031T040239Z
UID:10001028-1761852600-1761852600@nightclub.to
SUMMARY:OsamaSon - Psykotic Tour
DESCRIPTION:
URL:https://nightclub.to/event/osamason-psykotic-tour/
LOCATION:Rebel\, Toronto
CATEGORIES:Hip-Hop/Rap
ATTACH;FMTTYPE=image/jpeg:https://nightclub.to/wp-content/uploads/2025/08/osamason-psykotic-tour.jpg
END:VEVENT
BEGIN:VEVENT
DTSTART;TZID=America/Toronto:20251030T190000
DTEND;TZID=America/Toronto:20251030T190000
DTSTAMP:20260425T093228
CREATED:20251027T040401Z
LAST-MODIFIED:20251029T192347Z
UID:10001244-1761850800-1761850800@nightclub.to
SUMMARY:GASHI
DESCRIPTION:
URL:https://nightclub.to/event/gashi/
LOCATION:The Mod Club (formerly known as The Axis Club)\, Toronto
CATEGORIES:Hip-Hop/Rap
ATTACH;FMTTYPE=image/jpeg:https://nightclub.to/wp-content/uploads/2025/10/gashi.jpg
END:VEVENT
END:VCALENDAR