BEGIN:VCALENDAR
VERSION:2.0
PRODID:-//NightClub.TO - ECPv6.8.2.1//NONSGML v1.0//EN
CALSCALE:GREGORIAN
METHOD:PUBLISH
X-ORIGINAL-URL:https://nightclub.to
X-WR-CALDESC:Events for NightClub.TO
REFRESH-INTERVAL;VALUE=DURATION:PT1H
X-Robots-Tag:noindex
X-PUBLISHED-TTL:PT1H
BEGIN:VTIMEZONE
TZID:America/Toronto
BEGIN:DAYLIGHT
TZOFFSETFROM:-0500
TZOFFSETTO:-0400
TZNAME:EDT
DTSTART:20250309T070000
END:DAYLIGHT
BEGIN:STANDARD
TZOFFSETFROM:-0400
TZOFFSETTO:-0500
TZNAME:EST
DTSTART:20251102T060000
END:STANDARD
END:VTIMEZONE
BEGIN:VEVENT
DTSTART;TZID=America/Toronto:20250417T190000
DTEND;TZID=America/Toronto:20250417T190000
DTSTAMP:20260425T232047
CREATED:20250413T101745Z
LAST-MODIFIED:20250418T050314Z
UID:10000662-1744916400-1744916400@nightclub.to
SUMMARY:Jutes
DESCRIPTION:
URL:https://nightclub.to/event/jutes/
LOCATION:Velvet Underground\, Toronto
CATEGORIES:Hip-Hop/Rap
ATTACH;FMTTYPE=image/jpeg:https://nightclub.to/wp-content/uploads/2025/04/jutes.jpg
END:VEVENT
BEGIN:VEVENT
DTSTART;TZID=America/Toronto:20250415T190000
DTEND;TZID=America/Toronto:20250415T190000
DTSTAMP:20260425T232047
CREATED:20250412T050628Z
LAST-MODIFIED:20250416T050230Z
UID:10000656-1744743600-1744743600@nightclub.to
SUMMARY:BOSSMAN DLOW - DLOW CURRY TOUR
DESCRIPTION:
URL:https://nightclub.to/event/bossman-dlow-dlow-curry-tour/
LOCATION:The Phoenix Concert Theatre\, Toronto
CATEGORIES:Hip-Hop/Rap
ATTACH;FMTTYPE=image/jpeg:https://nightclub.to/wp-content/uploads/2025/04/bossman-dlow-dlow-curry-tour.jpg
END:VEVENT
BEGIN:VEVENT
DTSTART;TZID=America/Toronto:20250411T220000
DTEND;TZID=America/Toronto:20250411T220000
DTSTAMP:20260425T232047
CREATED:20250406T080943Z
LAST-MODIFIED:20250412T085949Z
UID:10000640-1744408800-1744408800@nightclub.to
SUMMARY:For Real Fridays presented by Real Love
DESCRIPTION:
URL:https://nightclub.to/event/for-real-fridays-presented-by-real-love-9/
LOCATION:Celebrities Nightclub\, Vancouver
CATEGORIES:Hip-Hop/Rap
ATTACH;FMTTYPE=image/png:https://nightclub.to/wp-content/uploads/2025/01/for-real-fridays-presented-by-real-love-2.png
END:VEVENT
BEGIN:VEVENT
DTSTART;TZID=America/Toronto:20250411T190000
DTEND;TZID=America/Toronto:20250411T190000
DTSTAMP:20260425T232047
CREATED:20250406T060436Z
LAST-MODIFIED:20250412T050250Z
UID:10000638-1744398000-1744398000@nightclub.to
SUMMARY:Kasta
DESCRIPTION:
URL:https://nightclub.to/event/kasta/
LOCATION:The Axis Club (formerly known as The Mod Club)\, Toronto
CATEGORIES:Hip-Hop/Rap
END:VEVENT
BEGIN:VEVENT
DTSTART;TZID=America/Toronto:20250409T190000
DTEND;TZID=America/Toronto:20250409T190000
DTSTAMP:20260425T232047
CREATED:20250405T060710Z
LAST-MODIFIED:20250410T050011Z
UID:10000633-1744225200-1744225200@nightclub.to
SUMMARY:YTB Fatt - NEW YEAR NEW PROBLEMS TOUR
DESCRIPTION:
URL:https://nightclub.to/event/ytb-fatt-new-year-new-problems-tour/
LOCATION:The Axis Club (formerly known as The Mod Club)\, Toronto
CATEGORIES:Hip-Hop/Rap
ATTACH;FMTTYPE=image/jpeg:https://nightclub.to/wp-content/uploads/2025/04/ytb-fatt-new-year-new-problems-tour.jpg
END:VEVENT
BEGIN:VEVENT
DTSTART;TZID=America/Toronto:20250404T220000
DTEND;TZID=America/Toronto:20250404T220000
DTSTAMP:20260425T232047
CREATED:20250403T050644Z
LAST-MODIFIED:20250405T090126Z
UID:10000625-1743804000-1743804000@nightclub.to
SUMMARY:FOR REAL Fridays: R4P Edition presented by Real Love
DESCRIPTION:
URL:https://nightclub.to/event/for-real-fridays-r4p-edition-presented-by-real-love-2/
LOCATION:Celebrities Nightclub\, Vancouver
CATEGORIES:Hip-Hop/Rap
ATTACH;FMTTYPE=image/png:https://nightclub.to/wp-content/uploads/2025/04/for-real-fridays-r4p-edition-presented-by-real-love-2.png
END:VEVENT
BEGIN:VEVENT
DTSTART;TZID=America/Toronto:20250404T190000
DTEND;TZID=America/Toronto:20250404T190000
DTSTAMP:20260425T232047
CREATED:20250401T050525Z
LAST-MODIFIED:20250405T050211Z
UID:10000620-1743793200-1743793200@nightclub.to
SUMMARY:Slum Village
DESCRIPTION:
URL:https://nightclub.to/event/slum-village/
LOCATION:Velvet Underground\, Toronto
CATEGORIES:Hip-Hop/Rap
END:VEVENT
BEGIN:VEVENT
DTSTART;TZID=America/Toronto:20250403T190000
DTEND;TZID=America/Toronto:20250403T190000
DTSTAMP:20260425T232047
CREATED:20250330T090527Z
LAST-MODIFIED:20250404T035620Z
UID:10000617-1743706800-1743706800@nightclub.to
SUMMARY:Connor Price - The Friends & Family Tour
DESCRIPTION:
URL:https://nightclub.to/event/connor-price-the-friends-family-tour/
LOCATION:Rebel\, Toronto
CATEGORIES:Hip-Hop/Rap
ATTACH;FMTTYPE=image/jpeg:https://nightclub.to/wp-content/uploads/2025/03/connor-price-the-friends-family-tour-scaled.jpg
END:VEVENT
BEGIN:VEVENT
DTSTART;TZID=America/Toronto:20250330T190000
DTEND;TZID=America/Toronto:20250330T190000
DTSTAMP:20260425T232047
CREATED:20250329T001437Z
LAST-MODIFIED:20250331T050453Z
UID:10000609-1743361200-1743361200@nightclub.to
SUMMARY:Rich Amiri - War Ready Tour
DESCRIPTION:
URL:https://nightclub.to/event/rich-amiri-war-ready-tour/
LOCATION:The Danforth Music Hall\, Toronto
CATEGORIES:Hip-Hop/Rap
ATTACH;FMTTYPE=image/jpeg:https://nightclub.to/wp-content/uploads/2025/03/rich-amiri-war-ready-tour.jpg
END:VEVENT
BEGIN:VEVENT
DTSTART;TZID=America/Toronto:20250328T220000
DTEND;TZID=America/Toronto:20250328T220000
DTSTAMP:20260425T232047
CREATED:20250327T050344Z
LAST-MODIFIED:20250329T085946Z
UID:10000603-1743199200-1743199200@nightclub.to
SUMMARY:For Real Fridays presented by Real Love
DESCRIPTION:
URL:https://nightclub.to/event/for-real-fridays-presented-by-real-love-8/
LOCATION:Celebrities Nightclub\, Vancouver
CATEGORIES:Hip-Hop/Rap
ATTACH;FMTTYPE=image/png:https://nightclub.to/wp-content/uploads/2025/03/for-real-fridays-presented-by-real-love-8.png
END:VEVENT
BEGIN:VEVENT
DTSTART;TZID=America/Toronto:20250321T220000
DTEND;TZID=America/Toronto:20250321T220000
DTSTAMP:20260425T232047
CREATED:20250320T224329Z
LAST-MODIFIED:20250322T090215Z
UID:10000583-1742594400-1742594400@nightclub.to
SUMMARY:RL2K: 3 YEAR ANNIVERSARY presented by Real Love
DESCRIPTION:
URL:https://nightclub.to/event/rl2k-3-year-anniversary-presented-by-real-love/
LOCATION:Celebrities Nightclub\, Vancouver
CATEGORIES:Hip-Hop/Rap
ATTACH;FMTTYPE=image/png:https://nightclub.to/wp-content/uploads/2025/03/rl2k-3-year-anniversary-presented-by-real-love.png
END:VEVENT
BEGIN:VEVENT
DTSTART;TZID=America/Toronto:20250314T220000
DTEND;TZID=America/Toronto:20250314T220000
DTSTAMP:20260425T232047
CREATED:20250311T050932Z
LAST-MODIFIED:20250315T085641Z
UID:10000562-1741989600-1741989600@nightclub.to
SUMMARY:For Real Fridays: R4VE Edition presented by Real Love
DESCRIPTION:
URL:https://nightclub.to/event/for-real-fridays-r4ve-edition-presented-by-real-love-2/
LOCATION:Celebrities Nightclub\, Vancouver
CATEGORIES:Hip-Hop/Rap
ATTACH;FMTTYPE=image/png:https://nightclub.to/wp-content/uploads/2025/03/for-real-fridays-r4ve-edition-presented-by-real-love-2.png
END:VEVENT
BEGIN:VEVENT
DTSTART;TZID=America/Toronto:20250310T190000
DTEND;TZID=America/Toronto:20250310T190000
DTSTAMP:20260425T232047
CREATED:20250308T071000Z
LAST-MODIFIED:20250311T045841Z
UID:10000551-1741633200-1741633200@nightclub.to
SUMMARY:K.Flay
DESCRIPTION:
URL:https://nightclub.to/event/k-flay/
LOCATION:The Danforth Music Hall\, Toronto
CATEGORIES:Hip-Hop/Rap
ATTACH;FMTTYPE=image/jpeg:https://nightclub.to/wp-content/uploads/2025/03/k-flay.jpg
END:VEVENT
BEGIN:VEVENT
DTSTART;TZID=America/Toronto:20250309T190000
DTEND;TZID=America/Toronto:20250309T190000
DTSTAMP:20260425T232047
CREATED:20250308T000216Z
LAST-MODIFIED:20250310T040352Z
UID:10000549-1741546800-1741546800@nightclub.to
SUMMARY:JORDAN ADETUNJI
DESCRIPTION:
URL:https://nightclub.to/event/jordan-adetunji/
LOCATION:Drake Underground\, Toronto
CATEGORIES:Hip-Hop/Rap
ATTACH;FMTTYPE=image/jpeg:https://nightclub.to/wp-content/uploads/2025/03/jordan-adetunji-scaled.jpg
END:VEVENT
BEGIN:VEVENT
DTSTART;TZID=America/Toronto:20250307T220000
DTEND;TZID=America/Toronto:20250307T220000
DTSTAMP:20260425T232047
CREATED:20250306T061112Z
LAST-MODIFIED:20250308T100227Z
UID:10000545-1741384800-1741384800@nightclub.to
SUMMARY:FOR REAL FRIDAYS: R4P EDITION presented by Real Love
DESCRIPTION:
URL:https://nightclub.to/event/for-real-fridays-r4p-edition-presented-by-real-love/
LOCATION:Celebrities Nightclub\, Vancouver
CATEGORIES:Hip-Hop/Rap
ATTACH;FMTTYPE=image/png:https://nightclub.to/wp-content/uploads/2025/03/for-real-fridays-r4p-edition-presented-by-real-love.png
END:VEVENT
BEGIN:VEVENT
DTSTART;TZID=America/Toronto:20250228T220000
DTEND;TZID=America/Toronto:20250228T220000
DTSTAMP:20260425T232047
CREATED:20250223T080310Z
LAST-MODIFIED:20250301T095857Z
UID:10000523-1740780000-1740780000@nightclub.to
SUMMARY:For Real Fridays presented by Real Love
DESCRIPTION:
URL:https://nightclub.to/event/for-real-fridays-presented-by-real-love-7/
LOCATION:Celebrities Nightclub\, Vancouver
CATEGORIES:Hip-Hop/Rap
ATTACH;FMTTYPE=image/png:https://nightclub.to/wp-content/uploads/2025/01/for-real-fridays-presented-by-real-love-2.png
END:VEVENT
BEGIN:VEVENT
DTSTART;TZID=America/Toronto:20250228T190000
DTEND;TZID=America/Toronto:20250228T190000
DTSTAMP:20260425T232047
CREATED:20250223T070735Z
LAST-MODIFIED:20250301T060050Z
UID:10000522-1740769200-1740769200@nightclub.to
SUMMARY:YACK TOUR 2025
DESCRIPTION:
URL:https://nightclub.to/event/yack-tour-2025/
LOCATION:The Axis Club (formerly known as The Mod Club)\, Toronto
CATEGORIES:Hip-Hop/Rap
END:VEVENT
BEGIN:VEVENT
DTSTART;TZID=America/Toronto:20250226T190000
DTEND;TZID=America/Toronto:20250226T190000
DTSTAMP:20260425T232047
CREATED:20250222T110642Z
LAST-MODIFIED:20250227T055858Z
UID:10000520-1740596400-1740596400@nightclub.to
SUMMARY:DC the Don
DESCRIPTION:
URL:https://nightclub.to/event/dc-the-don/
LOCATION:Velvet Underground\, Toronto
CATEGORIES:Hip-Hop/Rap
ATTACH;FMTTYPE=image/jpeg:https://nightclub.to/wp-content/uploads/2025/02/dc-the-don-scaled.jpg
END:VEVENT
BEGIN:VEVENT
DTSTART;TZID=America/Toronto:20250221T220000
DTEND;TZID=America/Toronto:20250221T220000
DTSTAMP:20260425T232047
CREATED:20250219T061301Z
LAST-MODIFIED:20250222T095727Z
UID:10000511-1740175200-1740175200@nightclub.to
SUMMARY:For Real Fridays presented by Real Love
DESCRIPTION:
URL:https://nightclub.to/event/for-real-fridays-presented-by-real-love-6/
LOCATION:Celebrities Nightclub\, Vancouver
CATEGORIES:Hip-Hop/Rap
ATTACH;FMTTYPE=image/png:https://nightclub.to/wp-content/uploads/2025/01/for-real-fridays-presented-by-real-love-2.png
END:VEVENT
BEGIN:VEVENT
DTSTART;TZID=America/Toronto:20250220T190000
DTEND;TZID=America/Toronto:20250220T190000
DTSTAMP:20260425T232047
CREATED:20250216T074848Z
LAST-MODIFIED:20250221T050004Z
UID:10000506-1740078000-1740078000@nightclub.to
SUMMARY:COCHISE
DESCRIPTION:
URL:https://nightclub.to/event/cochise/
LOCATION:The Axis Club\, Toronto
CATEGORIES:Hip-Hop/Rap
ATTACH;FMTTYPE=image/jpeg:https://nightclub.to/wp-content/uploads/2025/02/cochise.jpg
END:VEVENT
BEGIN:VEVENT
DTSTART;TZID=America/Toronto:20250219T190000
DTEND;TZID=America/Toronto:20250219T190000
DTSTAMP:20260425T232047
CREATED:20250215T073836Z
LAST-MODIFIED:20250220T060453Z
UID:10000502-1739991600-1739991600@nightclub.to
SUMMARY:SonReal
DESCRIPTION:
URL:https://nightclub.to/event/sonreal/
LOCATION:The Axis Club (formerly known as The Mod Club)\, Toronto
CATEGORIES:Hip-Hop/Rap
ATTACH;FMTTYPE=image/jpeg:https://nightclub.to/wp-content/uploads/2025/02/sonreal.jpg
END:VEVENT
BEGIN:VEVENT
DTSTART;TZID=America/Toronto:20250211T190000
DTEND;TZID=America/Toronto:20250211T190000
DTSTAMP:20260425T232047
CREATED:20250208T102244Z
LAST-MODIFIED:20250212T055520Z
UID:10000483-1739300400-1739300400@nightclub.to
SUMMARY:Dua Saleh - I SHOULD CALL THEM WORLD TOUR
DESCRIPTION:
URL:https://nightclub.to/event/dua-saleh-i-should-call-them-world-tour/
LOCATION:Velvet Underground\, Toronto
CATEGORIES:Hip-Hop/Rap
ATTACH;FMTTYPE=image/jpeg:https://nightclub.to/wp-content/uploads/2025/02/dua-saleh-i-should-call-them-world-tour.jpg
END:VEVENT
BEGIN:VEVENT
DTSTART;TZID=America/Toronto:20250207T220000
DTEND;TZID=America/Toronto:20250207T220000
DTSTAMP:20260425T232047
CREATED:20250205T061101Z
LAST-MODIFIED:20250208T095103Z
UID:10000472-1738965600-1738965600@nightclub.to
SUMMARY:For Real Fridays: R4VE Edition - presented by Real Love
DESCRIPTION:
URL:https://nightclub.to/event/for-real-fridays-r4ve-edition-presented-by-real-love/
LOCATION:Celebrities Nightclub\, Vancouver
CATEGORIES:Hip-Hop/Rap
ATTACH;FMTTYPE=image/png:https://nightclub.to/wp-content/uploads/2025/02/for-real-fridays-r4ve-edition-presented-by-real-love.png
END:VEVENT
BEGIN:VEVENT
DTSTART;TZID=America/Toronto:20250201T200000
DTEND;TZID=America/Toronto:20250201T200000
DTSTAMP:20260425T232047
CREATED:20250130T071632Z
LAST-MODIFIED:20250202T065950Z
UID:10000454-1738440000-1738440000@nightclub.to
SUMMARY:Jay1 - The Sorry I'm Late Tour
DESCRIPTION:
URL:https://nightclub.to/event/jay1-the-sorry-im-late-tour/
LOCATION:The Axis Club (formerly known as The Mod Club)\, Toronto
CATEGORIES:Hip-Hop/Rap
ATTACH;FMTTYPE=image/jpeg:https://nightclub.to/wp-content/uploads/2025/01/jay1-the-sorry-im-late-tour-scaled.jpg
END:VEVENT
BEGIN:VEVENT
DTSTART;TZID=America/Toronto:20250131T220000
DTEND;TZID=America/Toronto:20250131T220000
DTSTAMP:20260425T232047
CREATED:20250129T050325Z
LAST-MODIFIED:20250201T095950Z
UID:10000451-1738360800-1738360800@nightclub.to
SUMMARY:For Real Fridays presented by Real Love
DESCRIPTION:
URL:https://nightclub.to/event/for-real-fridays-presented-by-real-love-5/
LOCATION:Celebrities Nightclub\, Vancouver
CATEGORIES:Hip-Hop/Rap
ATTACH;FMTTYPE=image/png:https://nightclub.to/wp-content/uploads/2025/01/for-real-fridays-presented-by-real-love-5.png
END:VEVENT
BEGIN:VEVENT
DTSTART;TZID=America/Toronto:20250131T190000
DTEND;TZID=America/Toronto:20250131T190000
DTSTAMP:20260425T232047
CREATED:20250126T121800Z
LAST-MODIFIED:20250201T055920Z
UID:10000448-1738350000-1738350000@nightclub.to
SUMMARY:Lord Apex
DESCRIPTION:
URL:https://nightclub.to/event/lord-apex/
LOCATION:Velvet Underground\, Toronto
CATEGORIES:Hip-Hop/Rap
END:VEVENT
BEGIN:VEVENT
DTSTART;TZID=America/Toronto:20250128T180000
DTEND;TZID=America/Toronto:20250128T180000
DTSTAMP:20260425T232047
CREATED:20250125T103459Z
LAST-MODIFIED:20250129T045908Z
UID:10000441-1738087200-1738087200@nightclub.to
SUMMARY:Lazer Dim 700
DESCRIPTION:
URL:https://nightclub.to/event/lazer-dim-700/
LOCATION:Velvet Underground\, Toronto
CATEGORIES:Hip-Hop/Rap
ATTACH;FMTTYPE=image/jpeg:https://nightclub.to/wp-content/uploads/2025/01/lazer-dim-700.jpg
END:VEVENT
BEGIN:VEVENT
DTSTART;TZID=America/Toronto:20250124T220000
DTEND;TZID=America/Toronto:20250124T220000
DTSTAMP:20260425T232047
CREATED:20250123T054752Z
LAST-MODIFIED:20250125T092336Z
UID:10000433-1737756000-1737756000@nightclub.to
SUMMARY:For Real Fridays presented by Real Love
DESCRIPTION:
URL:https://nightclub.to/event/for-real-fridays-presented-by-real-love-4/
LOCATION:Celebrities Nightclub\, Vancouver
CATEGORIES:Hip-Hop/Rap
ATTACH;FMTTYPE=image/png:https://nightclub.to/wp-content/uploads/2025/01/for-real-fridays-presented-by-real-love-2.png
END:VEVENT
BEGIN:VEVENT
DTSTART;TZID=America/Toronto:20250117T220000
DTEND;TZID=America/Toronto:20250117T220000
DTSTAMP:20260425T232047
CREATED:20250111T070813Z
LAST-MODIFIED:20250118T094827Z
UID:10000413-1737151200-1737151200@nightclub.to
SUMMARY:For Real Fridays presented by Real Love
DESCRIPTION:
URL:https://nightclub.to/event/for-real-fridays-presented-by-real-love-3/
LOCATION:Celebrities Nightclub\, Vancouver
CATEGORIES:Hip-Hop/Rap
ATTACH;FMTTYPE=image/png:https://nightclub.to/wp-content/uploads/2025/01/for-real-fridays-presented-by-real-love-2.png
END:VEVENT
BEGIN:VEVENT
DTSTART;TZID=America/Toronto:20250110T220000
DTEND;TZID=America/Toronto:20250110T220000
DTSTAMP:20260425T232047
CREATED:20250101T104102Z
LAST-MODIFIED:20250111T095520Z
UID:10000404-1736546400-1736546400@nightclub.to
SUMMARY:For Real Fridays presented by Real Love
DESCRIPTION:
URL:https://nightclub.to/event/for-real-fridays-presented-by-real-love-2/
LOCATION:Celebrities Nightclub\, Vancouver
CATEGORIES:Hip-Hop/Rap
ATTACH;FMTTYPE=image/png:https://nightclub.to/wp-content/uploads/2025/01/for-real-fridays-presented-by-real-love-2.png
END:VEVENT
END:VCALENDAR