BEGIN:VCALENDAR
VERSION:2.0
PRODID:-//NightClub.TO - ECPv6.8.2.1//NONSGML v1.0//EN
CALSCALE:GREGORIAN
METHOD:PUBLISH
X-ORIGINAL-URL:https://nightclub.to
X-WR-CALDESC:Events for NightClub.TO
REFRESH-INTERVAL;VALUE=DURATION:PT1H
X-Robots-Tag:noindex
X-PUBLISHED-TTL:PT1H
BEGIN:VTIMEZONE
TZID:America/Toronto
BEGIN:DAYLIGHT
TZOFFSETFROM:-0500
TZOFFSETTO:-0400
TZNAME:EDT
DTSTART:20250309T070000
END:DAYLIGHT
BEGIN:STANDARD
TZOFFSETFROM:-0400
TZOFFSETTO:-0500
TZNAME:EST
DTSTART:20251102T060000
END:STANDARD
END:VTIMEZONE
BEGIN:VEVENT
DTSTART;TZID=America/Toronto:20250711T220000
DTEND;TZID=America/Toronto:20250711T220000
DTSTAMP:20260425T190859
CREATED:20250706T043615Z
LAST-MODIFIED:20250712T085734Z
UID:10000905-1752271200-1752271200@nightclub.to
SUMMARY:FOR REAL FRIDAYS Summer 2025: presented by Real Love
DESCRIPTION:
URL:https://nightclub.to/event/for-real-fridays-summer-2025-presented-by-real-love/
LOCATION:Celebrities Nightclub\, Vancouver
CATEGORIES:Hip-Hop/Rap
ATTACH;FMTTYPE=image/png:https://nightclub.to/wp-content/uploads/2025/07/for-real-fridays-summer-2025-presented-by-real-love.png
END:VEVENT
BEGIN:VEVENT
DTSTART;TZID=America/Toronto:20250705T220000
DTEND;TZID=America/Toronto:20250705T220000
DTSTAMP:20260425T190859
CREATED:20250702T083618Z
LAST-MODIFIED:20250706T055728Z
UID:10000896-1751752800-1751752800@nightclub.to
SUMMARY:QUAVO
DESCRIPTION:
URL:https://nightclub.to/event/quavo-2/
LOCATION:Rebel\, Toronto
CATEGORIES:Hip-Hop/Rap
ATTACH;FMTTYPE=image/jpeg:https://nightclub.to/wp-content/uploads/2025/07/quavo.jpg
END:VEVENT
BEGIN:VEVENT
DTSTART;TZID=America/Toronto:20250705T220000
DTEND;TZID=America/Toronto:20250705T220000
DTSTAMP:20260425T190859
CREATED:20250701T051411Z
LAST-MODIFIED:20250706T065529Z
UID:10000894-1751752800-1751752800@nightclub.to
SUMMARY:QUAVO
DESCRIPTION:
URL:https://nightclub.to/event/quavo/
LOCATION:Rebel\, Toronto
CATEGORIES:Hip-Hop/Rap
ATTACH;FMTTYPE=image/jpeg:https://nightclub.to/wp-content/uploads/2025/07/quavo.jpg
END:VEVENT
BEGIN:VEVENT
DTSTART;TZID=America/Toronto:20250703T190000
DTEND;TZID=America/Toronto:20250703T190000
DTSTAMP:20260425T190859
CREATED:20250630T050459Z
LAST-MODIFIED:20250701T002323Z
UID:10000888-1751569200-1751569200@nightclub.to
SUMMARY:Lil Mosey - Presented By F7 & Nightshift Entertainment
DESCRIPTION:
URL:https://nightclub.to/event/lil-mosey-presented-by-f7-nightshift-entertainment/
LOCATION:The Phoenix Concert Theatre\, Toronto
CATEGORIES:Hip-Hop/Rap
ATTACH;FMTTYPE=image/jpeg:https://nightclub.to/wp-content/uploads/2025/06/lil-mosey-presented-by-f7-nightshift-entertainment.jpg
END:VEVENT
BEGIN:VEVENT
DTSTART;TZID=America/Toronto:20250630T220000
DTEND;TZID=America/Toronto:20250630T220000
DTSTAMP:20260425T190859
CREATED:20250629T000312Z
LAST-MODIFIED:20250701T085902Z
UID:10000883-1751320800-1751320800@nightclub.to
SUMMARY:REAL LOVE LONG WEEKEND 9 YEAR ANNIVERSARY
DESCRIPTION:
URL:https://nightclub.to/event/real-love-long-weekend-9-year-anniversary/
LOCATION:Celebrities Nightclub\, Vancouver
CATEGORIES:Hip-Hop/Rap
ATTACH;FMTTYPE=image/png:https://nightclub.to/wp-content/uploads/2025/06/real-love-long-weekend-9-year-anniversary.png
END:VEVENT
BEGIN:VEVENT
DTSTART;TZID=America/Toronto:20250628T223000
DTEND;TZID=America/Toronto:20250628T223000
DTSTAMP:20260425T190859
CREATED:20250627T000123Z
LAST-MODIFIED:20250629T063051Z
UID:10000875-1751149800-1751149800@nightclub.to
SUMMARY:TAKE OVER SATURDAY
DESCRIPTION:
URL:https://nightclub.to/event/take-over-saturday/
LOCATION:DPRTMNT\, Toronto
CATEGORIES:Hip-Hop/Rap
ATTACH;FMTTYPE=image/png:https://nightclub.to/wp-content/uploads/2025/06/take-over-saturday.png
END:VEVENT
BEGIN:VEVENT
DTSTART;TZID=America/Toronto:20250627T220000
DTEND;TZID=America/Toronto:20250627T220000
DTSTAMP:20260425T190859
CREATED:20250626T000847Z
LAST-MODIFIED:20250628T085759Z
UID:10000870-1751061600-1751061600@nightclub.to
SUMMARY:FOR REAL FRIDAYS SUMMER 2025: T4P IN: A Long Weekend Celebration presented by Real Love
DESCRIPTION:
URL:https://nightclub.to/event/for-real-fridays-summer-2025-t4p-in-a-long-weekend-celebration-presented-by-real-love/
LOCATION:Celebrities Nightclub\, Vancouver
CATEGORIES:Hip-Hop/Rap
ATTACH;FMTTYPE=image/png:https://nightclub.to/wp-content/uploads/2025/06/for-real-fridays-summer-2025-t4p-in-a-long-weekend-celebration-presented-by-real-love.png
END:VEVENT
BEGIN:VEVENT
DTSTART;TZID=America/Toronto:20250627T190000
DTEND;TZID=America/Toronto:20250627T190000
DTSTAMP:20260425T190859
CREATED:20250622T040632Z
LAST-MODIFIED:20250628T050006Z
UID:10000859-1751050800-1751050800@nightclub.to
SUMMARY:Millyz
DESCRIPTION:
URL:https://nightclub.to/event/millyz/
LOCATION:The Mod Club (formerly known as The Axis Club)\, Toronto
CATEGORIES:Hip-Hop/Rap
ATTACH;FMTTYPE=image/jpeg:https://nightclub.to/wp-content/uploads/2025/06/millyz.jpg
END:VEVENT
BEGIN:VEVENT
DTSTART;TZID=America/Toronto:20250621T200000
DTEND;TZID=America/Toronto:20250621T200000
DTSTAMP:20260425T190859
CREATED:20250620T000713Z
LAST-MODIFIED:20250622T060140Z
UID:10000851-1750536000-1750536000@nightclub.to
SUMMARY:Karma Events Present: Nawaj Ansari
DESCRIPTION:
URL:https://nightclub.to/event/karma-events-present-nawaj-ansari/
LOCATION:The Mod Club (formerly known as The Axis Club)\, Toronto
CATEGORIES:Hip-Hop/Rap
ATTACH;FMTTYPE=image/jpeg:https://nightclub.to/wp-content/uploads/2025/06/karma-events-present-nawaj-ansari.jpg
END:VEVENT
BEGIN:VEVENT
DTSTART;TZID=America/Toronto:20250621T180000
DTEND;TZID=America/Toronto:20250621T201500
DTSTAMP:20260425T190859
CREATED:20250621T060556Z
LAST-MODIFIED:20250622T040057Z
UID:10000856-1750528800-1750536900@nightclub.to
SUMMARY:THE ROOTS
DESCRIPTION:
URL:https://nightclub.to/event/the-roots-2/
LOCATION:Rebel\, Toronto
CATEGORIES:Hip-Hop/Rap
ATTACH;FMTTYPE=image/jpeg:https://nightclub.to/wp-content/uploads/2025/06/the-roots-2.jpg
END:VEVENT
BEGIN:VEVENT
DTSTART;TZID=America/Toronto:20250621T170000
DTEND;TZID=America/Toronto:20250621T170000
DTSTAMP:20260425T190859
CREATED:20250603T170804Z
LAST-MODIFIED:20250622T040057Z
UID:10000808-1750525200-1750525200@nightclub.to
SUMMARY:The Roots
DESCRIPTION:
URL:https://nightclub.to/event/the-roots/
LOCATION:Rebel\, Toronto
CATEGORIES:Hip-Hop/Rap
ATTACH;FMTTYPE=image/jpeg:https://nightclub.to/wp-content/uploads/2025/06/the-roots.jpg
END:VEVENT
BEGIN:VEVENT
DTSTART;TZID=America/Toronto:20250620T220000
DTEND;TZID=America/Toronto:20250620T220000
DTSTAMP:20260425T190859
CREATED:20250617T041115Z
LAST-MODIFIED:20250621T085956Z
UID:10000848-1750456800-1750456800@nightclub.to
SUMMARY:FOR REAL FRIDAYS SUMMER 2025: RL2K by REAL LOVE
DESCRIPTION:
URL:https://nightclub.to/event/for-real-fridays-summer-2025-rl2k-by-real-love/
LOCATION:Celebrities Nightclub\, Vancouver
CATEGORIES:Hip-Hop/Rap
ATTACH;FMTTYPE=image/png:https://nightclub.to/wp-content/uploads/2025/06/for-real-fridays-summer-2025-rl2k-by-real-love.png
END:VEVENT
BEGIN:VEVENT
DTSTART;TZID=America/Toronto:20250620T190000
DTEND;TZID=America/Toronto:20250620T190000
DTSTAMP:20260425T190859
CREATED:20250615T090138Z
LAST-MODIFIED:20250621T050050Z
UID:10000844-1750446000-1750446000@nightclub.to
SUMMARY:B Young
DESCRIPTION:
URL:https://nightclub.to/event/b-young/
LOCATION:The Danforth Music Hall\, Toronto
CATEGORIES:Hip-Hop/Rap
ATTACH;FMTTYPE=image/jpeg:https://nightclub.to/wp-content/uploads/2025/06/b-young-scaled.jpg
END:VEVENT
BEGIN:VEVENT
DTSTART;TZID=America/Toronto:20250619T183000
DTEND;TZID=America/Toronto:20250619T183000
DTSTAMP:20260425T190859
CREATED:20250615T063335Z
LAST-MODIFIED:20250619T235854Z
UID:10000842-1750357800-1750357800@nightclub.to
SUMMARY:Back To The Summer with DJ Starting From Scratch - POSTPONED
DESCRIPTION:
URL:https://nightclub.to/event/back-to-the-summer-with-dj-starting-from-scratch-postponed/
LOCATION:The Phoenix Concert Theatre\, Toronto
CATEGORIES:Hip-Hop/Rap
ATTACH;FMTTYPE=image/png:https://nightclub.to/wp-content/uploads/2025/06/back-to-the-summer-with-dj-starting-from-scratch-postponed.png
END:VEVENT
BEGIN:VEVENT
DTSTART;TZID=America/Toronto:20250613T220000
DTEND;TZID=America/Toronto:20250613T220000
DTSTAMP:20260425T190859
CREATED:20250609T040401Z
LAST-MODIFIED:20250614T090249Z
UID:10000827-1749852000-1749852000@nightclub.to
SUMMARY:FOR REAL FRIDAYS SUMMER 2025: R4VE EDITION presented by Real Love
DESCRIPTION:
URL:https://nightclub.to/event/for-real-fridays-summer-2025-r4ve-edition-presented-by-real-love/
LOCATION:Celebrities Nightclub\, Vancouver
CATEGORIES:Hip-Hop/Rap
ATTACH;FMTTYPE=image/png:https://nightclub.to/wp-content/uploads/2025/06/for-real-fridays-summer-2025-r4ve-edition-presented-by-real-love.png
END:VEVENT
BEGIN:VEVENT
DTSTART;TZID=America/Toronto:20250610T190000
DTEND;TZID=America/Toronto:20250610T190000
DTSTAMP:20260425T190859
CREATED:20250608T060931Z
LAST-MODIFIED:20250611T035631Z
UID:10000820-1749582000-1749582000@nightclub.to
SUMMARY:SMINO - Kountry Kousins
DESCRIPTION:
URL:https://nightclub.to/event/smino-kountry-kousins/
LOCATION:Rebel\, Toronto
CATEGORIES:Hip-Hop/Rap
ATTACH;FMTTYPE=image/jpeg:https://nightclub.to/wp-content/uploads/2025/06/smino-kountry-kousins.jpg
END:VEVENT
BEGIN:VEVENT
DTSTART;TZID=America/Toronto:20250606T220000
DTEND;TZID=America/Toronto:20250606T220000
DTSTAMP:20260425T190859
CREATED:20250603T050621Z
LAST-MODIFIED:20250607T090110Z
UID:10000800-1749247200-1749247200@nightclub.to
SUMMARY:FOR REAL FRIDAYS SUMMER 2025: Grand Opening presented by Real Love
DESCRIPTION:
URL:https://nightclub.to/event/for-real-fridays-summer-2025-grand-opening-presented-by-real-love/
LOCATION:Celebrities Nightclub\, Vancouver
CATEGORIES:Hip-Hop/Rap
ATTACH;FMTTYPE=image/png:https://nightclub.to/wp-content/uploads/2025/06/for-real-fridays-summer-2025-grand-opening-presented-by-real-love.png
END:VEVENT
BEGIN:VEVENT
DTSTART;TZID=America/Toronto:20250530T220000
DTEND;TZID=America/Toronto:20250530T220000
DTSTAMP:20260425T190859
CREATED:20250528T050721Z
LAST-MODIFIED:20250531T085745Z
UID:10000787-1748642400-1748642400@nightclub.to
SUMMARY:FOR REAL Fridays: R4P Edition presented by Real Love
DESCRIPTION:
URL:https://nightclub.to/event/for-real-fridays-r4p-edition-presented-by-real-love-3/
LOCATION:Celebrities Nightclub\, Vancouver
CATEGORIES:Hip-Hop/Rap
ATTACH;FMTTYPE=image/png:https://nightclub.to/wp-content/uploads/2025/05/for-real-fridays-r4p-edition-presented-by-real-love-3.png
END:VEVENT
BEGIN:VEVENT
DTSTART;TZID=America/Toronto:20250523T223000
DTEND;TZID=America/Toronto:20250523T223000
DTSTAMP:20260425T190859
CREATED:20250520T152128Z
LAST-MODIFIED:20250524T062450Z
UID:10000759-1748039400-1748039400@nightclub.to
SUMMARY:AUSTIN MILLZ - THE RADIANCE TOUR
DESCRIPTION:
URL:https://nightclub.to/event/austin-millz-the-radiance-tour/
LOCATION:DPRTMNT\, Toronto
CATEGORIES:Hip-Hop/Rap
ATTACH;FMTTYPE=image/jpeg:https://nightclub.to/wp-content/uploads/2025/05/austin-millz-moved-to-celebrities-scaled.jpg
END:VEVENT
BEGIN:VEVENT
DTSTART;TZID=America/Toronto:20250523T220000
DTEND;TZID=America/Toronto:20250523T220000
DTSTAMP:20260425T190859
CREATED:20250522T050353Z
LAST-MODIFIED:20250522T235715Z
UID:10000764-1748037600-1748037600@nightclub.to
SUMMARY:For Real Fridays presented by Real Love
DESCRIPTION:
URL:https://nightclub.to/event/for-real-fridays-presented-by-real-love-10/
LOCATION:Celebrities Nightclub\, Vancouver
CATEGORIES:Hip-Hop/Rap
ATTACH;FMTTYPE=image/png:https://nightclub.to/wp-content/uploads/2025/05/for-real-fridays-presented-by-real-love-10.png
END:VEVENT
BEGIN:VEVENT
DTSTART;TZID=America/Toronto:20250522T190000
DTEND;TZID=America/Toronto:20250522T201500
DTSTAMP:20260425T190859
CREATED:20250522T160150Z
LAST-MODIFIED:20250523T045606Z
UID:10000765-1747940400-1747944900@nightclub.to
SUMMARY:Nemzzz - Rent's Due Tour
DESCRIPTION:
URL:https://nightclub.to/event/nemzzz-rents-due-tour/
LOCATION:Velvet Underground\, Toronto
CATEGORIES:Hip-Hop/Rap
END:VEVENT
BEGIN:VEVENT
DTSTART;TZID=America/Toronto:20250518T220000
DTEND;TZID=America/Toronto:20250518T220000
DTSTAMP:20260425T190859
CREATED:20250517T040512Z
LAST-MODIFIED:20250520T151615Z
UID:10000751-1747605600-1747605600@nightclub.to
SUMMARY:REAL LOVE LONG WEEKEND
DESCRIPTION:
URL:https://nightclub.to/event/real-love-long-weekend-3/
LOCATION:Celebrities Nightclub\, Vancouver
CATEGORIES:Hip-Hop/Rap
ATTACH;FMTTYPE=image/png:https://nightclub.to/wp-content/uploads/2025/05/real-love-long-weekend-3.png
END:VEVENT
BEGIN:VEVENT
DTSTART;TZID=America/Toronto:20250509T220000
DTEND;TZID=America/Toronto:20250509T220000
DTSTAMP:20260425T190859
CREATED:20250508T040929Z
LAST-MODIFIED:20250510T085838Z
UID:10000721-1746828000-1746828000@nightclub.to
SUMMARY:FOR REAL Fridays - R4VE (Nostalgic Electronic Festival Music) presented by Real Love
DESCRIPTION:
URL:https://nightclub.to/event/for-real-fridays-r4ve-nostalgic-electronic-festival-music-presented-by-real-love/
LOCATION:Celebrities Nightclub\, Vancouver
CATEGORIES:Hip-Hop/Rap
ATTACH;FMTTYPE=image/png:https://nightclub.to/wp-content/uploads/2025/05/for-real-fridays-r4ve-nostalgic-electronic-festival-music-presented-by-real-love.png
END:VEVENT
BEGIN:VEVENT
DTSTART;TZID=America/Toronto:20250506T190000
DTEND;TZID=America/Toronto:20250506T190000
DTSTAMP:20260425T190859
CREATED:20250504T061005Z
LAST-MODIFIED:20250507T035956Z
UID:10000710-1746558000-1746558000@nightclub.to
SUMMARY:KHANTRAST
DESCRIPTION:
URL:https://nightclub.to/event/khantrast/
LOCATION:Drake Underground\, Toronto
CATEGORIES:Hip-Hop/Rap
ATTACH;FMTTYPE=image/png:https://nightclub.to/wp-content/uploads/2025/05/khantrast.png
END:VEVENT
BEGIN:VEVENT
DTSTART;TZID=America/Toronto:20250505T190000
DTEND;TZID=America/Toronto:20250505T190000
DTSTAMP:20260425T190859
CREATED:20250503T090501Z
LAST-MODIFIED:20250506T045929Z
UID:10000705-1746471600-1746471600@nightclub.to
SUMMARY:Corbin
DESCRIPTION:
URL:https://nightclub.to/event/corbin/
LOCATION:Velvet Underground\, Toronto
CATEGORIES:Hip-Hop/Rap
ATTACH;FMTTYPE=image/jpeg:https://nightclub.to/wp-content/uploads/2025/05/corbin.jpg
END:VEVENT
BEGIN:VEVENT
DTSTART;TZID=America/Toronto:20250502T220000
DTEND;TZID=America/Toronto:20250503T201500
DTSTAMP:20260425T190859
CREATED:20250503T080703Z
LAST-MODIFIED:20250503T090026Z
UID:10000704-1746223200-1746303300@nightclub.to
SUMMARY:FOR REAL Fridays: THE FUNCTION: A Hip-Hop\, R&B and Club Classics Celebration presented by Real Love
DESCRIPTION:
URL:https://nightclub.to/event/for-real-fridays-the-function-a-hip-hop-rb-and-club-classics-celebration-presented-by-real-love/
LOCATION:Celebrities Nightclub\, Vancouver
CATEGORIES:Hip-Hop/Rap
ATTACH;FMTTYPE=image/png:https://nightclub.to/wp-content/uploads/2025/05/for-real-fridays-the-function-a-hip-hop-rb-and-club-classics-celebration-presented-by-real-love.png
END:VEVENT
BEGIN:VEVENT
DTSTART;TZID=America/Toronto:20250430T190000
DTEND;TZID=America/Toronto:20250501T201500
DTSTAMP:20260425T190859
CREATED:20250501T010523Z
LAST-MODIFIED:20250501T050440Z
UID:10000683-1746039600-1746130500@nightclub.to
SUMMARY:FERG - The DAROLD Tour North America 2025
DESCRIPTION:
URL:https://nightclub.to/event/ferg-the-darold-tour-north-america-2025/
LOCATION:The Axis Club (formerly known as The Mod Club)\, Toronto
CATEGORIES:Hip-Hop/Rap
ATTACH;FMTTYPE=image/jpeg:https://nightclub.to/wp-content/uploads/2025/04/ferg-the-darold-tour-north-america-2025.jpg
END:VEVENT
BEGIN:VEVENT
DTSTART;TZID=America/Toronto:20250420T220000
DTEND;TZID=America/Toronto:20250420T220000
DTSTAMP:20260425T190859
CREATED:20250419T060459Z
LAST-MODIFIED:20250501T005920Z
UID:10000678-1745186400-1745186400@nightclub.to
SUMMARY:REAL LOVE LONG WEEKEND
DESCRIPTION:
URL:https://nightclub.to/event/real-love-long-weekend-2/
LOCATION:Celebrities Nightclub\, Vancouver
CATEGORIES:Hip-Hop/Rap
ATTACH;FMTTYPE=image/png:https://nightclub.to/wp-content/uploads/2025/04/real-love-long-weekend-2.png
END:VEVENT
BEGIN:VEVENT
DTSTART;TZID=America/Toronto:20250418T220000
DTEND;TZID=America/Toronto:20250418T220000
DTSTAMP:20260425T190859
CREATED:20250417T040502Z
LAST-MODIFIED:20250419T085350Z
UID:10000669-1745013600-1745013600@nightclub.to
SUMMARY:FOR REAL Fridays - T4P IN presented by Real Love
DESCRIPTION:
URL:https://nightclub.to/event/for-real-fridays-t4p-in-presented-by-real-love/
LOCATION:Celebrities Nightclub\, Vancouver
CATEGORIES:Hip-Hop/Rap
ATTACH;FMTTYPE=image/png:https://nightclub.to/wp-content/uploads/2025/04/for-real-fridays-t4p-in-presented-by-real-love.png
END:VEVENT
BEGIN:VEVENT
DTSTART;TZID=America/Toronto:20250417T200000
DTEND;TZID=America/Toronto:20250417T200000
DTSTAMP:20260425T190859
CREATED:20250413T060828Z
LAST-MODIFIED:20250418T050036Z
UID:10000661-1744920000-1744920000@nightclub.to
SUMMARY:Don Toliver
DESCRIPTION:
URL:https://nightclub.to/event/don-toliver/
LOCATION:Rebel\, Toronto
CATEGORIES:Hip-Hop/Rap
ATTACH;FMTTYPE=image/jpeg:https://nightclub.to/wp-content/uploads/2025/04/don-toliver.jpg
END:VEVENT
END:VCALENDAR