BEGIN:VCALENDAR
VERSION:2.0
PRODID:-//NightClub.TO - ECPv6.8.2.1//NONSGML v1.0//EN
CALSCALE:GREGORIAN
METHOD:PUBLISH
X-ORIGINAL-URL:https://nightclub.to
X-WR-CALDESC:Events for NightClub.TO
REFRESH-INTERVAL;VALUE=DURATION:PT1H
X-Robots-Tag:noindex
X-PUBLISHED-TTL:PT1H
BEGIN:VTIMEZONE
TZID:America/Toronto
BEGIN:DAYLIGHT
TZOFFSETFROM:-0500
TZOFFSETTO:-0400
TZNAME:EDT
DTSTART:20250309T070000
END:DAYLIGHT
BEGIN:STANDARD
TZOFFSETFROM:-0400
TZOFFSETTO:-0500
TZNAME:EST
DTSTART:20251102T060000
END:STANDARD
BEGIN:DAYLIGHT
TZOFFSETFROM:-0500
TZOFFSETTO:-0400
TZNAME:EDT
DTSTART:20260308T070000
END:DAYLIGHT
BEGIN:STANDARD
TZOFFSETFROM:-0400
TZOFFSETTO:-0500
TZNAME:EST
DTSTART:20261101T060000
END:STANDARD
END:VTIMEZONE
BEGIN:VEVENT
DTSTART;TZID=America/Toronto:20260330T223000
DTEND;TZID=America/Toronto:20260330T223000
DTSTAMP:20260425T070318
CREATED:20260326T182955Z
LAST-MODIFIED:20260331T072827Z
UID:10001618-1774909800-1774909800@nightclub.to
SUMMARY:Cardi B Hosts the Little Miss Drama Tour Official After Party
DESCRIPTION:
URL:https://nightclub.to/event/cardi-b-hosts-the-little-miss-drama-tour-official-after-party/
LOCATION:Rebel\, Toronto
CATEGORIES:Hip-Hop/Rap
ATTACH;FMTTYPE=image/jpeg:https://nightclub.to/wp-content/uploads/2026/03/cardi-b-hosts-the-little-miss-drama-tour-official-after-party.jpg
END:VEVENT
BEGIN:VEVENT
DTSTART;TZID=America/Toronto:20260327T220000
DTEND;TZID=America/Toronto:20260327T220000
DTSTAMP:20260425T070318
CREATED:20260322T090858Z
LAST-MODIFIED:20260326T182209Z
UID:10001605-1774648800-1774648800@nightclub.to
SUMMARY:FOR REAL FRIDAYS - R4P&B
DESCRIPTION:
URL:https://nightclub.to/event/for-real-fridays-r4pb-11/
LOCATION:Celebrities Nightclub\, Vancouver
CATEGORIES:Hip-Hop/Rap
ATTACH;FMTTYPE=image/png:https://nightclub.to/wp-content/uploads/2026/03/for-real-fridays-r4pb-11.png
END:VEVENT
BEGIN:VEVENT
DTSTART;TZID=America/Toronto:20260327T200000
DTEND;TZID=America/Toronto:20260327T200000
DTSTAMP:20260425T070318
CREATED:20260322T050423Z
LAST-MODIFIED:20260326T182211Z
UID:10001602-1774641600-1774641600@nightclub.to
SUMMARY:Flamingosis
DESCRIPTION:
URL:https://nightclub.to/event/flamingosis/
LOCATION:The Mod Club\, Toronto
CATEGORIES:Hip-Hop/Rap
ATTACH;FMTTYPE=image/jpeg:https://nightclub.to/wp-content/uploads/2026/03/flamingosis.jpg
END:VEVENT
BEGIN:VEVENT
DTSTART;TZID=America/Toronto:20260320T220000
DTEND;TZID=America/Toronto:20260320T220000
DTSTAMP:20260425T070318
CREATED:20260318T050542Z
LAST-MODIFIED:20260321T090024Z
UID:10001592-1774044000-1774044000@nightclub.to
SUMMARY:FOR REAL FRIDAYS - R4P&B
DESCRIPTION:
URL:https://nightclub.to/event/for-real-fridays-r4pb-10/
LOCATION:Celebrities Nightclub\, Vancouver
CATEGORIES:Hip-Hop/Rap
ATTACH;FMTTYPE=image/png:https://nightclub.to/wp-content/uploads/2026/03/for-real-fridays-r4pb-10.png
END:VEVENT
BEGIN:VEVENT
DTSTART;TZID=America/Toronto:20260318T190000
DTEND;TZID=America/Toronto:20260318T190000
DTSTAMP:20260425T070318
CREATED:20260315T060938Z
LAST-MODIFIED:20260319T045733Z
UID:10001585-1773860400-1773860400@nightclub.to
SUMMARY:Kentheman: Kinda Famous 2our
DESCRIPTION:
URL:https://nightclub.to/event/kentheman-kinda-famous-2our/
LOCATION:The Mod Club\, Toronto
CATEGORIES:Hip-Hop/Rap
ATTACH;FMTTYPE=image/jpeg:https://nightclub.to/wp-content/uploads/2026/03/kentheman-kinda-famous-2our.jpg
END:VEVENT
BEGIN:VEVENT
DTSTART;TZID=America/Toronto:20260316T190000
DTEND;TZID=America/Toronto:20260316T190000
DTSTAMP:20260425T070318
CREATED:20260314T060651Z
LAST-MODIFIED:20260317T045642Z
UID:10001580-1773687600-1773687600@nightclub.to
SUMMARY:Monster Energy Presents: Cash Cobain - Party with Slizzy
DESCRIPTION:
URL:https://nightclub.to/event/monster-energy-presents-cash-cobain-party-with-slizzy/
LOCATION:The Phoenix Concert Theatre\, Toronto
CATEGORIES:Hip-Hop/Rap
ATTACH;FMTTYPE=image/jpeg:https://nightclub.to/wp-content/uploads/2026/03/monster-energy-presents-cash-cobain-party-with-slizzy.jpg
END:VEVENT
BEGIN:VEVENT
DTSTART;TZID=America/Toronto:20260315T190000
DTEND;TZID=America/Toronto:20260315T190000
DTSTAMP:20260425T070318
CREATED:20260314T000313Z
LAST-MODIFIED:20260316T050140Z
UID:10001579-1773601200-1773601200@nightclub.to
SUMMARY:Lithe - Euphoria Tour
DESCRIPTION:
URL:https://nightclub.to/event/lithe-euphoria-tour/
LOCATION:The Mod Club\, Toronto
CATEGORIES:Hip-Hop/Rap
ATTACH;FMTTYPE=image/jpeg:https://nightclub.to/wp-content/uploads/2026/03/lithe-euphoria-tour-scaled.jpg
END:VEVENT
BEGIN:VEVENT
DTSTART;TZID=America/Toronto:20260313T220000
DTEND;TZID=America/Toronto:20260313T220000
DTSTAMP:20260425T070318
CREATED:20260311T040227Z
LAST-MODIFIED:20260314T085942Z
UID:10001573-1773439200-1773439200@nightclub.to
SUMMARY:FOR REAL FRIDAYS - R4P&B
DESCRIPTION:
URL:https://nightclub.to/event/for-real-fridays-r4pb-9/
LOCATION:Celebrities Nightclub\, Vancouver
CATEGORIES:Hip-Hop/Rap
ATTACH;FMTTYPE=image/png:https://nightclub.to/wp-content/uploads/2026/03/for-real-fridays-r4pb-9.png
END:VEVENT
BEGIN:VEVENT
DTSTART;TZID=America/Toronto:20260311T190000
DTEND;TZID=America/Toronto:20260311T190000
DTSTAMP:20260425T070318
CREATED:20260308T060743Z
LAST-MODIFIED:20260312T040020Z
UID:10001566-1773255600-1773255600@nightclub.to
SUMMARY:Jay Electronica
DESCRIPTION:
URL:https://nightclub.to/event/jay-electronica/
LOCATION:The Phoenix Concert Theatre\, Toronto
CATEGORIES:Hip-Hop/Rap
ATTACH;FMTTYPE=image/jpeg:https://nightclub.to/wp-content/uploads/2026/03/jay-electronica.jpg
END:VEVENT
BEGIN:VEVENT
DTSTART;TZID=America/Toronto:20260308T190000
DTEND;TZID=America/Toronto:20260308T190000
DTSTAMP:20260425T070318
CREATED:20260305T060745Z
LAST-MODIFIED:20260309T050049Z
UID:10001559-1772996400-1772996400@nightclub.to
SUMMARY:K-Maro
DESCRIPTION:
URL:https://nightclub.to/event/k-maro/
LOCATION:The Mod Club\, Toronto
CATEGORIES:Hip-Hop/Rap
ATTACH;FMTTYPE=image/jpeg:https://nightclub.to/wp-content/uploads/2026/03/k-maro.jpg
END:VEVENT
BEGIN:VEVENT
DTSTART;TZID=America/Toronto:20260307T150000
DTEND;TZID=America/Toronto:20260307T150000
DTSTAMP:20260425T070318
CREATED:20260303T060658Z
LAST-MODIFIED:20260308T050049Z
UID:10001555-1772895600-1772895600@nightclub.to
SUMMARY:KOTD Presents: World Domination IX
DESCRIPTION:
URL:https://nightclub.to/event/kotd-presents-world-domination-ix/
LOCATION:The Mod Club\, Toronto
CATEGORIES:Hip-Hop/Rap
ATTACH;FMTTYPE=image/png:https://nightclub.to/wp-content/uploads/2026/03/kotd-presents-world-domination-ix.png
END:VEVENT
BEGIN:VEVENT
DTSTART;TZID=America/Toronto:20260306T220000
DTEND;TZID=America/Toronto:20260306T220000
DTSTAMP:20260425T070318
CREATED:20260301T060709Z
LAST-MODIFIED:20260307T100131Z
UID:10001552-1772834400-1772834400@nightclub.to
SUMMARY:FOR REAL FRIDAYS - R4P&B
DESCRIPTION:
URL:https://nightclub.to/event/for-real-fridays-r4pb-8/
LOCATION:Celebrities Nightclub\, Vancouver
CATEGORIES:Hip-Hop/Rap
ATTACH;FMTTYPE=image/png:https://nightclub.to/wp-content/uploads/2026/03/for-real-fridays-r4pb-8.png
END:VEVENT
BEGIN:VEVENT
DTSTART;TZID=America/Toronto:20260228T190000
DTEND;TZID=America/Toronto:20260228T190000
DTSTAMP:20260425T070318
CREATED:20260226T050555Z
LAST-MODIFIED:20260301T060222Z
UID:10001544-1772305200-1772305200@nightclub.to
SUMMARY:Hanumankind - OTW Tour: North America 2026
DESCRIPTION:
URL:https://nightclub.to/event/hanumankind-otw-tour-north-america-2026/
LOCATION:The Danforth Music Hall\, Toronto
CATEGORIES:Hip-Hop/Rap
ATTACH;FMTTYPE=image/jpeg:https://nightclub.to/wp-content/uploads/2025/08/hanumankind-otw-tour-north-america-2025.jpg
END:VEVENT
BEGIN:VEVENT
DTSTART;TZID=America/Toronto:20260228T190000
DTEND;TZID=America/Toronto:20260228T190000
DTSTAMP:20260425T070318
CREATED:20260225T060543Z
LAST-MODIFIED:20260301T060220Z
UID:10001542-1772305200-1772305200@nightclub.to
SUMMARY:redveil: The Sankofa Tour
DESCRIPTION:
URL:https://nightclub.to/event/redveil-the-sankofa-tour/
LOCATION:The Mod Club\, Toronto
CATEGORIES:Hip-Hop/Rap
ATTACH;FMTTYPE=image/png:https://nightclub.to/wp-content/uploads/2026/02/redveil-the-sankofa-tour.png
END:VEVENT
BEGIN:VEVENT
DTSTART;TZID=America/Toronto:20260224T190000
DTEND;TZID=America/Toronto:20260224T190000
DTSTAMP:20260425T070318
CREATED:20260221T070435Z
LAST-MODIFIED:20260225T055727Z
UID:10001530-1771959600-1771959600@nightclub.to
SUMMARY:SoFaygo
DESCRIPTION:
URL:https://nightclub.to/event/sofaygo/
LOCATION:The Mod Club\, Toronto
CATEGORIES:Hip-Hop/Rap
ATTACH;FMTTYPE=image/jpeg:https://nightclub.to/wp-content/uploads/2026/02/sofaygo.jpg
END:VEVENT
BEGIN:VEVENT
DTSTART;TZID=America/Toronto:20260221T190000
DTEND;TZID=America/Toronto:20260221T190000
DTSTAMP:20260425T070318
CREATED:20260216T100407Z
LAST-MODIFIED:20260222T055952Z
UID:10001527-1771700400-1771700400@nightclub.to
SUMMARY:Shad: 20th Anniversary - Start Anew Tour
DESCRIPTION:
URL:https://nightclub.to/event/shad-20th-anniversary-start-anew-tour/
LOCATION:The Mod Club\, Toronto
CATEGORIES:Hip-Hop/Rap
END:VEVENT
BEGIN:VEVENT
DTSTART;TZID=America/Toronto:20260220T220000
DTEND;TZID=America/Toronto:20260220T220000
DTSTAMP:20260425T070318
CREATED:20260216T070534Z
LAST-MODIFIED:20260221T095820Z
UID:10001526-1771624800-1771624800@nightclub.to
SUMMARY:FOR REAL FRIDAYS: R4P&B w/ DJ RAY G (Cardi B's Official Tour DJ)
DESCRIPTION:
URL:https://nightclub.to/event/for-real-fridays-r4pb-w-dj-ray-g-cardi-bs-official-tour-dj/
LOCATION:Celebrities Nightclub\, Vancouver
CATEGORIES:Hip-Hop/Rap
ATTACH;FMTTYPE=image/png:https://nightclub.to/wp-content/uploads/2026/02/for-real-fridays-r4pb-w-dj-ray-g-cardi-bs-official-tour-dj.png
END:VEVENT
BEGIN:VEVENT
DTSTART;TZID=America/Toronto:20260215T220000
DTEND;TZID=America/Toronto:20260215T220000
DTSTAMP:20260425T070318
CREATED:20260214T000539Z
LAST-MODIFIED:20260216T095813Z
UID:10001514-1771192800-1771192800@nightclub.to
SUMMARY:REAL LOVE LONG WEEKEND VALENTINE'S EDITION
DESCRIPTION:
URL:https://nightclub.to/event/real-love-long-weekend-valentines-edition/
LOCATION:Celebrities Nightclub\, Vancouver
CATEGORIES:Hip-Hop/Rap
ATTACH;FMTTYPE=image/png:https://nightclub.to/wp-content/uploads/2026/02/real-love-long-weekend-valentines-edition.png
END:VEVENT
BEGIN:VEVENT
DTSTART;TZID=America/Toronto:20260213T220000
DTEND;TZID=America/Toronto:20260213T220000
DTSTAMP:20260425T070318
CREATED:20260208T070332Z
LAST-MODIFIED:20260214T100231Z
UID:10001502-1771020000-1771020000@nightclub.to
SUMMARY:FOR REAL FRIDAYS: ALL4U: all the love songs of all time - a vday celebration
DESCRIPTION:
URL:https://nightclub.to/event/for-real-fridays-all4u-all-the-love-songs-of-all-time-a-vday-celebration/
LOCATION:Celebrities Nightclub\, Vancouver
CATEGORIES:Hip-Hop/Rap
ATTACH;FMTTYPE=image/png:https://nightclub.to/wp-content/uploads/2026/02/for-real-fridays-all4u-all-the-love-songs-of-all-time-a-vday-celebration.png
END:VEVENT
BEGIN:VEVENT
DTSTART;TZID=America/Toronto:20260206T220000
DTEND;TZID=America/Toronto:20260206T220000
DTSTAMP:20260425T070318
CREATED:20260131T073759Z
LAST-MODIFIED:20260207T095945Z
UID:10001487-1770415200-1770415200@nightclub.to
SUMMARY:FOR REAL FRIDAYS - R4P&B
DESCRIPTION:
URL:https://nightclub.to/event/for-real-fridays-r4pb-7/
LOCATION:Celebrities Nightclub\, Vancouver
CATEGORIES:Hip-Hop/Rap
ATTACH;FMTTYPE=image/png:https://nightclub.to/wp-content/uploads/2026/01/for-real-fridays-r4pb-7.png
END:VEVENT
BEGIN:VEVENT
DTSTART;TZID=America/Toronto:20260201T190000
DTEND;TZID=America/Toronto:20260201T190000
DTSTAMP:20260425T070318
CREATED:20260131T000627Z
LAST-MODIFIED:20260202T060047Z
UID:10001483-1769972400-1769972400@nightclub.to
SUMMARY:ESDEEKID REBEL TOUR REINFORCED BY RICO ACE
DESCRIPTION:
URL:https://nightclub.to/event/esdeekid-rebel-tour-reinforced-by-rico-ace-2/
LOCATION:The Mod Club\, Toronto
CATEGORIES:Hip-Hop/Rap
ATTACH;FMTTYPE=image/jpeg:https://nightclub.to/wp-content/uploads/2026/01/esdeekid-rebel-tour-reinforced-by-rico-ace.jpg
END:VEVENT
BEGIN:VEVENT
DTSTART;TZID=America/Toronto:20260131T190000
DTEND;TZID=America/Toronto:20260131T190000
DTSTAMP:20260425T070318
CREATED:20260129T060458Z
LAST-MODIFIED:20260201T055712Z
UID:10001478-1769886000-1769886000@nightclub.to
SUMMARY:ESDEEKID REBEL TOUR REINFORCED BY RICO ACE
DESCRIPTION:
URL:https://nightclub.to/event/esdeekid-rebel-tour-reinforced-by-rico-ace/
LOCATION:The Mod Club\, Toronto
CATEGORIES:Hip-Hop/Rap
ATTACH;FMTTYPE=image/jpeg:https://nightclub.to/wp-content/uploads/2026/01/esdeekid-rebel-tour-reinforced-by-rico-ace.jpg
END:VEVENT
BEGIN:VEVENT
DTSTART;TZID=America/Toronto:20260130T220000
DTEND;TZID=America/Toronto:20260130T220000
DTSTAMP:20260425T070318
CREATED:20260125T100326Z
LAST-MODIFIED:20260131T100016Z
UID:10001473-1769810400-1769810400@nightclub.to
SUMMARY:FOR REAL FRIDAYS - R4P&B
DESCRIPTION:
URL:https://nightclub.to/event/for-real-fridays-r4pb-6/
LOCATION:Celebrities Nightclub\, Vancouver
CATEGORIES:Hip-Hop/Rap
ATTACH;FMTTYPE=image/png:https://nightclub.to/wp-content/uploads/2026/01/for-real-fridays-r4pb-6.png
END:VEVENT
BEGIN:VEVENT
DTSTART;TZID=America/Toronto:20260130T190000
DTEND;TZID=America/Toronto:20260130T190000
DTSTAMP:20260425T070318
CREATED:20260126T060500Z
LAST-MODIFIED:20260131T050023Z
UID:10001475-1769799600-1769799600@nightclub.to
SUMMARY:The Pharcyde
DESCRIPTION:
URL:https://nightclub.to/event/the-pharcyde/
LOCATION:The Phoenix Concert Theatre\, Toronto
CATEGORIES:Hip-Hop/Rap
ATTACH;FMTTYPE=image/jpeg:https://nightclub.to/wp-content/uploads/2026/01/the-pharcyde.jpg
END:VEVENT
BEGIN:VEVENT
DTSTART;TZID=America/Toronto:20260116T220000
DTEND;TZID=America/Toronto:20260116T220000
DTSTAMP:20260425T070318
CREATED:20260104T070709Z
LAST-MODIFIED:20260117T095714Z
UID:10001447-1768600800-1768600800@nightclub.to
SUMMARY:FOR REAL FRIDAYS - R4P&B
DESCRIPTION:
URL:https://nightclub.to/event/for-real-fridays-r4pb-5/
LOCATION:Celebrities Nightclub\, Vancouver
CATEGORIES:Hip-Hop/Rap
ATTACH;FMTTYPE=image/png:https://nightclub.to/wp-content/uploads/2026/01/for-real-fridays-r4pb-5.png
END:VEVENT
BEGIN:VEVENT
DTSTART;TZID=America/Toronto:20260109T220000
DTEND;TZID=America/Toronto:20260109T220000
DTSTAMP:20260425T070318
CREATED:20251228T131145Z
LAST-MODIFIED:20260110T095537Z
UID:10001441-1767996000-1767996000@nightclub.to
SUMMARY:FOR REAL FRIDAYS - R4P&B
DESCRIPTION:
URL:https://nightclub.to/event/for-real-fridays-r4pb-4/
LOCATION:Celebrities Nightclub\, Vancouver
CATEGORIES:Hip-Hop/Rap
ATTACH;FMTTYPE=image/png:https://nightclub.to/wp-content/uploads/2025/12/for-real-fridays-r4pb-4.png
END:VEVENT
BEGIN:VEVENT
DTSTART;TZID=America/Toronto:20260102T220000
DTEND;TZID=America/Toronto:20260102T220000
DTSTAMP:20260425T070318
CREATED:20251227T110737Z
LAST-MODIFIED:20260103T095939Z
UID:10001438-1767391200-1767391200@nightclub.to
SUMMARY:FOR REAL FRIDAYS 2026: NEW YEAR\, NEW ME
DESCRIPTION:
URL:https://nightclub.to/event/for-real-fridays-2026-new-year-new-me/
LOCATION:Celebrities Nightclub\, Vancouver
CATEGORIES:Hip-Hop/Rap
ATTACH;FMTTYPE=image/png:https://nightclub.to/wp-content/uploads/2025/12/for-real-fridays-2026-new-year-new-me.png
END:VEVENT
BEGIN:VEVENT
DTSTART;TZID=America/Toronto:20251221T220000
DTEND;TZID=America/Toronto:20251221T220000
DTSTAMP:20260425T070318
CREATED:20251219T100311Z
LAST-MODIFIED:20251222T095538Z
UID:10001420-1766354400-1766354400@nightclub.to
SUMMARY:REAL LOVE HOLIDAYS
DESCRIPTION:
URL:https://nightclub.to/event/real-love-holidays-2/
LOCATION:Celebrities Nightclub\, Vancouver
CATEGORIES:Hip-Hop/Rap
ATTACH;FMTTYPE=image/png:https://nightclub.to/wp-content/uploads/2025/12/real-love-holidays-2.png
END:VEVENT
BEGIN:VEVENT
DTSTART;TZID=America/Toronto:20251218T223000
DTEND;TZID=America/Toronto:20251218T223000
DTSTAMP:20260425T070318
CREATED:20251214T080459Z
LAST-MODIFIED:20251217T012438Z
UID:10001409-1766097000-1766097000@nightclub.to
SUMMARY:Burna Boy Hosts the No Sign of Weakness Concert Afterparty
DESCRIPTION:
URL:https://nightclub.to/event/burna-boy-hosts-the-no-sign-of-weakness-concert-afterparty/
LOCATION:Rebel\, Toronto
CATEGORIES:Hip-Hop/Rap
ATTACH;FMTTYPE=image/jpeg:https://nightclub.to/wp-content/uploads/2025/12/burna-boy-hosts-the-no-sign-of-weakness-concert-afterparty-scaled.jpg
END:VEVENT
BEGIN:VEVENT
DTSTART;TZID=America/Toronto:20251217T190000
DTEND;TZID=America/Toronto:20251217T190000
DTSTAMP:20260425T070318
CREATED:20251214T070356Z
LAST-MODIFIED:20251218T055748Z
UID:10001407-1765998000-1765998000@nightclub.to
SUMMARY:Bankrol Hayden
DESCRIPTION:
URL:https://nightclub.to/event/bankrol-hayden/
LOCATION:The Mod Club (formerly known as The Axis Club)\, Toronto
CATEGORIES:Hip-Hop/Rap
ATTACH;FMTTYPE=image/jpeg:https://nightclub.to/wp-content/uploads/2025/12/bankrol-hayden-scaled.jpg
END:VEVENT
END:VCALENDAR