BEGIN:VCALENDAR
VERSION:2.0
PRODID:-//NightClub.TO - ECPv6.8.2.1//NONSGML v1.0//EN
CALSCALE:GREGORIAN
METHOD:PUBLISH
X-ORIGINAL-URL:https://nightclub.to
X-WR-CALDESC:Events for NightClub.TO
REFRESH-INTERVAL;VALUE=DURATION:PT1H
X-Robots-Tag:noindex
X-PUBLISHED-TTL:PT1H
BEGIN:VTIMEZONE
TZID:America/Toronto
BEGIN:DAYLIGHT
TZOFFSETFROM:-0500
TZOFFSETTO:-0400
TZNAME:EDT
DTSTART:20240310T070000
END:DAYLIGHT
BEGIN:STANDARD
TZOFFSETFROM:-0400
TZOFFSETTO:-0500
TZNAME:EST
DTSTART:20241103T060000
END:STANDARD
BEGIN:DAYLIGHT
TZOFFSETFROM:-0500
TZOFFSETTO:-0400
TZNAME:EDT
DTSTART:20250309T070000
END:DAYLIGHT
BEGIN:STANDARD
TZOFFSETFROM:-0400
TZOFFSETTO:-0500
TZNAME:EST
DTSTART:20251102T060000
END:STANDARD
BEGIN:DAYLIGHT
TZOFFSETFROM:-0500
TZOFFSETTO:-0400
TZNAME:EDT
DTSTART:20260308T070000
END:DAYLIGHT
BEGIN:STANDARD
TZOFFSETFROM:-0400
TZOFFSETTO:-0500
TZNAME:EST
DTSTART:20261101T060000
END:STANDARD
END:VTIMEZONE
BEGIN:VEVENT
DTSTART;TZID=America/Toronto:20260316T190000
DTEND;TZID=America/Toronto:20260316T190000
DTSTAMP:20260419T110002
CREATED:20260314T063549Z
LAST-MODIFIED:20260317T045641Z
UID:10001581-1773687600-1773687600@nightclub.to
SUMMARY:Evan Honer - It's A Long Road Tour
DESCRIPTION:
URL:https://nightclub.to/event/evan-honer-its-a-long-road-tour/
LOCATION:The Danforth Music Hall\, Toronto
CATEGORIES:Country
ATTACH;FMTTYPE=image/jpeg:https://nightclub.to/wp-content/uploads/2026/03/evan-honer-its-a-long-road-tour.jpg
END:VEVENT
BEGIN:VEVENT
DTSTART;TZID=America/Toronto:20260312T190000
DTEND;TZID=America/Toronto:20260312T190000
DTSTAMP:20260419T110002
CREATED:20260308T070358Z
LAST-MODIFIED:20260313T050021Z
UID:10001567-1773342000-1773342000@nightclub.to
SUMMARY:Maddox Batson: Live Worldwide Tour
DESCRIPTION:
URL:https://nightclub.to/event/maddox-batson-live-worldwide-tour/
LOCATION:The Danforth Music Hall\, Toronto
CATEGORIES:Country
ATTACH;FMTTYPE=image/jpeg:https://nightclub.to/wp-content/uploads/2026/03/maddox-batson-live-worldwide-tour.jpg
END:VEVENT
BEGIN:VEVENT
DTSTART;TZID=America/Toronto:20260307T190000
DTEND;TZID=America/Toronto:20260307T190000
DTSTAMP:20260419T110002
CREATED:20260303T232653Z
LAST-MODIFIED:20260308T060007Z
UID:10001556-1772910000-1772910000@nightclub.to
SUMMARY:High Valley - Paradise & Hurricanes Tour
DESCRIPTION:
URL:https://nightclub.to/event/high-valley-paradise-hurricanes-tour/
LOCATION:The Danforth Music Hall\, Toronto
CATEGORIES:Country
ATTACH;FMTTYPE=image/jpeg:https://nightclub.to/wp-content/uploads/2026/03/high-valley-paradise-hurricanes-tour.jpg
END:VEVENT
BEGIN:VEVENT
DTSTART;TZID=America/Toronto:20260225T190000
DTEND;TZID=America/Toronto:20260225T190000
DTSTAMP:20260419T110002
CREATED:20260221T090737Z
LAST-MODIFIED:20260226T045931Z
UID:10001536-1772046000-1772046000@nightclub.to
SUMMARY:Margo Price
DESCRIPTION:
URL:https://nightclub.to/event/margo-price-2/
LOCATION:The Phoenix Concert Theatre\, Toronto
CATEGORIES:Country
ATTACH;FMTTYPE=image/jpeg:https://nightclub.to/wp-content/uploads/2026/02/margo-price.jpg
END:VEVENT
BEGIN:VEVENT
DTSTART;TZID=America/Toronto:20251026T190000
DTEND;TZID=America/Toronto:20251026T190000
DTSTAMP:20260419T110002
CREATED:20251025T080439Z
LAST-MODIFIED:20251027T035713Z
UID:10001237-1761505200-1761505200@nightclub.to
SUMMARY:Jess Moskaluke - Life For Me Tour
DESCRIPTION:
URL:https://nightclub.to/event/jess-moskaluke-life-for-me-tour/
LOCATION:The Phoenix Concert Theatre\, Toronto
CATEGORIES:Country
ATTACH;FMTTYPE=image/jpeg:https://nightclub.to/wp-content/uploads/2025/10/jess-moskaluke-life-for-me-tour.jpg
END:VEVENT
BEGIN:VEVENT
DTSTART;TZID=America/Toronto:20251003T190000
DTEND;TZID=America/Toronto:20251003T190000
DTSTAMP:20260419T110002
CREATED:20250930T054353Z
LAST-MODIFIED:20251004T050208Z
UID:10001148-1759518000-1759518000@nightclub.to
SUMMARY:Max McNown - Forever Ain't Long Enough Tour
DESCRIPTION:
URL:https://nightclub.to/event/max-mcnown-forever-aint-long-enough-tour-2/
LOCATION:The Danforth Music Hall\, Toronto
CATEGORIES:Country
ATTACH;FMTTYPE=image/jpeg:https://nightclub.to/wp-content/uploads/2025/09/max-mcnown-forever-aint-long-enough-tour-scaled.jpg
END:VEVENT
BEGIN:VEVENT
DTSTART;TZID=America/Toronto:20251003T190000
DTEND;TZID=America/Toronto:20251003T190000
DTSTAMP:20260419T110002
CREATED:20250603T170805Z
LAST-MODIFIED:20251004T050209Z
UID:10000807-1759518000-1759518000@nightclub.to
SUMMARY:Brent Cobb: The Ain't Rocked in a While Tour
DESCRIPTION:
URL:https://nightclub.to/event/brent-cobb-the-aint-rocked-in-a-while-tour/
LOCATION:Velvet Underground\, Toronto
CATEGORIES:Country
ATTACH;FMTTYPE=image/jpeg:https://nightclub.to/wp-content/uploads/2025/06/brent-cobb-the-aint-rocked-in-a-while-tour.jpg
END:VEVENT
BEGIN:VEVENT
DTSTART;TZID=America/Toronto:20251002T190000
DTEND;TZID=America/Toronto:20251002T190000
DTSTAMP:20260419T110002
CREATED:20250929T050650Z
LAST-MODIFIED:20251003T044833Z
UID:10001146-1759431600-1759431600@nightclub.to
SUMMARY:Max McNown - Forever Ain't Long Enough Tour
DESCRIPTION:
URL:https://nightclub.to/event/max-mcnown-forever-aint-long-enough-tour/
LOCATION:The Danforth Music Hall\, Toronto
CATEGORIES:Country
ATTACH;FMTTYPE=image/jpeg:https://nightclub.to/wp-content/uploads/2025/09/max-mcnown-forever-aint-long-enough-tour-scaled.jpg
END:VEVENT
BEGIN:VEVENT
DTSTART;TZID=America/Toronto:20250913T190000
DTEND;TZID=America/Toronto:20250913T190000
DTSTAMP:20260419T110002
CREATED:20250912T000208Z
LAST-MODIFIED:20250914T045650Z
UID:10001072-1757790000-1757790000@nightclub.to
SUMMARY:Sam Barber: North America Tour
DESCRIPTION:
URL:https://nightclub.to/event/sam-barber-north-america-tour/
LOCATION:The Danforth Music Hall\, Toronto
CATEGORIES:Country
ATTACH;FMTTYPE=image/jpeg:https://nightclub.to/wp-content/uploads/2025/09/sam-barber-north-america-tour.jpg
END:VEVENT
BEGIN:VEVENT
DTSTART;TZID=America/Toronto:20250910T190000
DTEND;TZID=America/Toronto:20250910T190000
DTSTAMP:20260419T110002
CREATED:20250907T060529Z
LAST-MODIFIED:20250911T045659Z
UID:10001057-1757530800-1757530800@nightclub.to
SUMMARY:The Devil Makes Three
DESCRIPTION:
URL:https://nightclub.to/event/the-devil-makes-three/
LOCATION:The Mod Club (formerly known as The Axis Club)\, Toronto
CATEGORIES:Country
ATTACH;FMTTYPE=image/jpeg:https://nightclub.to/wp-content/uploads/2025/09/the-devil-makes-three.jpg
END:VEVENT
BEGIN:VEVENT
DTSTART;TZID=America/Toronto:20250820T190000
DTEND;TZID=America/Toronto:20250820T190000
DTSTAMP:20260419T110002
CREATED:20250816T061126Z
LAST-MODIFIED:20250821T045918Z
UID:10001000-1755716400-1755716400@nightclub.to
SUMMARY:Greensky Bluegrass
DESCRIPTION:
URL:https://nightclub.to/event/greensky-bluegrass/
LOCATION:The Mod Club (formerly known as The Axis Club)\, Toronto
CATEGORIES:Country
ATTACH;FMTTYPE=image/jpeg:https://nightclub.to/wp-content/uploads/2025/08/greensky-bluegrass.jpg
END:VEVENT
BEGIN:VEVENT
DTSTART;TZID=America/Toronto:20250814T190000
DTEND;TZID=America/Toronto:20250814T190000
DTSTAMP:20260419T110002
CREATED:20250810T040756Z
LAST-MODIFIED:20250815T050019Z
UID:10000988-1755198000-1755198000@nightclub.to
SUMMARY:Pecos & The Rooftops
DESCRIPTION:
URL:https://nightclub.to/event/pecos-the-rooftops/
LOCATION:The Mod Club (formerly known as The Axis Club)\, Toronto
CATEGORIES:Country
ATTACH;FMTTYPE=image/jpeg:https://nightclub.to/wp-content/uploads/2025/08/pecos-the-rooftops.jpg
END:VEVENT
BEGIN:VEVENT
DTSTART;TZID=America/Toronto:20250402T190000
DTEND;TZID=America/Toronto:20250402T190000
DTSTAMP:20260419T110002
CREATED:20250330T051255Z
LAST-MODIFIED:20250403T045404Z
UID:10000614-1743620400-1743620400@nightclub.to
SUMMARY:Alexandra Kay: Cupid's A Cowgirl Tour
DESCRIPTION:
URL:https://nightclub.to/event/alexandra-kay-cupids-a-cowgirl-tour/
LOCATION:The Danforth Music Hall\, Toronto
CATEGORIES:Country
ATTACH;FMTTYPE=image/jpeg:https://nightclub.to/wp-content/uploads/2025/03/alexandra-kay-cupids-a-cowgirl-tour.jpg
END:VEVENT
BEGIN:VEVENT
DTSTART;TZID=America/Toronto:20250314T180000
DTEND;TZID=America/Toronto:20250314T180000
DTSTAMP:20260419T110002
CREATED:20250310T041102Z
LAST-MODIFIED:20250315T040143Z
UID:10000560-1741975200-1741975200@nightclub.to
SUMMARY:Waylon Wyatt
DESCRIPTION:
URL:https://nightclub.to/event/waylon-wyatt/
LOCATION:The Axis Club (formerly known as The Mod Club)\, Toronto
CATEGORIES:Country
ATTACH;FMTTYPE=image/jpeg:https://nightclub.to/wp-content/uploads/2025/03/waylon-wyatt.jpg
END:VEVENT
BEGIN:VEVENT
DTSTART;TZID=America/Toronto:20250203T190000
DTEND;TZID=America/Toronto:20250203T190000
DTSTAMP:20260419T110002
CREATED:20250201T101056Z
LAST-MODIFIED:20250204T060312Z
UID:10000461-1738609200-1738609200@nightclub.to
SUMMARY:Chayce Beckham - Bad For Me Tour Canada 2025
DESCRIPTION:
URL:https://nightclub.to/event/chayce-beckham-bad-for-me-tour-canada-2025/
LOCATION:The Danforth Music Hall\, Toronto
CATEGORIES:Country
ATTACH;FMTTYPE=image/jpeg:https://nightclub.to/wp-content/uploads/2025/02/chayce-beckham-bad-for-me-tour-canada-2025.jpg
END:VEVENT
BEGIN:VEVENT
DTSTART;TZID=America/Toronto:20241201T183000
DTEND;TZID=America/Toronto:20241201T183000
DTSTAMP:20260419T110002
CREATED:20241128T103915Z
LAST-MODIFIED:20241202T045347Z
UID:10000335-1733077800-1733077800@nightclub.to
SUMMARY:Owen Riegling - The Old Dirt Road Trip
DESCRIPTION:
URL:https://nightclub.to/event/owen-riegling-the-old-dirt-road-trip/
LOCATION:The Danforth Music Hall\, Toronto
CATEGORIES:Country
ATTACH;FMTTYPE=image/jpeg:https://nightclub.to/wp-content/uploads/2024/11/owen-riegling-the-old-dirt-road-trip.jpg
END:VEVENT
BEGIN:VEVENT
DTSTART;TZID=America/Toronto:20241118T190000
DTEND;TZID=America/Toronto:20241118T201500
DTSTAMP:20260419T110002
CREATED:20241118T165005Z
LAST-MODIFIED:20241119T092323Z
UID:10000312-1731956400-1731960900@nightclub.to
SUMMARY:Wyatt Flores
DESCRIPTION:
URL:https://nightclub.to/event/wyatt-flores-2/
LOCATION:The Danforth Music Hall\, Toronto
CATEGORIES:Country
ATTACH;FMTTYPE=image/jpeg:https://nightclub.to/wp-content/uploads/2024/11/wyatt-flores.jpg
END:VEVENT
BEGIN:VEVENT
DTSTART;TZID=America/Toronto:20241117T190000
DTEND;TZID=America/Toronto:20241117T190000
DTSTAMP:20260419T110002
CREATED:20241114T074650Z
LAST-MODIFIED:20241118T050108Z
UID:10000299-1731870000-1731870000@nightclub.to
SUMMARY:Wyatt Flores
DESCRIPTION:
URL:https://nightclub.to/event/wyatt-flores/
LOCATION:The Danforth Music Hall\, Toronto
CATEGORIES:Country
ATTACH;FMTTYPE=image/jpeg:https://nightclub.to/wp-content/uploads/2024/11/wyatt-flores.jpg
END:VEVENT
BEGIN:VEVENT
DTSTART;TZID=America/Toronto:20241102T190000
DTEND;TZID=America/Toronto:20241102T190000
DTSTAMP:20260419T110002
CREATED:20241101T083417Z
LAST-MODIFIED:20241103T034254Z
UID:10000254-1730574000-1730574000@nightclub.to
SUMMARY:CMT On Tour Presents: Mickey Guyton
DESCRIPTION:
URL:https://nightclub.to/event/cmt-on-tour-presents-mickey-guyton/
LOCATION:Velvet Underground\, Toronto
CATEGORIES:Country
ATTACH;FMTTYPE=image/jpeg:https://nightclub.to/wp-content/uploads/2024/11/cmt-on-tour-presents-mickey-guyton.jpg
END:VEVENT
BEGIN:VEVENT
DTSTART;TZID=America/Toronto:20241027T190000
DTEND;TZID=America/Toronto:20241027T190000
DTSTAMP:20260419T110002
CREATED:20241025T124705Z
LAST-MODIFIED:20241028T012941Z
UID:10000230-1730055600-1730055600@nightclub.to
SUMMARY:Zach Seabaugh
DESCRIPTION:
URL:https://nightclub.to/event/zach-seabaugh/
LOCATION:Velvet Underground\, Toronto
CATEGORIES:Country
ATTACH;FMTTYPE=image/jpeg:https://nightclub.to/wp-content/uploads/2024/10/zach-seabaugh.jpg
END:VEVENT
BEGIN:VEVENT
DTSTART;TZID=America/Toronto:20241026T190000
DTEND;TZID=America/Toronto:20241026T190000
DTSTAMP:20260419T110002
CREATED:20241025T105418Z
LAST-MODIFIED:20241026T230544Z
UID:10000232-1729969200-1729969200@nightclub.to
SUMMARY:Tenille Townes
DESCRIPTION:
URL:https://nightclub.to/event/tenille-townes/
LOCATION:The Danforth Music Hall\, Toronto
CATEGORIES:Country
ATTACH;FMTTYPE=image/jpeg:https://nightclub.to/wp-content/uploads/2024/10/tenille-townes.jpg
END:VEVENT
BEGIN:VEVENT
DTSTART;TZID=America/Toronto:20241010T190000
DTEND;TZID=America/Toronto:20241010T190000
DTSTAMP:20260419T110002
CREATED:20241008T055729Z
LAST-MODIFIED:20241011T033550Z
UID:10000176-1728586800-1728586800@nightclub.to
SUMMARY:Govan Brown presents Cureapalooza Volume VI
DESCRIPTION:
URL:https://nightclub.to/event/govan-brown-presents-cureapalooza-volume-vi/
LOCATION:The Phoenix Concert Theatre\, Toronto
CATEGORIES:Country
ATTACH;FMTTYPE=image/jpeg:https://nightclub.to/wp-content/uploads/2024/10/govan-brown-presents-cureapalooza-volume-vi.jpg
END:VEVENT
BEGIN:VEVENT
DTSTART;TZID=America/Toronto:20240923T190000
DTEND;TZID=America/Toronto:20240923T190000
DTSTAMP:20260419T110002
CREATED:20240921T120853Z
LAST-MODIFIED:20240924T051839Z
UID:10000127-1727118000-1727118000@nightclub.to
SUMMARY:Kameron Marlowe
DESCRIPTION:
URL:https://nightclub.to/event/kameron-marlowe-2/
LOCATION:The Phoenix Concert Theatre\, Toronto
CATEGORIES:Country
ATTACH;FMTTYPE=image/jpeg:https://nightclub.to/wp-content/uploads/2024/09/kameron-marlowe-2.jpg
END:VEVENT
BEGIN:VEVENT
DTSTART;TZID=America/Toronto:20240923T190000
DTEND;TZID=America/Toronto:20240923T190000
DTSTAMP:20260419T110002
CREATED:20240920T101839Z
LAST-MODIFIED:20240924T051839Z
UID:10000125-1727118000-1727118000@nightclub.to
SUMMARY:Kameron Marlowe
DESCRIPTION:
URL:https://nightclub.to/event/kameron-marlowe/
LOCATION:The Phoenix Concert Theatre\, Toronto
CATEGORIES:Country
ATTACH;FMTTYPE=image/jpeg:https://nightclub.to/wp-content/uploads/2024/09/kameron-marlowe.jpg
END:VEVENT
BEGIN:VEVENT
DTSTART;TZID=America/Toronto:20240913T200000
DTEND;TZID=America/Toronto:20240913T200000
DTSTAMP:20260419T110002
CREATED:20240908T150111Z
LAST-MODIFIED:20240914T002414Z
UID:10000101-1726257600-1726257600@nightclub.to
SUMMARY:Shaboozey - Where I've Been\, Isn't Where I'm Going Tour
DESCRIPTION:
URL:https://nightclub.to/event/shaboozey-where-ive-been-isnt-where-im-going-tour/
LOCATION:The Danforth Music Hall\, Toronto
CATEGORIES:Country
ATTACH;FMTTYPE=image/jpeg:https://nightclub.to/wp-content/uploads/2024/09/shaboozey-where-ive-been-isnt-where-im-going-tour.jpg
END:VEVENT
BEGIN:VEVENT
DTSTART;TZID=America/Toronto:20240303T190000
DTEND;TZID=America/Toronto:20240303T190000
DTSTAMP:20260419T110002
CREATED:20240226T183038Z
LAST-MODIFIED:20240304T060904Z
UID:10000012-1709492400-1709492400@nightclub.to
SUMMARY:Sam Barber Â   Till I Return Tour
DESCRIPTION:
URL:https://nightclub.to/event/sam-barber-a-till-i-return-tour/
LOCATION:The Phoenix Concert Theatre\, Toronto
CATEGORIES:Country
END:VEVENT
END:VCALENDAR