BEGIN:VCALENDAR
VERSION:2.0
PRODID:-//NightClub.TO - ECPv6.8.2.1//NONSGML v1.0//EN
CALSCALE:GREGORIAN
METHOD:PUBLISH
X-WR-CALNAME:NightClub.TO
X-ORIGINAL-URL:https://nightclub.to
X-WR-CALDESC:Events for NightClub.TO
REFRESH-INTERVAL;VALUE=DURATION:PT1H
X-Robots-Tag:noindex
X-PUBLISHED-TTL:PT1H
BEGIN:VTIMEZONE
TZID:America/Toronto
BEGIN:DAYLIGHT
TZOFFSETFROM:-0500
TZOFFSETTO:-0400
TZNAME:EDT
DTSTART:20240310T070000
END:DAYLIGHT
BEGIN:STANDARD
TZOFFSETFROM:-0400
TZOFFSETTO:-0500
TZNAME:EST
DTSTART:20241103T060000
END:STANDARD
BEGIN:DAYLIGHT
TZOFFSETFROM:-0500
TZOFFSETTO:-0400
TZNAME:EDT
DTSTART:20250309T070000
END:DAYLIGHT
BEGIN:STANDARD
TZOFFSETFROM:-0400
TZOFFSETTO:-0500
TZNAME:EST
DTSTART:20251102T060000
END:STANDARD
END:VTIMEZONE
BEGIN:VEVENT
DTSTART;TZID=America/Toronto:20251219T174500
DTEND;TZID=America/Toronto:20251219T180000
DTSTAMP:20260419T121319
CREATED:20251214T110900Z
LAST-MODIFIED:20251220T045748Z
UID:10001411-1766166300-1766167200@nightclub.to
SUMMARY:Steph Tolev: Keepin 'Em Hard
DESCRIPTION:
URL:https://nightclub.to/event/steph-tolev-keepin-em-hard/
LOCATION:The Danforth Music Hall\, Toronto
CATEGORIES:Comedy
ATTACH;FMTTYPE=image/jpeg:https://nightclub.to/wp-content/uploads/2025/12/steph-tolev-keepin-em-hard.jpg
END:VEVENT
BEGIN:VEVENT
DTSTART;TZID=America/Toronto:20251217T190000
DTEND;TZID=America/Toronto:20251217T190000
DTSTAMP:20260419T121319
CREATED:20251214T050200Z
LAST-MODIFIED:20251218T055749Z
UID:10001406-1765998000-1765998000@nightclub.to
SUMMARY:Matt Rogers: Christmas in December
DESCRIPTION:
URL:https://nightclub.to/event/matt-rogers-christmas-in-december/
LOCATION:The Danforth Music Hall\, Toronto
CATEGORIES:Comedy
ATTACH;FMTTYPE=image/jpeg:https://nightclub.to/wp-content/uploads/2025/12/matt-rogers-christmas-in-december.jpg
END:VEVENT
BEGIN:VEVENT
DTSTART;TZID=America/Toronto:20251214T203000
DTEND;TZID=America/Toronto:20251214T203000
DTSTAMP:20260419T121319
CREATED:20251213T000643Z
LAST-MODIFIED:20251215T072842Z
UID:10001401-1765744200-1765744200@nightclub.to
SUMMARY:Kurtis Conner: The Goodfellow World Tour
DESCRIPTION:
URL:https://nightclub.to/event/kurtis-conner-the-goodfellow-world-tour-3/
LOCATION:The Danforth Music Hall\, Toronto
CATEGORIES:Comedy
ATTACH;FMTTYPE=image/jpeg:https://nightclub.to/wp-content/uploads/2025/12/kurtis-conner-the-goodfellow-world-tour.jpg
END:VEVENT
BEGIN:VEVENT
DTSTART;TZID=America/Toronto:20251214T173000
DTEND;TZID=America/Toronto:20251214T173000
DTSTAMP:20260419T121319
CREATED:20251213T000644Z
LAST-MODIFIED:20251215T045352Z
UID:10001402-1765733400-1765733400@nightclub.to
SUMMARY:Kurtis Conner: The Goodfellow World Tour
DESCRIPTION:
URL:https://nightclub.to/event/kurtis-conner-the-goodfellow-world-tour-4/
LOCATION:The Danforth Music Hall\, Toronto
CATEGORIES:Comedy
ATTACH;FMTTYPE=image/jpeg:https://nightclub.to/wp-content/uploads/2025/12/kurtis-conner-the-goodfellow-world-tour.jpg
END:VEVENT
BEGIN:VEVENT
DTSTART;TZID=America/Toronto:20251213T203000
DTEND;TZID=America/Toronto:20251213T203000
DTSTAMP:20260419T121319
CREATED:20251208T060238Z
LAST-MODIFIED:20251214T073136Z
UID:10001396-1765657800-1765657800@nightclub.to
SUMMARY:Kurtis Conner: The Goodfellow World Tour
DESCRIPTION:
URL:https://nightclub.to/event/kurtis-conner-the-goodfellow-world-tour/
LOCATION:The Danforth Music Hall\, Toronto
CATEGORIES:Comedy
ATTACH;FMTTYPE=image/jpeg:https://nightclub.to/wp-content/uploads/2025/12/kurtis-conner-the-goodfellow-world-tour.jpg
END:VEVENT
BEGIN:VEVENT
DTSTART;TZID=America/Toronto:20251213T173000
DTEND;TZID=America/Toronto:20251213T173000
DTSTAMP:20260419T121319
CREATED:20251210T050446Z
LAST-MODIFIED:20251214T045804Z
UID:10001397-1765647000-1765647000@nightclub.to
SUMMARY:Kurtis Conner: The Goodfellow World Tour
DESCRIPTION:
URL:https://nightclub.to/event/kurtis-conner-the-goodfellow-world-tour-2/
LOCATION:The Danforth Music Hall\, Toronto
CATEGORIES:Comedy
ATTACH;FMTTYPE=image/jpeg:https://nightclub.to/wp-content/uploads/2025/12/kurtis-conner-the-goodfellow-world-tour.jpg
END:VEVENT
BEGIN:VEVENT
DTSTART;TZID=America/Toronto:20251204T183000
DTEND;TZID=America/Toronto:20251204T183000
DTSTAMP:20260419T121319
CREATED:20251129T073242Z
LAST-MODIFIED:20251205T060045Z
UID:10001369-1764873000-1764873000@nightclub.to
SUMMARY:Mike Rita
DESCRIPTION:
URL:https://nightclub.to/event/mike-rita/
LOCATION:The Danforth Music Hall\, Toronto
CATEGORIES:Comedy
ATTACH;FMTTYPE=image/jpeg:https://nightclub.to/wp-content/uploads/2025/11/mike-rita.jpg
END:VEVENT
BEGIN:VEVENT
DTSTART;TZID=America/Toronto:20251109T180000
DTEND;TZID=America/Toronto:20251109T180000
DTSTAMP:20260419T121319
CREATED:20251108T000442Z
LAST-MODIFIED:20251110T055914Z
UID:10001288-1762711200-1762711200@nightclub.to
SUMMARY:Emilio Lovera: Ahora El Malandro Si Está Asustado
DESCRIPTION:
URL:https://nightclub.to/event/emilio-lovera-ahora-el-malandro-si-esta-asustado/
LOCATION:The Danforth Music Hall\, Toronto
CATEGORIES:Comedy
ATTACH;FMTTYPE=image/jpeg:https://nightclub.to/wp-content/uploads/2025/11/emilio-lovera-ahora-el-malandro-si-esta-asustado.jpg
END:VEVENT
BEGIN:VEVENT
DTSTART;TZID=America/Toronto:20251030T183000
DTEND;TZID=America/Toronto:20251030T183000
DTSTAMP:20260419T121319
CREATED:20251027T043328Z
LAST-MODIFIED:20251031T042528Z
UID:10001246-1761849000-1761849000@nightclub.to
SUMMARY:Welcome To Night Vale: Murder Night In Blood Forest
DESCRIPTION:
URL:https://nightclub.to/event/welcome-to-night-vale-murder-night-in-blood-forest/
LOCATION:The Danforth Music Hall\, Toronto
CATEGORIES:Comedy
ATTACH;FMTTYPE=image/jpeg:https://nightclub.to/wp-content/uploads/2025/10/welcome-to-night-vale-murder-night-in-blood-forest.jpg
END:VEVENT
BEGIN:VEVENT
DTSTART;TZID=America/Toronto:20251016T193000
DTEND;TZID=America/Toronto:20251016T193000
DTSTAMP:20260419T121319
CREATED:20251013T050620Z
LAST-MODIFIED:20251017T053158Z
UID:10001197-1760643000-1760643000@nightclub.to
SUMMARY:Accent On Toronto
DESCRIPTION:
URL:https://nightclub.to/event/accent-on-toronto/
LOCATION:The Danforth Music Hall\, Toronto
CATEGORIES:Comedy
ATTACH;FMTTYPE=image/jpeg:https://nightclub.to/wp-content/uploads/2024/10/accent-on-toronto-22.jpg
END:VEVENT
BEGIN:VEVENT
DTSTART;TZID=America/Toronto:20250809T204500
DTEND;TZID=America/Toronto:20250809T204500
DTSTAMP:20260419T121319
CREATED:20250805T050409Z
LAST-MODIFIED:20250810T064532Z
UID:10000979-1754772300-1754772300@nightclub.to
SUMMARY:Neema Naz: My Estupid Life Tour
DESCRIPTION:
URL:https://nightclub.to/event/neema-naz-my-estupid-life-tour-2/
LOCATION:The Danforth Music Hall\, Toronto
CATEGORIES:Comedy
ATTACH;FMTTYPE=image/jpeg:https://nightclub.to/wp-content/uploads/2025/08/neema-naz-my-estupid-life-tour-scaled.jpg
END:VEVENT
BEGIN:VEVENT
DTSTART;TZID=America/Toronto:20250809T174500
DTEND;TZID=America/Toronto:20250809T174500
DTSTAMP:20260419T121319
CREATED:20250804T071117Z
LAST-MODIFIED:20250810T040130Z
UID:10000978-1754761500-1754761500@nightclub.to
SUMMARY:Neema Naz: My Estupid Life Tour
DESCRIPTION:
URL:https://nightclub.to/event/neema-naz-my-estupid-life-tour/
LOCATION:The Danforth Music Hall\, Toronto
CATEGORIES:Comedy
ATTACH;FMTTYPE=image/jpeg:https://nightclub.to/wp-content/uploads/2025/08/neema-naz-my-estupid-life-tour-scaled.jpg
END:VEVENT
BEGIN:VEVENT
DTSTART;TZID=America/Toronto:20250712T190000
DTEND;TZID=America/Toronto:20250712T190000
DTSTAMP:20260419T121319
CREATED:20250409T130658Z
LAST-MODIFIED:20250713T050033Z
UID:10000651-1752346800-1752346800@nightclub.to
SUMMARY:Jim Norton: Now You Know
DESCRIPTION:
URL:https://nightclub.to/event/jim-norton-now-you-know/
LOCATION:The Danforth Music Hall\, Toronto
CATEGORIES:Comedy
ATTACH;FMTTYPE=image/jpeg:https://nightclub.to/wp-content/uploads/2025/04/jim-norton-now-you-know.jpg
END:VEVENT
BEGIN:VEVENT
DTSTART;TZID=America/Toronto:20250607T190000
DTEND;TZID=America/Toronto:20250607T190000
DTSTAMP:20260419T121319
CREATED:20250605T043820Z
LAST-MODIFIED:20250608T062955Z
UID:10000804-1749322800-1749322800@nightclub.to
SUMMARY:Jessi Cruickshank - Now That's What I Call Live Tour
DESCRIPTION:
URL:https://nightclub.to/event/jessi-cruickshank-now-thats-what-i-call-live-tour-2/
LOCATION:The Danforth Music Hall\, Toronto
CATEGORIES:Comedy
ATTACH;FMTTYPE=image/jpeg:https://nightclub.to/wp-content/uploads/2024/10/jessi-cruickshank-now-thats-what-i-call-live-tour.jpg
END:VEVENT
BEGIN:VEVENT
DTSTART;TZID=America/Toronto:20250530T190000
DTEND;TZID=America/Toronto:20250530T190000
DTSTAMP:20260419T121319
CREATED:20250525T090527Z
LAST-MODIFIED:20250531T050148Z
UID:10000783-1748631600-1748631600@nightclub.to
SUMMARY:Aries Spears
DESCRIPTION:
URL:https://nightclub.to/event/aries-spears/
LOCATION:The Danforth Music Hall\, Toronto
CATEGORIES:Comedy
ATTACH;FMTTYPE=image/png:https://nightclub.to/wp-content/uploads/2025/05/aries-spears.png
END:VEVENT
BEGIN:VEVENT
DTSTART;TZID=America/Toronto:20250502T210000
DTEND;TZID=America/Toronto:20250502T210000
DTSTAMP:20260419T121319
CREATED:20250501T010514Z
LAST-MODIFIED:20250503T070058Z
UID:10000691-1746219600-1746219600@nightclub.to
SUMMARY:Ben Bankas
DESCRIPTION:
URL:https://nightclub.to/event/ben-bankas/
LOCATION:The Danforth Music Hall\, Toronto
CATEGORIES:Comedy
ATTACH;FMTTYPE=image/jpeg:https://nightclub.to/wp-content/uploads/2025/04/ben-bankas.jpg
END:VEVENT
BEGIN:VEVENT
DTSTART;TZID=America/Toronto:20250502T180000
DTEND;TZID=America/Toronto:20250502T180000
DTSTAMP:20260419T121319
CREATED:20250501T010520Z
LAST-MODIFIED:20250503T050651Z
UID:10000688-1746208800-1746208800@nightclub.to
SUMMARY:Ben Bankas
DESCRIPTION:
URL:https://nightclub.to/event/ben-bankas-2/
LOCATION:The Danforth Music Hall\, Toronto
CATEGORIES:Comedy
ATTACH;FMTTYPE=image/jpeg:https://nightclub.to/wp-content/uploads/2025/04/ben-bankas.jpg
END:VEVENT
BEGIN:VEVENT
DTSTART;TZID=America/Toronto:20250318T180000
DTEND;TZID=America/Toronto:20250318T180000
DTSTAMP:20260419T121319
CREATED:20250315T060315Z
LAST-MODIFIED:20250319T035635Z
UID:10000571-1742320800-1742320800@nightclub.to
SUMMARY:CBC's The Debaters
DESCRIPTION:
URL:https://nightclub.to/event/cbcs-the-debaters/
LOCATION:The Danforth Music Hall\, Toronto
CATEGORIES:Comedy
ATTACH;FMTTYPE=image/jpeg:https://nightclub.to/wp-content/uploads/2025/03/cbcs-the-debaters.jpg
END:VEVENT
BEGIN:VEVENT
DTSTART;TZID=America/Toronto:20250316T190000
DTEND;TZID=America/Toronto:20250316T190000
DTSTAMP:20260419T121319
CREATED:20250315T002132Z
LAST-MODIFIED:20250317T045928Z
UID:10000568-1742151600-1742151600@nightclub.to
SUMMARY:Watch What Crappens LIVE: The Mounting Hysteria Tour
DESCRIPTION:
URL:https://nightclub.to/event/watch-what-crappens-live-the-mounting-hysteria-tour/
LOCATION:The Danforth Music Hall\, Toronto
CATEGORIES:Comedy
ATTACH;FMTTYPE=image/jpeg:https://nightclub.to/wp-content/uploads/2025/03/watch-what-crappens-live-the-mounting-hysteria-tour.jpg
END:VEVENT
BEGIN:VEVENT
DTSTART;TZID=America/Toronto:20250307T183000
DTEND;TZID=America/Toronto:20250307T183000
DTSTAMP:20260419T121319
CREATED:20250302T074253Z
LAST-MODIFIED:20250308T053121Z
UID:10000540-1741372200-1741372200@nightclub.to
SUMMARY:So True Live Tour With Caleb Hearon
DESCRIPTION:
URL:https://nightclub.to/event/so-true-live-tour-with-caleb-hearon/
LOCATION:The Danforth Music Hall\, Toronto
CATEGORIES:Comedy
ATTACH;FMTTYPE=image/jpeg:https://nightclub.to/wp-content/uploads/2025/03/so-true-live-tour-with-caleb-hearon.jpg
END:VEVENT
BEGIN:VEVENT
DTSTART;TZID=America/Toronto:20250301T190000
DTEND;TZID=America/Toronto:20250301T190000
DTSTAMP:20260419T121319
CREATED:20250224T062344Z
LAST-MODIFIED:20250302T060145Z
UID:10000525-1740855600-1740855600@nightclub.to
SUMMARY:Mae Martin: I'm a TV
DESCRIPTION:
URL:https://nightclub.to/event/mae-martin-im-a-tv/
LOCATION:The Danforth Music Hall\, Toronto
CATEGORIES:Comedy
ATTACH;FMTTYPE=image/png:https://nightclub.to/wp-content/uploads/2025/02/mae-martin-im-a-tv.png
END:VEVENT
BEGIN:VEVENT
DTSTART;TZID=America/Toronto:20250204T190000
DTEND;TZID=America/Toronto:20250204T190000
DTSTAMP:20260419T121319
CREATED:20250201T110924Z
LAST-MODIFIED:20250205T060316Z
UID:10000462-1738695600-1738695600@nightclub.to
SUMMARY:Tim Heidecker: Slipping Away Tour
DESCRIPTION:
URL:https://nightclub.to/event/tim-heidecker-slipping-away-tour/
LOCATION:The Danforth Music Hall\, Toronto
CATEGORIES:Comedy
ATTACH;FMTTYPE=image/jpeg:https://nightclub.to/wp-content/uploads/2025/02/tim-heidecker-slipping-away-tour.jpg
END:VEVENT
BEGIN:VEVENT
DTSTART;TZID=America/Toronto:20250130T190000
DTEND;TZID=America/Toronto:20250130T190000
DTSTAMP:20260419T121319
CREATED:20250126T085013Z
LAST-MODIFIED:20250131T061723Z
UID:10000446-1738263600-1738263600@nightclub.to
SUMMARY:UpDating
DESCRIPTION:
URL:https://nightclub.to/event/updating/
LOCATION:The Danforth Music Hall\, Toronto
CATEGORIES:Comedy
ATTACH;FMTTYPE=image/png:https://nightclub.to/wp-content/uploads/2025/01/updating.png
END:VEVENT
BEGIN:VEVENT
DTSTART;TZID=America/Toronto:20250122T183000
DTEND;TZID=America/Toronto:20250122T183000
DTSTAMP:20260419T121319
CREATED:20250118T080155Z
LAST-MODIFIED:20250123T050705Z
UID:10000423-1737570600-1737570600@nightclub.to
SUMMARY:Romesh Ranganathan: Hustle
DESCRIPTION:
URL:https://nightclub.to/event/romesh-ranganathan-hustle/
LOCATION:The Danforth Music Hall\, Toronto
CATEGORIES:Comedy
ATTACH;FMTTYPE=image/jpeg:https://nightclub.to/wp-content/uploads/2025/01/romesh-ranganathan-hustle.jpg
END:VEVENT
BEGIN:VEVENT
DTSTART;TZID=America/Toronto:20250118T180000
DTEND;TZID=America/Toronto:20250118T180000
DTSTAMP:20260419T121319
CREATED:20250112T110733Z
LAST-MODIFIED:20250119T043840Z
UID:10000417-1737223200-1737223200@nightclub.to
SUMMARY:Felipe Esparza: At My Leisure World Tour
DESCRIPTION:
URL:https://nightclub.to/event/felipe-esparza-at-my-leisure-world-tour/
LOCATION:The Danforth Music Hall\, Toronto
CATEGORIES:Comedy
ATTACH;FMTTYPE=image/jpeg:https://nightclub.to/wp-content/uploads/2025/01/felipe-esparza-at-my-leisure-world-tour.jpg
END:VEVENT
BEGIN:VEVENT
DTSTART;TZID=America/Toronto:20250112T183000
DTEND;TZID=America/Toronto:20250112T183000
DTSTAMP:20260419T121319
CREATED:20250105T072606Z
LAST-MODIFIED:20250113T053733Z
UID:10000409-1736706600-1736706600@nightclub.to
SUMMARY:Zachariah Porter:The Strip Mall Tease Tour
DESCRIPTION:
URL:https://nightclub.to/event/zachariah-porterthe-strip-mall-tease-tour/
LOCATION:The Danforth Music Hall\, Toronto
CATEGORIES:Comedy
ATTACH;FMTTYPE=image/jpeg:https://nightclub.to/wp-content/uploads/2025/01/zachariah-porterthe-strip-mall-tease-tour.jpg
END:VEVENT
BEGIN:VEVENT
DTSTART;TZID=America/Toronto:20241222T183000
DTEND;TZID=America/Toronto:20241222T183000
DTSTAMP:20260419T121319
CREATED:20241218T082110Z
LAST-MODIFIED:20241223T050446Z
UID:10000379-1734892200-1734892200@nightclub.to
SUMMARY:Matt Rogers: The Prince of Christmas Tour
DESCRIPTION:
URL:https://nightclub.to/event/matt-rogers-the-prince-of-christmas-tour/
LOCATION:The Danforth Music Hall\, Toronto
CATEGORIES:Comedy
ATTACH;FMTTYPE=image/jpeg:https://nightclub.to/wp-content/uploads/2024/12/matt-rogers-the-prince-of-christmas-tour.jpg
END:VEVENT
BEGIN:VEVENT
DTSTART;TZID=America/Toronto:20241202T190000
DTEND;TZID=America/Toronto:20241202T190000
DTSTAMP:20260419T121319
CREATED:20241129T101412Z
LAST-MODIFIED:20241203T051210Z
UID:10000339-1733166000-1733166000@nightclub.to
SUMMARY:Randy Feltface
DESCRIPTION:
URL:https://nightclub.to/event/randy-feltface/
LOCATION:The Danforth Music Hall\, Toronto
CATEGORIES:Comedy
ATTACH;FMTTYPE=image/jpeg:https://nightclub.to/wp-content/uploads/2024/11/randy-feltface.jpg
END:VEVENT
BEGIN:VEVENT
DTSTART;TZID=America/Toronto:20241125T180000
DTEND;TZID=America/Toronto:20241125T180000
DTSTAMP:20260419T121319
CREATED:20241122T070558Z
LAST-MODIFIED:20241126T050156Z
UID:10000320-1732557600-1732557600@nightclub.to
SUMMARY:Kids In the Hall
DESCRIPTION:
URL:https://nightclub.to/event/kids-in-the-hall/
LOCATION:The Danforth Music Hall\, Toronto
CATEGORIES:Comedy
END:VEVENT
BEGIN:VEVENT
DTSTART;TZID=America/Toronto:20241025T190000
DTEND;TZID=America/Toronto:20241025T190000
DTSTAMP:20260419T121319
CREATED:20241023T092251Z
LAST-MODIFIED:20241026T064235Z
UID:10000225-1729882800-1729882800@nightclub.to
SUMMARY:David Cross - The End of The Beginning of The End
DESCRIPTION:
URL:https://nightclub.to/event/david-cross-the-end-of-the-beginning-of-the-end/
LOCATION:The Danforth Music Hall\, Toronto
CATEGORIES:Comedy
ATTACH;FMTTYPE=image/jpeg:https://nightclub.to/wp-content/uploads/2024/10/david-cross-the-end-of-the-beginning-of-the-end.jpg
END:VEVENT
END:VCALENDAR